BEGIN:VCALENDAR
VERSION:2.0
PRODID:-//Emmanuel United Church, Brampton - ECPv6.15.20//NONSGML v1.0//EN
CALSCALE:GREGORIAN
METHOD:PUBLISH
X-WR-CALNAME:Emmanuel United Church, Brampton
X-ORIGINAL-URL:https://emmanuelunited.com
X-WR-CALDESC:Events for Emmanuel United Church, Brampton
REFRESH-INTERVAL;VALUE=DURATION:PT1H
X-Robots-Tag:noindex
X-PUBLISHED-TTL:PT1H
BEGIN:VTIMEZONE
TZID:America/Toronto
BEGIN:DAYLIGHT
TZOFFSETFROM:-0500
TZOFFSETTO:-0400
TZNAME:EDT
DTSTART:20240310T070000
END:DAYLIGHT
BEGIN:STANDARD
TZOFFSETFROM:-0400
TZOFFSETTO:-0500
TZNAME:EST
DTSTART:20241103T060000
END:STANDARD
BEGIN:DAYLIGHT
TZOFFSETFROM:-0500
TZOFFSETTO:-0400
TZNAME:EDT
DTSTART:20250309T070000
END:DAYLIGHT
BEGIN:STANDARD
TZOFFSETFROM:-0400
TZOFFSETTO:-0500
TZNAME:EST
DTSTART:20251102T060000
END:STANDARD
BEGIN:DAYLIGHT
TZOFFSETFROM:-0500
TZOFFSETTO:-0400
TZNAME:EDT
DTSTART:20260308T070000
END:DAYLIGHT
BEGIN:STANDARD
TZOFFSETFROM:-0400
TZOFFSETTO:-0500
TZNAME:EST
DTSTART:20261101T060000
END:STANDARD
END:VTIMEZONE
BEGIN:VEVENT
DTSTART;TZID=America/Toronto:20250713T120000
DTEND;TZID=America/Toronto:20250713T130000
DTSTAMP:20260424T101216
CREATED:20250506T193013Z
LAST-MODIFIED:20260311T183953Z
UID:10002068-1752408000-1752411600@emmanuelunited.com
SUMMARY:Sip-n-Talk
DESCRIPTION:Join us for coffee and fellowship after worship each week. Meet new friends\, catch up with old\, and enjoy some snacks.
URL:https://emmanuelunited.com/event/sip-n-talk/2025-07-13/
LOCATION:Emmanuel UC\, 420 Balmoral Drive\, Brampton\, Ontario\, Canada
CATEGORIES:Fellowship
ATTACH;FMTTYPE=image/jpeg:https://emmanuelunited.com/wp-content/uploads/2025/05/coffee-cup-and-beans-George-Hodan-CC0-e1746638839684.jpg
END:VEVENT
BEGIN:VEVENT
DTSTART;TZID=America/Toronto:20250713T110000
DTEND;TZID=America/Toronto:20250713T120000
DTSTAMP:20260424T101216
CREATED:20250506T192835Z
LAST-MODIFIED:20250507T193447Z
UID:10001807-1752404400-1752408000@emmanuelunited.com
SUMMARY:Sunday Worship
DESCRIPTION:Join us for worship each Sunday. Come as you are for an hour long service\, including music\, prayers\, and reflections. Children’s program provided September-June\, and there is always something for the young ones to do during worship.
URL:https://emmanuelunited.com/event/sunday-worship/2025-07-13/
LOCATION:Emmanuel UC\, 420 Balmoral Drive\, Brampton\, Ontario\, Canada
CATEGORIES:Worship
ATTACH;FMTTYPE=image/jpeg:https://emmanuelunited.com/wp-content/uploads/2025/05/326532972_1140884776571144_7440115511639422560_n.jpg
END:VEVENT
BEGIN:VEVENT
DTSTART;TZID=America/Toronto:20250709T133000
DTEND;TZID=America/Toronto:20250709T143000
DTSTAMP:20260424T101216
CREATED:20240830T174957Z
LAST-MODIFIED:20250506T194226Z
UID:10000988-1752067800-1752071400@emmanuelunited.com
SUMMARY:Deeper Dive
DESCRIPTION:Join Rev’d Tom on for an opportunity to look a little deeper at the weekly message. ​ \nAll are welcome.
URL:https://emmanuelunited.com/event/deeper-dive-3/2025-07-09/
LOCATION:Emmanuel UC\, 420 Balmoral Drive\, Brampton\, Ontario\, Canada
CATEGORIES:Discipleship
ATTACH;FMTTYPE=image/jpeg:https://emmanuelunited.com/wp-content/uploads/2024/04/book-wisdom-mohamed-mahmoud-hassan-CC0-e1746560078172.jpg
END:VEVENT
BEGIN:VEVENT
DTSTART;TZID=America/Toronto:20250706T120000
DTEND;TZID=America/Toronto:20250706T130000
DTSTAMP:20260424T101216
CREATED:20250506T193013Z
LAST-MODIFIED:20260311T183953Z
UID:10002067-1751803200-1751806800@emmanuelunited.com
SUMMARY:Sip-n-Talk
DESCRIPTION:Join us for coffee and fellowship after worship each week. Meet new friends\, catch up with old\, and enjoy some snacks.
URL:https://emmanuelunited.com/event/sip-n-talk/2025-07-06/
LOCATION:Emmanuel UC\, 420 Balmoral Drive\, Brampton\, Ontario\, Canada
CATEGORIES:Fellowship
ATTACH;FMTTYPE=image/jpeg:https://emmanuelunited.com/wp-content/uploads/2025/05/coffee-cup-and-beans-George-Hodan-CC0-e1746638839684.jpg
END:VEVENT
BEGIN:VEVENT
DTSTART;TZID=America/Toronto:20250706T110000
DTEND;TZID=America/Toronto:20250706T120000
DTSTAMP:20260424T101216
CREATED:20250506T192835Z
LAST-MODIFIED:20250507T193447Z
UID:10001806-1751799600-1751803200@emmanuelunited.com
SUMMARY:Sunday Worship
DESCRIPTION:Join us for worship each Sunday. Come as you are for an hour long service\, including music\, prayers\, and reflections. Children’s program provided September-June\, and there is always something for the young ones to do during worship.
URL:https://emmanuelunited.com/event/sunday-worship/2025-07-06/
LOCATION:Emmanuel UC\, 420 Balmoral Drive\, Brampton\, Ontario\, Canada
CATEGORIES:Worship
ATTACH;FMTTYPE=image/jpeg:https://emmanuelunited.com/wp-content/uploads/2025/05/326532972_1140884776571144_7440115511639422560_n.jpg
END:VEVENT
BEGIN:VEVENT
DTSTART;TZID=America/Toronto:20250702T133000
DTEND;TZID=America/Toronto:20250702T143000
DTSTAMP:20260424T101216
CREATED:20240830T174957Z
LAST-MODIFIED:20250506T194226Z
UID:10000987-1751463000-1751466600@emmanuelunited.com
SUMMARY:Deeper Dive
DESCRIPTION:Join Rev’d Tom on for an opportunity to look a little deeper at the weekly message. ​ \nAll are welcome.
URL:https://emmanuelunited.com/event/deeper-dive-3/2025-07-02/
LOCATION:Emmanuel UC\, 420 Balmoral Drive\, Brampton\, Ontario\, Canada
CATEGORIES:Discipleship
ATTACH;FMTTYPE=image/jpeg:https://emmanuelunited.com/wp-content/uploads/2024/04/book-wisdom-mohamed-mahmoud-hassan-CC0-e1746560078172.jpg
END:VEVENT
BEGIN:VEVENT
DTSTART;TZID=America/Toronto:20250629T120000
DTEND;TZID=America/Toronto:20250629T130000
DTSTAMP:20260424T101216
CREATED:20250506T193013Z
LAST-MODIFIED:20260311T183953Z
UID:10002066-1751198400-1751202000@emmanuelunited.com
SUMMARY:Sip-n-Talk
DESCRIPTION:Join us for coffee and fellowship after worship each week. Meet new friends\, catch up with old\, and enjoy some snacks.
URL:https://emmanuelunited.com/event/sip-n-talk/2025-06-29/
LOCATION:Emmanuel UC\, 420 Balmoral Drive\, Brampton\, Ontario\, Canada
CATEGORIES:Fellowship
ATTACH;FMTTYPE=image/jpeg:https://emmanuelunited.com/wp-content/uploads/2025/05/coffee-cup-and-beans-George-Hodan-CC0-e1746638839684.jpg
END:VEVENT
BEGIN:VEVENT
DTSTART;TZID=America/Toronto:20250629T110000
DTEND;TZID=America/Toronto:20250629T120000
DTSTAMP:20260424T101216
CREATED:20250506T192835Z
LAST-MODIFIED:20250507T193447Z
UID:10001805-1751194800-1751198400@emmanuelunited.com
SUMMARY:Sunday Worship
DESCRIPTION:Join us for worship each Sunday. Come as you are for an hour long service\, including music\, prayers\, and reflections. Children’s program provided September-June\, and there is always something for the young ones to do during worship.
URL:https://emmanuelunited.com/event/sunday-worship/2025-06-29/
LOCATION:Emmanuel UC\, 420 Balmoral Drive\, Brampton\, Ontario\, Canada
CATEGORIES:Worship
ATTACH;FMTTYPE=image/jpeg:https://emmanuelunited.com/wp-content/uploads/2025/05/326532972_1140884776571144_7440115511639422560_n.jpg
END:VEVENT
BEGIN:VEVENT
DTSTART;TZID=America/Toronto:20250625T133000
DTEND;TZID=America/Toronto:20250625T143000
DTSTAMP:20260424T101216
CREATED:20240830T174957Z
LAST-MODIFIED:20250506T194226Z
UID:10000986-1750858200-1750861800@emmanuelunited.com
SUMMARY:Deeper Dive
DESCRIPTION:Join Rev’d Tom on for an opportunity to look a little deeper at the weekly message. ​ \nAll are welcome.
URL:https://emmanuelunited.com/event/deeper-dive-3/2025-06-25/
LOCATION:Emmanuel UC\, 420 Balmoral Drive\, Brampton\, Ontario\, Canada
CATEGORIES:Discipleship
ATTACH;FMTTYPE=image/jpeg:https://emmanuelunited.com/wp-content/uploads/2024/04/book-wisdom-mohamed-mahmoud-hassan-CC0-e1746560078172.jpg
END:VEVENT
BEGIN:VEVENT
DTSTART;TZID=America/Toronto:20250624T103000
DTEND;TZID=America/Toronto:20250624T120000
DTSTAMP:20260424T101216
CREATED:20241002T181645Z
LAST-MODIFIED:20250507T170851Z
UID:10001271-1750761000-1750766400@emmanuelunited.com
SUMMARY:Mid-Week Sip-N-Talk
DESCRIPTION:Mid-Week Sip-N-Talk \nJoin us for Mid-Week Sip-n-Talk for some monthly social time! Everyone’s invited\, bring a friend or neighbors. \nAlways held on the last Tuesday of each month at 10:30 AM.\nPlease join us for an enjoyable time of fellowship and light refreshment.
URL:https://emmanuelunited.com/event/mid-week-sip-n-talk-3/2025-06-24/
LOCATION:Emmanuel UC\, 420 Balmoral Drive\, Brampton\, Ontario\, Canada
CATEGORIES:Fellowship
ATTACH;FMTTYPE=image/jpeg:https://emmanuelunited.com/wp-content/uploads/2024/02/hot-latte-coffee-with-hearts-Ian-L-CC0-e1746637718193.jpg
END:VEVENT
BEGIN:VEVENT
DTSTART;TZID=America/Toronto:20250622T120000
DTEND;TZID=America/Toronto:20250622T130000
DTSTAMP:20260424T101216
CREATED:20250506T193013Z
LAST-MODIFIED:20260311T183953Z
UID:10002065-1750593600-1750597200@emmanuelunited.com
SUMMARY:Sip-n-Talk
DESCRIPTION:Join us for coffee and fellowship after worship each week. Meet new friends\, catch up with old\, and enjoy some snacks.
URL:https://emmanuelunited.com/event/sip-n-talk/2025-06-22/
LOCATION:Emmanuel UC\, 420 Balmoral Drive\, Brampton\, Ontario\, Canada
CATEGORIES:Fellowship
ATTACH;FMTTYPE=image/jpeg:https://emmanuelunited.com/wp-content/uploads/2025/05/coffee-cup-and-beans-George-Hodan-CC0-e1746638839684.jpg
END:VEVENT
BEGIN:VEVENT
DTSTART;TZID=America/Toronto:20250622T110000
DTEND;TZID=America/Toronto:20250622T120000
DTSTAMP:20260424T101216
CREATED:20250506T192835Z
LAST-MODIFIED:20250507T193447Z
UID:10001804-1750590000-1750593600@emmanuelunited.com
SUMMARY:Sunday Worship
DESCRIPTION:Join us for worship each Sunday. Come as you are for an hour long service\, including music\, prayers\, and reflections. Children’s program provided September-June\, and there is always something for the young ones to do during worship.
URL:https://emmanuelunited.com/event/sunday-worship/2025-06-22/
LOCATION:Emmanuel UC\, 420 Balmoral Drive\, Brampton\, Ontario\, Canada
CATEGORIES:Worship
ATTACH;FMTTYPE=image/jpeg:https://emmanuelunited.com/wp-content/uploads/2025/05/326532972_1140884776571144_7440115511639422560_n.jpg
END:VEVENT
BEGIN:VEVENT
DTSTART;TZID=America/Toronto:20250618T133000
DTEND;TZID=America/Toronto:20250618T143000
DTSTAMP:20260424T101216
CREATED:20240830T174957Z
LAST-MODIFIED:20250506T194226Z
UID:10000985-1750253400-1750257000@emmanuelunited.com
SUMMARY:Deeper Dive
DESCRIPTION:Join Rev’d Tom on for an opportunity to look a little deeper at the weekly message. ​ \nAll are welcome.
URL:https://emmanuelunited.com/event/deeper-dive-3/2025-06-18/
LOCATION:Emmanuel UC\, 420 Balmoral Drive\, Brampton\, Ontario\, Canada
CATEGORIES:Discipleship
ATTACH;FMTTYPE=image/jpeg:https://emmanuelunited.com/wp-content/uploads/2024/04/book-wisdom-mohamed-mahmoud-hassan-CC0-e1746560078172.jpg
END:VEVENT
BEGIN:VEVENT
DTSTART;TZID=America/Toronto:20250615T120000
DTEND;TZID=America/Toronto:20250615T130000
DTSTAMP:20260424T101216
CREATED:20250506T193013Z
LAST-MODIFIED:20260311T183953Z
UID:10002064-1749988800-1749992400@emmanuelunited.com
SUMMARY:Sip-n-Talk
DESCRIPTION:Join us for coffee and fellowship after worship each week. Meet new friends\, catch up with old\, and enjoy some snacks.
URL:https://emmanuelunited.com/event/sip-n-talk/2025-06-15/
LOCATION:Emmanuel UC\, 420 Balmoral Drive\, Brampton\, Ontario\, Canada
CATEGORIES:Fellowship
ATTACH;FMTTYPE=image/jpeg:https://emmanuelunited.com/wp-content/uploads/2025/05/coffee-cup-and-beans-George-Hodan-CC0-e1746638839684.jpg
END:VEVENT
BEGIN:VEVENT
DTSTART;TZID=America/Toronto:20250615T110000
DTEND;TZID=America/Toronto:20250615T120000
DTSTAMP:20260424T101216
CREATED:20250506T192835Z
LAST-MODIFIED:20250507T193447Z
UID:10001803-1749985200-1749988800@emmanuelunited.com
SUMMARY:Sunday Worship
DESCRIPTION:Join us for worship each Sunday. Come as you are for an hour long service\, including music\, prayers\, and reflections. Children’s program provided September-June\, and there is always something for the young ones to do during worship.
URL:https://emmanuelunited.com/event/sunday-worship/2025-06-15/
LOCATION:Emmanuel UC\, 420 Balmoral Drive\, Brampton\, Ontario\, Canada
CATEGORIES:Worship
ATTACH;FMTTYPE=image/jpeg:https://emmanuelunited.com/wp-content/uploads/2025/05/326532972_1140884776571144_7440115511639422560_n.jpg
END:VEVENT
BEGIN:VEVENT
DTSTART;TZID=America/Toronto:20250611T133000
DTEND;TZID=America/Toronto:20250611T143000
DTSTAMP:20260424T101216
CREATED:20240830T174957Z
LAST-MODIFIED:20250506T194226Z
UID:10000984-1749648600-1749652200@emmanuelunited.com
SUMMARY:Deeper Dive
DESCRIPTION:Join Rev’d Tom on for an opportunity to look a little deeper at the weekly message. ​ \nAll are welcome.
URL:https://emmanuelunited.com/event/deeper-dive-3/2025-06-11/
LOCATION:Emmanuel UC\, 420 Balmoral Drive\, Brampton\, Ontario\, Canada
CATEGORIES:Discipleship
ATTACH;FMTTYPE=image/jpeg:https://emmanuelunited.com/wp-content/uploads/2024/04/book-wisdom-mohamed-mahmoud-hassan-CC0-e1746560078172.jpg
END:VEVENT
BEGIN:VEVENT
DTSTART;TZID=America/Toronto:20250608T120000
DTEND;TZID=America/Toronto:20250608T130000
DTSTAMP:20260424T101216
CREATED:20250506T193013Z
LAST-MODIFIED:20260311T183953Z
UID:10002063-1749384000-1749387600@emmanuelunited.com
SUMMARY:Sip-n-Talk
DESCRIPTION:Join us for coffee and fellowship after worship each week. Meet new friends\, catch up with old\, and enjoy some snacks.
URL:https://emmanuelunited.com/event/sip-n-talk/2025-06-08/
LOCATION:Emmanuel UC\, 420 Balmoral Drive\, Brampton\, Ontario\, Canada
CATEGORIES:Fellowship
ATTACH;FMTTYPE=image/jpeg:https://emmanuelunited.com/wp-content/uploads/2025/05/coffee-cup-and-beans-George-Hodan-CC0-e1746638839684.jpg
END:VEVENT
BEGIN:VEVENT
DTSTART;TZID=America/Toronto:20250608T110000
DTEND;TZID=America/Toronto:20250608T120000
DTSTAMP:20260424T101216
CREATED:20250506T192835Z
LAST-MODIFIED:20250507T193447Z
UID:10001802-1749380400-1749384000@emmanuelunited.com
SUMMARY:Sunday Worship
DESCRIPTION:Join us for worship each Sunday. Come as you are for an hour long service\, including music\, prayers\, and reflections. Children’s program provided September-June\, and there is always something for the young ones to do during worship.
URL:https://emmanuelunited.com/event/sunday-worship/2025-06-08/
LOCATION:Emmanuel UC\, 420 Balmoral Drive\, Brampton\, Ontario\, Canada
CATEGORIES:Worship
ATTACH;FMTTYPE=image/jpeg:https://emmanuelunited.com/wp-content/uploads/2025/05/326532972_1140884776571144_7440115511639422560_n.jpg
END:VEVENT
BEGIN:VEVENT
DTSTART;TZID=America/Toronto:20250604T133000
DTEND;TZID=America/Toronto:20250604T143000
DTSTAMP:20260424T101216
CREATED:20240830T174957Z
LAST-MODIFIED:20250506T194226Z
UID:10000983-1749043800-1749047400@emmanuelunited.com
SUMMARY:Deeper Dive
DESCRIPTION:Join Rev’d Tom on for an opportunity to look a little deeper at the weekly message. ​ \nAll are welcome.
URL:https://emmanuelunited.com/event/deeper-dive-3/2025-06-04/
LOCATION:Emmanuel UC\, 420 Balmoral Drive\, Brampton\, Ontario\, Canada
CATEGORIES:Discipleship
ATTACH;FMTTYPE=image/jpeg:https://emmanuelunited.com/wp-content/uploads/2024/04/book-wisdom-mohamed-mahmoud-hassan-CC0-e1746560078172.jpg
END:VEVENT
BEGIN:VEVENT
DTSTART;TZID=America/Toronto:20250601T120000
DTEND;TZID=America/Toronto:20250601T130000
DTSTAMP:20260424T101216
CREATED:20250506T193013Z
LAST-MODIFIED:20260311T183953Z
UID:10002062-1748779200-1748782800@emmanuelunited.com
SUMMARY:Sip-n-Talk
DESCRIPTION:Join us for coffee and fellowship after worship each week. Meet new friends\, catch up with old\, and enjoy some snacks.
URL:https://emmanuelunited.com/event/sip-n-talk/2025-06-01/
LOCATION:Emmanuel UC\, 420 Balmoral Drive\, Brampton\, Ontario\, Canada
CATEGORIES:Fellowship
ATTACH;FMTTYPE=image/jpeg:https://emmanuelunited.com/wp-content/uploads/2025/05/coffee-cup-and-beans-George-Hodan-CC0-e1746638839684.jpg
END:VEVENT
BEGIN:VEVENT
DTSTART;TZID=America/Toronto:20250601T110000
DTEND;TZID=America/Toronto:20250601T120000
DTSTAMP:20260424T101216
CREATED:20250506T192835Z
LAST-MODIFIED:20250507T193447Z
UID:10001801-1748775600-1748779200@emmanuelunited.com
SUMMARY:Sunday Worship
DESCRIPTION:Join us for worship each Sunday. Come as you are for an hour long service\, including music\, prayers\, and reflections. Children’s program provided September-June\, and there is always something for the young ones to do during worship.
URL:https://emmanuelunited.com/event/sunday-worship/2025-06-01/
LOCATION:Emmanuel UC\, 420 Balmoral Drive\, Brampton\, Ontario\, Canada
CATEGORIES:Worship
ATTACH;FMTTYPE=image/jpeg:https://emmanuelunited.com/wp-content/uploads/2025/05/326532972_1140884776571144_7440115511639422560_n.jpg
END:VEVENT
BEGIN:VEVENT
DTSTART;TZID=America/Toronto:20250531T140000
DTEND;TZID=America/Toronto:20250531T170000
DTSTAMP:20260424T101216
CREATED:20250507T170644Z
LAST-MODIFIED:20250529T134928Z
UID:10002356-1748700000-1748710800@emmanuelunited.com
SUMMARY:PCS Singers Present: Time and Again... Moment in Songs
DESCRIPTION:Join the PCS Singers for their production: Time and Again… Moments in Song.\nA musical production for all ages!\n\nTickets priced at:Adults – $35.00Children – $15.00\n\nContact office to pre-order tickets at Office@emmanuelunited.com\n\nMay 31st – 2:00pmEmmanuel United Church420 Balmoral Dr.Brampton\, ON
URL:https://emmanuelunited.com/event/pcs-singers-present-time-and-again-moment-in-songs/
LOCATION:Emmanuel UC\, 420 Balmoral Drive\, Brampton\, Ontario\, Canada
CATEGORIES:Fellowship,Worship
ATTACH;FMTTYPE=image/jpeg:https://emmanuelunited.com/wp-content/uploads/2025/05/PCS-Spring-2025-poster-1920x1080-1-e1746637648111.jpg
END:VEVENT
BEGIN:VEVENT
DTSTART;TZID=America/Toronto:20250528T133000
DTEND;TZID=America/Toronto:20250528T143000
DTSTAMP:20260424T101216
CREATED:20240830T174957Z
LAST-MODIFIED:20250506T194226Z
UID:10000982-1748439000-1748442600@emmanuelunited.com
SUMMARY:Deeper Dive
DESCRIPTION:Join Rev’d Tom on for an opportunity to look a little deeper at the weekly message. ​ \nAll are welcome.
URL:https://emmanuelunited.com/event/deeper-dive-3/2025-05-28/
LOCATION:Emmanuel UC\, 420 Balmoral Drive\, Brampton\, Ontario\, Canada
CATEGORIES:Discipleship
ATTACH;FMTTYPE=image/jpeg:https://emmanuelunited.com/wp-content/uploads/2024/04/book-wisdom-mohamed-mahmoud-hassan-CC0-e1746560078172.jpg
END:VEVENT
BEGIN:VEVENT
DTSTART;TZID=America/Toronto:20250527T103000
DTEND;TZID=America/Toronto:20250527T120000
DTSTAMP:20260424T101216
CREATED:20241002T181645Z
LAST-MODIFIED:20250507T170851Z
UID:10001270-1748341800-1748347200@emmanuelunited.com
SUMMARY:Mid-Week Sip-N-Talk
DESCRIPTION:Mid-Week Sip-N-Talk \nJoin us for Mid-Week Sip-n-Talk for some monthly social time! Everyone’s invited\, bring a friend or neighbors. \nAlways held on the last Tuesday of each month at 10:30 AM.\nPlease join us for an enjoyable time of fellowship and light refreshment.
URL:https://emmanuelunited.com/event/mid-week-sip-n-talk-3/2025-05-27/
LOCATION:Emmanuel UC\, 420 Balmoral Drive\, Brampton\, Ontario\, Canada
CATEGORIES:Fellowship
ATTACH;FMTTYPE=image/jpeg:https://emmanuelunited.com/wp-content/uploads/2024/02/hot-latte-coffee-with-hearts-Ian-L-CC0-e1746637718193.jpg
END:VEVENT
BEGIN:VEVENT
DTSTART;TZID=America/Toronto:20250525T120000
DTEND;TZID=America/Toronto:20250525T130000
DTSTAMP:20260424T101216
CREATED:20250506T193013Z
LAST-MODIFIED:20260311T183953Z
UID:10002061-1748174400-1748178000@emmanuelunited.com
SUMMARY:Sip-n-Talk
DESCRIPTION:Join us for coffee and fellowship after worship each week. Meet new friends\, catch up with old\, and enjoy some snacks.
URL:https://emmanuelunited.com/event/sip-n-talk/2025-05-25/
LOCATION:Emmanuel UC\, 420 Balmoral Drive\, Brampton\, Ontario\, Canada
CATEGORIES:Fellowship
ATTACH;FMTTYPE=image/jpeg:https://emmanuelunited.com/wp-content/uploads/2025/05/coffee-cup-and-beans-George-Hodan-CC0-e1746638839684.jpg
END:VEVENT
BEGIN:VEVENT
DTSTART;TZID=America/Toronto:20250525T110000
DTEND;TZID=America/Toronto:20250525T120000
DTSTAMP:20260424T101216
CREATED:20250506T192835Z
LAST-MODIFIED:20250507T193447Z
UID:10001800-1748170800-1748174400@emmanuelunited.com
SUMMARY:Sunday Worship
DESCRIPTION:Join us for worship each Sunday. Come as you are for an hour long service\, including music\, prayers\, and reflections. Children’s program provided September-June\, and there is always something for the young ones to do during worship.
URL:https://emmanuelunited.com/event/sunday-worship/2025-05-25/
LOCATION:Emmanuel UC\, 420 Balmoral Drive\, Brampton\, Ontario\, Canada
CATEGORIES:Worship
ATTACH;FMTTYPE=image/jpeg:https://emmanuelunited.com/wp-content/uploads/2025/05/326532972_1140884776571144_7440115511639422560_n.jpg
END:VEVENT
BEGIN:VEVENT
DTSTART;TZID=America/Toronto:20250524T090000
DTEND;TZID=America/Toronto:20250524T130000
DTSTAMP:20260424T101216
CREATED:20250507T165755Z
LAST-MODIFIED:20250507T170312Z
UID:10002355-1748077200-1748091600@emmanuelunited.com
SUMMARY:Trunk-Sale is Coming!
DESCRIPTION:Join us at Emmanuel United Church for our annual Spring Trunk-Sale!\nBrowse through dozens of vendors selling antiques\, crafts and other small treasures.\nIts the excitement of a garage sale\, with dozens of merchandisers all in one convenient location.\n\nPlant Sale: Purchase your spring starter plants and other green needs at Emmanuel!\nOur ladies tirelessly work to provide a variety of quality plants\, grown with love\, and priced to move!\n\nBBQ Luncheon and Bake Sale: Lunch will be provided for a small cost if desired! Enjoy some BBQ selections\, as well as baked desserts provided by our Emmanuel Youth.\n\nRental Inquiries: If you wish to rent a space to be a vendor at our trunk-sale\, the rental cost is 20$. More information at: Office@emmanuelunited.com
URL:https://emmanuelunited.com/event/trunk-sale-is-coming/
LOCATION:Emmanuel UC\, 420 Balmoral Drive\, Brampton\, Ontario\, Canada
ATTACH;FMTTYPE=image/jpeg:https://emmanuelunited.com/wp-content/uploads/2025/05/garage-sale-sign-items-in-front-yard-79633482668c44bbbc9a37abb90fda42-1-e1746637377718.jpg
END:VEVENT
BEGIN:VEVENT
DTSTART;TZID=America/Toronto:20250521T133000
DTEND;TZID=America/Toronto:20250521T143000
DTSTAMP:20260424T101216
CREATED:20240830T174957Z
LAST-MODIFIED:20250506T194226Z
UID:10000981-1747834200-1747837800@emmanuelunited.com
SUMMARY:Deeper Dive
DESCRIPTION:Join Rev’d Tom on for an opportunity to look a little deeper at the weekly message. ​ \nAll are welcome.
URL:https://emmanuelunited.com/event/deeper-dive-3/2025-05-21/
LOCATION:Emmanuel UC\, 420 Balmoral Drive\, Brampton\, Ontario\, Canada
CATEGORIES:Discipleship
ATTACH;FMTTYPE=image/jpeg:https://emmanuelunited.com/wp-content/uploads/2024/04/book-wisdom-mohamed-mahmoud-hassan-CC0-e1746560078172.jpg
END:VEVENT
BEGIN:VEVENT
DTSTART;TZID=America/Toronto:20250518T120000
DTEND;TZID=America/Toronto:20250518T130000
DTSTAMP:20260424T101216
CREATED:20250506T193013Z
LAST-MODIFIED:20260311T183953Z
UID:10002060-1747569600-1747573200@emmanuelunited.com
SUMMARY:Sip-n-Talk
DESCRIPTION:Join us for coffee and fellowship after worship each week. Meet new friends\, catch up with old\, and enjoy some snacks.
URL:https://emmanuelunited.com/event/sip-n-talk/2025-05-18/
LOCATION:Emmanuel UC\, 420 Balmoral Drive\, Brampton\, Ontario\, Canada
CATEGORIES:Fellowship
ATTACH;FMTTYPE=image/jpeg:https://emmanuelunited.com/wp-content/uploads/2025/05/coffee-cup-and-beans-George-Hodan-CC0-e1746638839684.jpg
END:VEVENT
BEGIN:VEVENT
DTSTART;TZID=America/Toronto:20250518T110000
DTEND;TZID=America/Toronto:20250518T120000
DTSTAMP:20260424T101216
CREATED:20250506T192835Z
LAST-MODIFIED:20250507T193447Z
UID:10001799-1747566000-1747569600@emmanuelunited.com
SUMMARY:Sunday Worship
DESCRIPTION:Join us for worship each Sunday. Come as you are for an hour long service\, including music\, prayers\, and reflections. Children’s program provided September-June\, and there is always something for the young ones to do during worship.
URL:https://emmanuelunited.com/event/sunday-worship/2025-05-18/
LOCATION:Emmanuel UC\, 420 Balmoral Drive\, Brampton\, Ontario\, Canada
CATEGORIES:Worship
ATTACH;FMTTYPE=image/jpeg:https://emmanuelunited.com/wp-content/uploads/2025/05/326532972_1140884776571144_7440115511639422560_n.jpg
END:VEVENT
END:VCALENDAR