BEGIN:VCALENDAR
VERSION:2.0
PRODID:-//Emmanuel United Church, Brampton - ECPv6.15.20//NONSGML v1.0//EN
CALSCALE:GREGORIAN
METHOD:PUBLISH
X-ORIGINAL-URL:https://emmanuelunited.com
X-WR-CALDESC:Events for Emmanuel United Church, Brampton
REFRESH-INTERVAL;VALUE=DURATION:PT1H
X-Robots-Tag:noindex
X-PUBLISHED-TTL:PT1H
BEGIN:VTIMEZONE
TZID:America/Toronto
BEGIN:DAYLIGHT
TZOFFSETFROM:-0500
TZOFFSETTO:-0400
TZNAME:EDT
DTSTART:20240310T070000
END:DAYLIGHT
BEGIN:STANDARD
TZOFFSETFROM:-0400
TZOFFSETTO:-0500
TZNAME:EST
DTSTART:20241103T060000
END:STANDARD
BEGIN:DAYLIGHT
TZOFFSETFROM:-0500
TZOFFSETTO:-0400
TZNAME:EDT
DTSTART:20250309T070000
END:DAYLIGHT
BEGIN:STANDARD
TZOFFSETFROM:-0400
TZOFFSETTO:-0500
TZNAME:EST
DTSTART:20251102T060000
END:STANDARD
BEGIN:DAYLIGHT
TZOFFSETFROM:-0500
TZOFFSETTO:-0400
TZNAME:EDT
DTSTART:20260308T070000
END:DAYLIGHT
BEGIN:STANDARD
TZOFFSETFROM:-0400
TZOFFSETTO:-0500
TZNAME:EST
DTSTART:20261101T060000
END:STANDARD
END:VTIMEZONE
BEGIN:VEVENT
DTSTART;TZID=America/Toronto:20250727T120000
DTEND;TZID=America/Toronto:20250727T130000
DTSTAMP:20260425T112034
CREATED:20250506T193013Z
LAST-MODIFIED:20260311T183953Z
UID:10002070-1753617600-1753621200@emmanuelunited.com
SUMMARY:Sip-n-Talk
DESCRIPTION:Join us for coffee and fellowship after worship each week. Meet new friends\, catch up with old\, and enjoy some snacks.
URL:https://emmanuelunited.com/event/sip-n-talk/2025-07-27/
LOCATION:Emmanuel UC\, 420 Balmoral Drive\, Brampton\, Ontario\, Canada
CATEGORIES:Fellowship
ATTACH;FMTTYPE=image/jpeg:https://emmanuelunited.com/wp-content/uploads/2025/05/coffee-cup-and-beans-George-Hodan-CC0-e1746638839684.jpg
END:VEVENT
BEGIN:VEVENT
DTSTART;TZID=America/Toronto:20250729T103000
DTEND;TZID=America/Toronto:20250729T120000
DTSTAMP:20260425T112034
CREATED:20241002T181645Z
LAST-MODIFIED:20250507T170851Z
UID:10001272-1753785000-1753790400@emmanuelunited.com
SUMMARY:Mid-Week Sip-N-Talk
DESCRIPTION:Mid-Week Sip-N-Talk \nJoin us for Mid-Week Sip-n-Talk for some monthly social time! Everyone’s invited\, bring a friend or neighbors. \nAlways held on the last Tuesday of each month at 10:30 AM.\nPlease join us for an enjoyable time of fellowship and light refreshment.
URL:https://emmanuelunited.com/event/mid-week-sip-n-talk-3/2025-07-29/
LOCATION:Emmanuel UC\, 420 Balmoral Drive\, Brampton\, Ontario\, Canada
CATEGORIES:Fellowship
ATTACH;FMTTYPE=image/jpeg:https://emmanuelunited.com/wp-content/uploads/2024/02/hot-latte-coffee-with-hearts-Ian-L-CC0-e1746637718193.jpg
END:VEVENT
BEGIN:VEVENT
DTSTART;TZID=America/Toronto:20250730T133000
DTEND;TZID=America/Toronto:20250730T143000
DTSTAMP:20260425T112034
CREATED:20240830T174957Z
LAST-MODIFIED:20250506T194226Z
UID:10000991-1753882200-1753885800@emmanuelunited.com
SUMMARY:Deeper Dive
DESCRIPTION:Join Rev’d Tom on for an opportunity to look a little deeper at the weekly message. ​ \nAll are welcome.
URL:https://emmanuelunited.com/event/deeper-dive-3/2025-07-30/
LOCATION:Emmanuel UC\, 420 Balmoral Drive\, Brampton\, Ontario\, Canada
CATEGORIES:Discipleship
ATTACH;FMTTYPE=image/jpeg:https://emmanuelunited.com/wp-content/uploads/2024/04/book-wisdom-mohamed-mahmoud-hassan-CC0-e1746560078172.jpg
END:VEVENT
BEGIN:VEVENT
DTSTART;TZID=America/Toronto:20250803T110000
DTEND;TZID=America/Toronto:20250803T120000
DTSTAMP:20260425T112034
CREATED:20250506T192835Z
LAST-MODIFIED:20250507T193447Z
UID:10001810-1754218800-1754222400@emmanuelunited.com
SUMMARY:Sunday Worship
DESCRIPTION:Join us for worship each Sunday. Come as you are for an hour long service\, including music\, prayers\, and reflections. Children’s program provided September-June\, and there is always something for the young ones to do during worship.
URL:https://emmanuelunited.com/event/sunday-worship/2025-08-03/
LOCATION:Emmanuel UC\, 420 Balmoral Drive\, Brampton\, Ontario\, Canada
CATEGORIES:Worship
ATTACH;FMTTYPE=image/jpeg:https://emmanuelunited.com/wp-content/uploads/2025/05/326532972_1140884776571144_7440115511639422560_n.jpg
END:VEVENT
BEGIN:VEVENT
DTSTART;TZID=America/Toronto:20250803T120000
DTEND;TZID=America/Toronto:20250803T130000
DTSTAMP:20260425T112034
CREATED:20250506T193013Z
LAST-MODIFIED:20260311T183953Z
UID:10002071-1754222400-1754226000@emmanuelunited.com
SUMMARY:Sip-n-Talk
DESCRIPTION:Join us for coffee and fellowship after worship each week. Meet new friends\, catch up with old\, and enjoy some snacks.
URL:https://emmanuelunited.com/event/sip-n-talk/2025-08-03/
LOCATION:Emmanuel UC\, 420 Balmoral Drive\, Brampton\, Ontario\, Canada
CATEGORIES:Fellowship
ATTACH;FMTTYPE=image/jpeg:https://emmanuelunited.com/wp-content/uploads/2025/05/coffee-cup-and-beans-George-Hodan-CC0-e1746638839684.jpg
END:VEVENT
BEGIN:VEVENT
DTSTART;TZID=America/Toronto:20250806T133000
DTEND;TZID=America/Toronto:20250806T143000
DTSTAMP:20260425T112034
CREATED:20240830T174957Z
LAST-MODIFIED:20250506T194226Z
UID:10000992-1754487000-1754490600@emmanuelunited.com
SUMMARY:Deeper Dive
DESCRIPTION:Join Rev’d Tom on for an opportunity to look a little deeper at the weekly message. ​ \nAll are welcome.
URL:https://emmanuelunited.com/event/deeper-dive-3/2025-08-06/
LOCATION:Emmanuel UC\, 420 Balmoral Drive\, Brampton\, Ontario\, Canada
CATEGORIES:Discipleship
ATTACH;FMTTYPE=image/jpeg:https://emmanuelunited.com/wp-content/uploads/2024/04/book-wisdom-mohamed-mahmoud-hassan-CC0-e1746560078172.jpg
END:VEVENT
BEGIN:VEVENT
DTSTART;TZID=America/Toronto:20250810T110000
DTEND;TZID=America/Toronto:20250810T120000
DTSTAMP:20260425T112034
CREATED:20250506T192835Z
LAST-MODIFIED:20250507T193447Z
UID:10001811-1754823600-1754827200@emmanuelunited.com
SUMMARY:Sunday Worship
DESCRIPTION:Join us for worship each Sunday. Come as you are for an hour long service\, including music\, prayers\, and reflections. Children’s program provided September-June\, and there is always something for the young ones to do during worship.
URL:https://emmanuelunited.com/event/sunday-worship/2025-08-10/
LOCATION:Emmanuel UC\, 420 Balmoral Drive\, Brampton\, Ontario\, Canada
CATEGORIES:Worship
ATTACH;FMTTYPE=image/jpeg:https://emmanuelunited.com/wp-content/uploads/2025/05/326532972_1140884776571144_7440115511639422560_n.jpg
END:VEVENT
BEGIN:VEVENT
DTSTART;TZID=America/Toronto:20250810T120000
DTEND;TZID=America/Toronto:20250810T130000
DTSTAMP:20260425T112034
CREATED:20250506T193013Z
LAST-MODIFIED:20260311T183953Z
UID:10002072-1754827200-1754830800@emmanuelunited.com
SUMMARY:Sip-n-Talk
DESCRIPTION:Join us for coffee and fellowship after worship each week. Meet new friends\, catch up with old\, and enjoy some snacks.
URL:https://emmanuelunited.com/event/sip-n-talk/2025-08-10/
LOCATION:Emmanuel UC\, 420 Balmoral Drive\, Brampton\, Ontario\, Canada
CATEGORIES:Fellowship
ATTACH;FMTTYPE=image/jpeg:https://emmanuelunited.com/wp-content/uploads/2025/05/coffee-cup-and-beans-George-Hodan-CC0-e1746638839684.jpg
END:VEVENT
BEGIN:VEVENT
DTSTART;TZID=America/Toronto:20250813T133000
DTEND;TZID=America/Toronto:20250813T143000
DTSTAMP:20260425T112034
CREATED:20240830T174957Z
LAST-MODIFIED:20250506T194226Z
UID:10000993-1755091800-1755095400@emmanuelunited.com
SUMMARY:Deeper Dive
DESCRIPTION:Join Rev’d Tom on for an opportunity to look a little deeper at the weekly message. ​ \nAll are welcome.
URL:https://emmanuelunited.com/event/deeper-dive-3/2025-08-13/
LOCATION:Emmanuel UC\, 420 Balmoral Drive\, Brampton\, Ontario\, Canada
CATEGORIES:Discipleship
ATTACH;FMTTYPE=image/jpeg:https://emmanuelunited.com/wp-content/uploads/2024/04/book-wisdom-mohamed-mahmoud-hassan-CC0-e1746560078172.jpg
END:VEVENT
BEGIN:VEVENT
DTSTART;TZID=America/Toronto:20250816T170000
DTEND;TZID=America/Toronto:20250816T210000
DTSTAMP:20260425T112034
CREATED:20250717T183043Z
LAST-MODIFIED:20250717T183339Z
UID:10002364-1755363600-1755378000@emmanuelunited.com
SUMMARY:Progressive Diner 2025
DESCRIPTION:Progressive Dinner – Mark Your Calendars!\nOn Saturday\, August 16th\, 2025 we will be having our annual Progressive Dinner. \n1. Starting at 5 PM for Appetizers at the Carruthers\n2. followed by the Main Course at 6 PM at the Thompsons\n3. followed by Dessert at 7:30 PM at the Aikman’s. \nThe sign up sheets for your pot luck dish as well as directions will be available at the church on Sunday after service. \nDon’t forget a lawn chair.\nHope to see you there!
URL:https://emmanuelunited.com/event/progressive-diner-2025/
LOCATION:Emmanuel UC\, 420 Balmoral Drive\, Brampton\, Ontario\, Canada
CATEGORIES:Community,Fellowship
ATTACH;FMTTYPE=image/jpeg:https://emmanuelunited.com/wp-content/uploads/2025/07/public-domain-pictures-CC0-Community.jpg
END:VEVENT
BEGIN:VEVENT
DTSTART;TZID=America/Toronto:20250817T110000
DTEND;TZID=America/Toronto:20250817T120000
DTSTAMP:20260425T112034
CREATED:20250506T192835Z
LAST-MODIFIED:20250507T193447Z
UID:10001812-1755428400-1755432000@emmanuelunited.com
SUMMARY:Sunday Worship
DESCRIPTION:Join us for worship each Sunday. Come as you are for an hour long service\, including music\, prayers\, and reflections. Children’s program provided September-June\, and there is always something for the young ones to do during worship.
URL:https://emmanuelunited.com/event/sunday-worship/2025-08-17/
LOCATION:Emmanuel UC\, 420 Balmoral Drive\, Brampton\, Ontario\, Canada
CATEGORIES:Worship
ATTACH;FMTTYPE=image/jpeg:https://emmanuelunited.com/wp-content/uploads/2025/05/326532972_1140884776571144_7440115511639422560_n.jpg
END:VEVENT
BEGIN:VEVENT
DTSTART;TZID=America/Toronto:20250817T120000
DTEND;TZID=America/Toronto:20250817T130000
DTSTAMP:20260425T112034
CREATED:20250506T193013Z
LAST-MODIFIED:20260311T183953Z
UID:10002073-1755432000-1755435600@emmanuelunited.com
SUMMARY:Sip-n-Talk
DESCRIPTION:Join us for coffee and fellowship after worship each week. Meet new friends\, catch up with old\, and enjoy some snacks.
URL:https://emmanuelunited.com/event/sip-n-talk/2025-08-17/
LOCATION:Emmanuel UC\, 420 Balmoral Drive\, Brampton\, Ontario\, Canada
CATEGORIES:Fellowship
ATTACH;FMTTYPE=image/jpeg:https://emmanuelunited.com/wp-content/uploads/2025/05/coffee-cup-and-beans-George-Hodan-CC0-e1746638839684.jpg
END:VEVENT
BEGIN:VEVENT
DTSTART;TZID=America/Toronto:20250820T133000
DTEND;TZID=America/Toronto:20250820T143000
DTSTAMP:20260425T112034
CREATED:20240830T174957Z
LAST-MODIFIED:20250506T194226Z
UID:10000994-1755696600-1755700200@emmanuelunited.com
SUMMARY:Deeper Dive
DESCRIPTION:Join Rev’d Tom on for an opportunity to look a little deeper at the weekly message. ​ \nAll are welcome.
URL:https://emmanuelunited.com/event/deeper-dive-3/2025-08-20/
LOCATION:Emmanuel UC\, 420 Balmoral Drive\, Brampton\, Ontario\, Canada
CATEGORIES:Discipleship
ATTACH;FMTTYPE=image/jpeg:https://emmanuelunited.com/wp-content/uploads/2024/04/book-wisdom-mohamed-mahmoud-hassan-CC0-e1746560078172.jpg
END:VEVENT
BEGIN:VEVENT
DTSTART;TZID=America/Toronto:20250824T110000
DTEND;TZID=America/Toronto:20250824T120000
DTSTAMP:20260425T112034
CREATED:20250506T192835Z
LAST-MODIFIED:20250507T193447Z
UID:10001813-1756033200-1756036800@emmanuelunited.com
SUMMARY:Sunday Worship
DESCRIPTION:Join us for worship each Sunday. Come as you are for an hour long service\, including music\, prayers\, and reflections. Children’s program provided September-June\, and there is always something for the young ones to do during worship.
URL:https://emmanuelunited.com/event/sunday-worship/2025-08-24/
LOCATION:Emmanuel UC\, 420 Balmoral Drive\, Brampton\, Ontario\, Canada
CATEGORIES:Worship
ATTACH;FMTTYPE=image/jpeg:https://emmanuelunited.com/wp-content/uploads/2025/05/326532972_1140884776571144_7440115511639422560_n.jpg
END:VEVENT
BEGIN:VEVENT
DTSTART;TZID=America/Toronto:20250824T110000
DTEND;TZID=America/Toronto:20250824T130000
DTSTAMP:20260425T112034
CREATED:20250807T163835Z
LAST-MODIFIED:20250807T163939Z
UID:10002365-1756033200-1756040400@emmanuelunited.com
SUMMARY:Back-Pack Blessing
DESCRIPTION:For Children’s Time on August 24th\, we will be blessing the backpacks of all students\, teachers\, and other school staff for the new school year. \nRSVP to office@emmanuelunited.com to reserve backpack tags!
URL:https://emmanuelunited.com/event/back-pack-blessing/
LOCATION:Emmanuel UC\, 420 Balmoral Drive\, Brampton\, Ontario\, Canada
CATEGORIES:Community,Fellowship
ATTACH;FMTTYPE=image/jpeg:https://emmanuelunited.com/wp-content/uploads/2025/08/backpack-flowers-1727793552EVX-e1754584762607.jpg
END:VEVENT
BEGIN:VEVENT
DTSTART;TZID=America/Toronto:20250824T120000
DTEND;TZID=America/Toronto:20250824T130000
DTSTAMP:20260425T112034
CREATED:20250506T193013Z
LAST-MODIFIED:20260311T183953Z
UID:10002074-1756036800-1756040400@emmanuelunited.com
SUMMARY:Sip-n-Talk
DESCRIPTION:Join us for coffee and fellowship after worship each week. Meet new friends\, catch up with old\, and enjoy some snacks.
URL:https://emmanuelunited.com/event/sip-n-talk/2025-08-24/
LOCATION:Emmanuel UC\, 420 Balmoral Drive\, Brampton\, Ontario\, Canada
CATEGORIES:Fellowship
ATTACH;FMTTYPE=image/jpeg:https://emmanuelunited.com/wp-content/uploads/2025/05/coffee-cup-and-beans-George-Hodan-CC0-e1746638839684.jpg
END:VEVENT
BEGIN:VEVENT
DTSTART;TZID=America/Toronto:20250826T103000
DTEND;TZID=America/Toronto:20250826T120000
DTSTAMP:20260425T112034
CREATED:20241002T181645Z
LAST-MODIFIED:20250507T170851Z
UID:10001273-1756204200-1756209600@emmanuelunited.com
SUMMARY:Mid-Week Sip-N-Talk
DESCRIPTION:Mid-Week Sip-N-Talk \nJoin us for Mid-Week Sip-n-Talk for some monthly social time! Everyone’s invited\, bring a friend or neighbors. \nAlways held on the last Tuesday of each month at 10:30 AM.\nPlease join us for an enjoyable time of fellowship and light refreshment.
URL:https://emmanuelunited.com/event/mid-week-sip-n-talk-3/2025-08-26/
LOCATION:Emmanuel UC\, 420 Balmoral Drive\, Brampton\, Ontario\, Canada
CATEGORIES:Fellowship
ATTACH;FMTTYPE=image/jpeg:https://emmanuelunited.com/wp-content/uploads/2024/02/hot-latte-coffee-with-hearts-Ian-L-CC0-e1746637718193.jpg
END:VEVENT
BEGIN:VEVENT
DTSTART;TZID=America/Toronto:20250827T133000
DTEND;TZID=America/Toronto:20250827T143000
DTSTAMP:20260425T112034
CREATED:20240830T174957Z
LAST-MODIFIED:20250506T194226Z
UID:10000995-1756301400-1756305000@emmanuelunited.com
SUMMARY:Deeper Dive
DESCRIPTION:Join Rev’d Tom on for an opportunity to look a little deeper at the weekly message. ​ \nAll are welcome.
URL:https://emmanuelunited.com/event/deeper-dive-3/2025-08-27/
LOCATION:Emmanuel UC\, 420 Balmoral Drive\, Brampton\, Ontario\, Canada
CATEGORIES:Discipleship
ATTACH;FMTTYPE=image/jpeg:https://emmanuelunited.com/wp-content/uploads/2024/04/book-wisdom-mohamed-mahmoud-hassan-CC0-e1746560078172.jpg
END:VEVENT
BEGIN:VEVENT
DTSTART;TZID=America/Toronto:20250831T110000
DTEND;TZID=America/Toronto:20250831T120000
DTSTAMP:20260425T112034
CREATED:20250506T192835Z
LAST-MODIFIED:20250507T193447Z
UID:10001814-1756638000-1756641600@emmanuelunited.com
SUMMARY:Sunday Worship
DESCRIPTION:Join us for worship each Sunday. Come as you are for an hour long service\, including music\, prayers\, and reflections. Children’s program provided September-June\, and there is always something for the young ones to do during worship.
URL:https://emmanuelunited.com/event/sunday-worship/2025-08-31/
LOCATION:Emmanuel UC\, 420 Balmoral Drive\, Brampton\, Ontario\, Canada
CATEGORIES:Worship
ATTACH;FMTTYPE=image/jpeg:https://emmanuelunited.com/wp-content/uploads/2025/05/326532972_1140884776571144_7440115511639422560_n.jpg
END:VEVENT
BEGIN:VEVENT
DTSTART;TZID=America/Toronto:20250831T120000
DTEND;TZID=America/Toronto:20250831T130000
DTSTAMP:20260425T112034
CREATED:20250506T193013Z
LAST-MODIFIED:20260311T183953Z
UID:10002075-1756641600-1756645200@emmanuelunited.com
SUMMARY:Sip-n-Talk
DESCRIPTION:Join us for coffee and fellowship after worship each week. Meet new friends\, catch up with old\, and enjoy some snacks.
URL:https://emmanuelunited.com/event/sip-n-talk/2025-08-31/
LOCATION:Emmanuel UC\, 420 Balmoral Drive\, Brampton\, Ontario\, Canada
CATEGORIES:Fellowship
ATTACH;FMTTYPE=image/jpeg:https://emmanuelunited.com/wp-content/uploads/2025/05/coffee-cup-and-beans-George-Hodan-CC0-e1746638839684.jpg
END:VEVENT
BEGIN:VEVENT
DTSTART;TZID=America/Toronto:20250903T133000
DTEND;TZID=America/Toronto:20250903T143000
DTSTAMP:20260425T112034
CREATED:20240830T174957Z
LAST-MODIFIED:20250506T194226Z
UID:10000996-1756906200-1756909800@emmanuelunited.com
SUMMARY:Deeper Dive
DESCRIPTION:Join Rev’d Tom on for an opportunity to look a little deeper at the weekly message. ​ \nAll are welcome.
URL:https://emmanuelunited.com/event/deeper-dive-3/2025-09-03/
LOCATION:Emmanuel UC\, 420 Balmoral Drive\, Brampton\, Ontario\, Canada
CATEGORIES:Discipleship
ATTACH;FMTTYPE=image/jpeg:https://emmanuelunited.com/wp-content/uploads/2024/04/book-wisdom-mohamed-mahmoud-hassan-CC0-e1746560078172.jpg
END:VEVENT
BEGIN:VEVENT
DTSTART;TZID=America/Toronto:20250907T110000
DTEND;TZID=America/Toronto:20250907T120000
DTSTAMP:20260425T112034
CREATED:20250506T192835Z
LAST-MODIFIED:20250507T193447Z
UID:10001815-1757242800-1757246400@emmanuelunited.com
SUMMARY:Sunday Worship
DESCRIPTION:Join us for worship each Sunday. Come as you are for an hour long service\, including music\, prayers\, and reflections. Children’s program provided September-June\, and there is always something for the young ones to do during worship.
URL:https://emmanuelunited.com/event/sunday-worship/2025-09-07/
LOCATION:Emmanuel UC\, 420 Balmoral Drive\, Brampton\, Ontario\, Canada
CATEGORIES:Worship
ATTACH;FMTTYPE=image/jpeg:https://emmanuelunited.com/wp-content/uploads/2025/05/326532972_1140884776571144_7440115511639422560_n.jpg
END:VEVENT
BEGIN:VEVENT
DTSTART;TZID=America/Toronto:20250907T120000
DTEND;TZID=America/Toronto:20250907T130000
DTSTAMP:20260425T112034
CREATED:20250506T193013Z
LAST-MODIFIED:20260311T183953Z
UID:10002076-1757246400-1757250000@emmanuelunited.com
SUMMARY:Sip-n-Talk
DESCRIPTION:Join us for coffee and fellowship after worship each week. Meet new friends\, catch up with old\, and enjoy some snacks.
URL:https://emmanuelunited.com/event/sip-n-talk/2025-09-07/
LOCATION:Emmanuel UC\, 420 Balmoral Drive\, Brampton\, Ontario\, Canada
CATEGORIES:Fellowship
ATTACH;FMTTYPE=image/jpeg:https://emmanuelunited.com/wp-content/uploads/2025/05/coffee-cup-and-beans-George-Hodan-CC0-e1746638839684.jpg
END:VEVENT
BEGIN:VEVENT
DTSTART;TZID=America/Toronto:20250910T133000
DTEND;TZID=America/Toronto:20250910T143000
DTSTAMP:20260425T112034
CREATED:20240830T174957Z
LAST-MODIFIED:20250506T194226Z
UID:10000997-1757511000-1757514600@emmanuelunited.com
SUMMARY:Deeper Dive
DESCRIPTION:Join Rev’d Tom on for an opportunity to look a little deeper at the weekly message. ​ \nAll are welcome.
URL:https://emmanuelunited.com/event/deeper-dive-3/2025-09-10/
LOCATION:Emmanuel UC\, 420 Balmoral Drive\, Brampton\, Ontario\, Canada
CATEGORIES:Discipleship
ATTACH;FMTTYPE=image/jpeg:https://emmanuelunited.com/wp-content/uploads/2024/04/book-wisdom-mohamed-mahmoud-hassan-CC0-e1746560078172.jpg
END:VEVENT
BEGIN:VEVENT
DTSTART;TZID=America/Toronto:20250914T110000
DTEND;TZID=America/Toronto:20250914T120000
DTSTAMP:20260425T112034
CREATED:20250506T192835Z
LAST-MODIFIED:20250507T193447Z
UID:10001816-1757847600-1757851200@emmanuelunited.com
SUMMARY:Sunday Worship
DESCRIPTION:Join us for worship each Sunday. Come as you are for an hour long service\, including music\, prayers\, and reflections. Children’s program provided September-June\, and there is always something for the young ones to do during worship.
URL:https://emmanuelunited.com/event/sunday-worship/2025-09-14/
LOCATION:Emmanuel UC\, 420 Balmoral Drive\, Brampton\, Ontario\, Canada
CATEGORIES:Worship
ATTACH;FMTTYPE=image/jpeg:https://emmanuelunited.com/wp-content/uploads/2025/05/326532972_1140884776571144_7440115511639422560_n.jpg
END:VEVENT
BEGIN:VEVENT
DTSTART;TZID=America/Toronto:20250914T120000
DTEND;TZID=America/Toronto:20250914T130000
DTSTAMP:20260425T112034
CREATED:20250506T193013Z
LAST-MODIFIED:20260311T183953Z
UID:10002077-1757851200-1757854800@emmanuelunited.com
SUMMARY:Sip-n-Talk
DESCRIPTION:Join us for coffee and fellowship after worship each week. Meet new friends\, catch up with old\, and enjoy some snacks.
URL:https://emmanuelunited.com/event/sip-n-talk/2025-09-14/
LOCATION:Emmanuel UC\, 420 Balmoral Drive\, Brampton\, Ontario\, Canada
CATEGORIES:Fellowship
ATTACH;FMTTYPE=image/jpeg:https://emmanuelunited.com/wp-content/uploads/2025/05/coffee-cup-and-beans-George-Hodan-CC0-e1746638839684.jpg
END:VEVENT
BEGIN:VEVENT
DTSTART;TZID=America/Toronto:20250917T133000
DTEND;TZID=America/Toronto:20250917T143000
DTSTAMP:20260425T112034
CREATED:20250910T145921Z
LAST-MODIFIED:20260304T160851Z
UID:10000998-1758115800-1758119400@emmanuelunited.com
SUMMARY:Deeper Dive
DESCRIPTION:
URL:https://emmanuelunited.com/event/deeper-dive-3-2/2025-09-17/
LOCATION:Emmanuel UC\, 420 Balmoral Drive\, Brampton\, Ontario\, Canada
CATEGORIES:Discipleship
ATTACH;FMTTYPE=image/jpeg:https://emmanuelunited.com/wp-content/uploads/2024/04/book-wisdom-mohamed-mahmoud-hassan-CC0-e1746560078172.jpg
END:VEVENT
BEGIN:VEVENT
DTSTART;TZID=America/Toronto:20250921T110000
DTEND;TZID=America/Toronto:20250921T120000
DTSTAMP:20260425T112034
CREATED:20250506T192835Z
LAST-MODIFIED:20250507T193447Z
UID:10001817-1758452400-1758456000@emmanuelunited.com
SUMMARY:Sunday Worship
DESCRIPTION:Join us for worship each Sunday. Come as you are for an hour long service\, including music\, prayers\, and reflections. Children’s program provided September-June\, and there is always something for the young ones to do during worship.
URL:https://emmanuelunited.com/event/sunday-worship/2025-09-21/
LOCATION:Emmanuel UC\, 420 Balmoral Drive\, Brampton\, Ontario\, Canada
CATEGORIES:Worship
ATTACH;FMTTYPE=image/jpeg:https://emmanuelunited.com/wp-content/uploads/2025/05/326532972_1140884776571144_7440115511639422560_n.jpg
END:VEVENT
BEGIN:VEVENT
DTSTART;TZID=America/Toronto:20250921T120000
DTEND;TZID=America/Toronto:20250921T130000
DTSTAMP:20260425T112034
CREATED:20250506T193013Z
LAST-MODIFIED:20260311T183953Z
UID:10002078-1758456000-1758459600@emmanuelunited.com
SUMMARY:Sip-n-Talk
DESCRIPTION:Join us for coffee and fellowship after worship each week. Meet new friends\, catch up with old\, and enjoy some snacks.
URL:https://emmanuelunited.com/event/sip-n-talk/2025-09-21/
LOCATION:Emmanuel UC\, 420 Balmoral Drive\, Brampton\, Ontario\, Canada
CATEGORIES:Fellowship
ATTACH;FMTTYPE=image/jpeg:https://emmanuelunited.com/wp-content/uploads/2025/05/coffee-cup-and-beans-George-Hodan-CC0-e1746638839684.jpg
END:VEVENT
BEGIN:VEVENT
DTSTART;TZID=America/Toronto:20250921T120000
DTEND;TZID=America/Toronto:20250921T133000
DTSTAMP:20260425T112034
CREATED:20250910T151150Z
LAST-MODIFIED:20260402T192031Z
UID:10002385-1758456000-1758461400@emmanuelunited.com
SUMMARY:Soup-N-Sip
DESCRIPTION:We are introducing Soup-N-Sip\, a monthly social event to meet for hot soup and warm conversation.  \nWe will meet once a month. Everyone is invited\, bring any friends interested! \nWe hope to make this a social – success\, please invite anyone interested!
URL:https://emmanuelunited.com/event/soup-n-sip/2025-09-21/
LOCATION:Emmanuel UC\, 420 Balmoral Drive\, Brampton\, Ontario\, Canada
CATEGORIES:Community,Fellowship
ATTACH;FMTTYPE=image/jpeg:https://emmanuelunited.com/wp-content/uploads/2025/09/image-1621072803o8c-1-e1757517195618.jpg
END:VEVENT
END:VCALENDAR