BEGIN:VCALENDAR
VERSION:2.0
PRODID:-//Emmanuel United Church, Brampton - ECPv6.15.20//NONSGML v1.0//EN
CALSCALE:GREGORIAN
METHOD:PUBLISH
X-ORIGINAL-URL:https://emmanuelunited.com
X-WR-CALDESC:Events for Emmanuel United Church, Brampton
REFRESH-INTERVAL;VALUE=DURATION:PT1H
X-Robots-Tag:noindex
X-PUBLISHED-TTL:PT1H
BEGIN:VTIMEZONE
TZID:America/Toronto
BEGIN:DAYLIGHT
TZOFFSETFROM:-0500
TZOFFSETTO:-0400
TZNAME:EDT
DTSTART:20230312T070000
END:DAYLIGHT
BEGIN:STANDARD
TZOFFSETFROM:-0400
TZOFFSETTO:-0500
TZNAME:EST
DTSTART:20231105T060000
END:STANDARD
BEGIN:DAYLIGHT
TZOFFSETFROM:-0500
TZOFFSETTO:-0400
TZNAME:EDT
DTSTART:20240310T070000
END:DAYLIGHT
BEGIN:STANDARD
TZOFFSETFROM:-0400
TZOFFSETTO:-0500
TZNAME:EST
DTSTART:20241103T060000
END:STANDARD
BEGIN:DAYLIGHT
TZOFFSETFROM:-0500
TZOFFSETTO:-0400
TZNAME:EDT
DTSTART:20250309T070000
END:DAYLIGHT
BEGIN:STANDARD
TZOFFSETFROM:-0400
TZOFFSETTO:-0500
TZNAME:EST
DTSTART:20251102T060000
END:STANDARD
BEGIN:DAYLIGHT
TZOFFSETFROM:-0500
TZOFFSETTO:-0400
TZNAME:EDT
DTSTART:20260308T070000
END:DAYLIGHT
BEGIN:STANDARD
TZOFFSETFROM:-0400
TZOFFSETTO:-0500
TZNAME:EST
DTSTART:20261101T060000
END:STANDARD
END:VTIMEZONE
BEGIN:VEVENT
DTSTART;TZID=America/Toronto:20241116T100000
DTEND;TZID=America/Toronto:20241116T130000
DTSTAMP:20260425T093709
CREATED:20240905T170809Z
LAST-MODIFIED:20241116T133409Z
UID:10001207-1731751200-1731762000@emmanuelunited.com
SUMMARY:Christmas Bazar - TODAY!
DESCRIPTION:We will be hosting our annual Christmas Bazar on November 16th 2024\nJoin us today for: \n\nGently used children’s toys\nGames\nBooks\nPuzzles\nGently used decorations\nDishes\nHousehold items\nJewelry\nVisit our county lunch buffet for Soups\, sandwiches and baked treats!
URL:https://emmanuelunited.com/event/christmas-bazar-save-the-date/
LOCATION:Emmanuel UC\, 420 Balmoral Drive\, Brampton\, Ontario\, Canada
CATEGORIES:Fellowship
ATTACH;FMTTYPE=image/jpeg:https://emmanuelunited.com/wp-content/uploads/2024/09/christmas-shop-Vera-Kratochvil-CC0.jpg
END:VEVENT
BEGIN:VEVENT
DTSTART;TZID=America/Toronto:20241116T100000
DTEND;TZID=America/Toronto:20241116T130000
DTSTAMP:20260425T093709
CREATED:20240905T170809Z
LAST-MODIFIED:20240905T170809Z
UID:10001715-1731751200-1731762000@emmanuelunited.com
SUMMARY:Christmas Bazar - TODAY!
DESCRIPTION:We will be hosting our annual Christmas Bazar on November 16th 2024\nJoin us today for: \n\nGently used children’s toys\nGames\nBooks\nPuzzles\nGently used decorations\nDishes\nHousehold items\nJewelry\nVisit our county lunch buffet for Soups\, sandwiches and baked treats!
URL:https://emmanuelunited.com/event/christmas-bazar-save-the-date-2/
LOCATION:Emmanuel UC\, 420 Balmoral Drive\, Brampton\, Ontario\, Canada
CATEGORIES:Fellowship
ATTACH;FMTTYPE=image/jpeg:https://emmanuelunited.com/wp-content/uploads/2024/09/christmas-shop-Vera-Kratochvil-CC0.jpg
END:VEVENT
BEGIN:VEVENT
DTSTART;TZID=America/Toronto:20241120T133000
DTEND;TZID=America/Toronto:20241120T143000
DTSTAMP:20260425T093709
CREATED:20240830T174957Z
LAST-MODIFIED:20250506T194226Z
UID:10000955-1732109400-1732113000@emmanuelunited.com
SUMMARY:Deeper Dive
DESCRIPTION:Join Rev’d Tom on for an opportunity to look a little deeper at the weekly message. ​ \nAll are welcome.
URL:https://emmanuelunited.com/event/deeper-dive-3/2024-11-20/
LOCATION:Emmanuel UC\, 420 Balmoral Drive\, Brampton\, Ontario\, Canada
CATEGORIES:Discipleship
ATTACH;FMTTYPE=image/jpeg:https://emmanuelunited.com/wp-content/uploads/2024/04/book-wisdom-mohamed-mahmoud-hassan-CC0-e1746560078172.jpg
END:VEVENT
BEGIN:VEVENT
DTSTART;TZID=America/Toronto:20241126T103000
DTEND;TZID=America/Toronto:20241126T120000
DTSTAMP:20260425T093709
CREATED:20241002T181645Z
LAST-MODIFIED:20250507T170851Z
UID:10001264-1732617000-1732622400@emmanuelunited.com
SUMMARY:Mid-Week Sip-N-Talk
DESCRIPTION:Mid-Week Sip-N-Talk \nJoin us for Mid-Week Sip-n-Talk for some monthly social time! Everyone’s invited\, bring a friend or neighbors. \nAlways held on the last Tuesday of each month at 10:30 AM.\nPlease join us for an enjoyable time of fellowship and light refreshment.
URL:https://emmanuelunited.com/event/mid-week-sip-n-talk-3/2024-11-26/
LOCATION:Emmanuel UC\, 420 Balmoral Drive\, Brampton\, Ontario\, Canada
CATEGORIES:Fellowship
ATTACH;FMTTYPE=image/jpeg:https://emmanuelunited.com/wp-content/uploads/2024/02/hot-latte-coffee-with-hearts-Ian-L-CC0-e1746637718193.jpg
END:VEVENT
BEGIN:VEVENT
DTSTART;TZID=America/Toronto:20241127T133000
DTEND;TZID=America/Toronto:20241127T143000
DTSTAMP:20260425T093709
CREATED:20240830T174957Z
LAST-MODIFIED:20250506T194226Z
UID:10000956-1732714200-1732717800@emmanuelunited.com
SUMMARY:Deeper Dive
DESCRIPTION:Join Rev’d Tom on for an opportunity to look a little deeper at the weekly message. ​ \nAll are welcome.
URL:https://emmanuelunited.com/event/deeper-dive-3/2024-11-27/
LOCATION:Emmanuel UC\, 420 Balmoral Drive\, Brampton\, Ontario\, Canada
CATEGORIES:Discipleship
ATTACH;FMTTYPE=image/jpeg:https://emmanuelunited.com/wp-content/uploads/2024/04/book-wisdom-mohamed-mahmoud-hassan-CC0-e1746560078172.jpg
END:VEVENT
BEGIN:VEVENT
DTSTART;TZID=America/Toronto:20241128T100000
DTEND;TZID=America/Toronto:20241128T110000
DTSTAMP:20260425T093709
CREATED:20241121T144822Z
LAST-MODIFIED:20241121T144822Z
UID:10001785-1732788000-1732791600@emmanuelunited.com
SUMMARY:Christmas Decorating
DESCRIPTION:Join us as we decorate the church for our upcoming advent season! Enjoy a day of fellowship as we have fun decorating for the Christmas festivities!
URL:https://emmanuelunited.com/event/christmas-decorating-2/
LOCATION:Emmanuel UC\, 420 Balmoral Drive\, Brampton\, Ontario\, Canada
CATEGORIES:Discipleship,Fellowship
ATTACH;FMTTYPE=image/jpeg:https://emmanuelunited.com/wp-content/uploads/2024/11/when-to-put-up-christmas-tree-1-1665779714.jpg
END:VEVENT
BEGIN:VEVENT
DTSTART;TZID=America/Toronto:20241128T100000
DTEND;TZID=America/Toronto:20241128T110000
DTSTAMP:20260425T093709
CREATED:20241121T144822Z
LAST-MODIFIED:20241121T145118Z
UID:10001323-1732788000-1732791600@emmanuelunited.com
SUMMARY:Christmas Decorating
DESCRIPTION:Join us as we decorate the church for our upcoming advent season! Enjoy a day of fellowship as we have fun decorating for the Christmas festivities!
URL:https://emmanuelunited.com/event/christmas-decorating/
LOCATION:Emmanuel UC\, 420 Balmoral Drive\, Brampton\, Ontario\, Canada
CATEGORIES:Discipleship,Fellowship
ATTACH;FMTTYPE=image/jpeg:https://emmanuelunited.com/wp-content/uploads/2024/11/when-to-put-up-christmas-tree-1-1665779714.jpg
END:VEVENT
BEGIN:VEVENT
DTSTART;TZID=America/Toronto:20241204T133000
DTEND;TZID=America/Toronto:20241204T143000
DTSTAMP:20260425T093709
CREATED:20240830T174957Z
LAST-MODIFIED:20250506T194226Z
UID:10000957-1733319000-1733322600@emmanuelunited.com
SUMMARY:Deeper Dive
DESCRIPTION:Join Rev’d Tom on for an opportunity to look a little deeper at the weekly message. ​ \nAll are welcome.
URL:https://emmanuelunited.com/event/deeper-dive-3/2024-12-04/
LOCATION:Emmanuel UC\, 420 Balmoral Drive\, Brampton\, Ontario\, Canada
CATEGORIES:Discipleship
ATTACH;FMTTYPE=image/jpeg:https://emmanuelunited.com/wp-content/uploads/2024/04/book-wisdom-mohamed-mahmoud-hassan-CC0-e1746560078172.jpg
END:VEVENT
BEGIN:VEVENT
DTSTART;TZID=America/Toronto:20241208T120000
DTEND;TZID=America/Toronto:20241208T130000
DTSTAMP:20260425T093709
CREATED:20241121T145833Z
LAST-MODIFIED:20241129T205414Z
UID:10001324-1733659200-1733662800@emmanuelunited.com
SUMMARY:Congregational Budget Meeting
DESCRIPTION:Join us immediately after worship for an important congregational budget meeting.\nWe will be voting on our 2025 budget\, if you wish to have input regarding the budget for the upcoming year! \nPlease find all necessary documents for the upcoming meeting available for print below: \nAgenda 2025 Congregational Budget Meeting \nAnnual Meeting Minutes April 21 2024 \nBudget_2025_ \nProfitandLoss_2024Q3 \nPrintable documents can be requested at Office@Emmanuelunited.com\nSimply let Stefanie know you wish to have a physical copy\, and they will be printed in preparation. \n  \n  \n  \n  \n  \n  \n  \n 
URL:https://emmanuelunited.com/event/congregational-budget-meeting/
LOCATION:Emmanuel UC\, 420 Balmoral Drive\, Brampton\, Ontario\, Canada
ATTACH;FMTTYPE=image/jpeg:https://emmanuelunited.com/wp-content/uploads/2024/11/woman-speaking-to-audience-Circe-Denyer-CC0.jpg
END:VEVENT
BEGIN:VEVENT
DTSTART;TZID=America/Toronto:20241208T120000
DTEND;TZID=America/Toronto:20241208T130000
DTSTAMP:20260425T093709
CREATED:20241121T145833Z
LAST-MODIFIED:20241121T145833Z
UID:10001786-1733659200-1733662800@emmanuelunited.com
SUMMARY:Congregational Budget Meeting
DESCRIPTION:Join us immediately after worship for an important congregational budget meeting.\nWe will be voting on our 2025 budget\, if you wish to have input regarding the budget for the upcoming year! \nPlease find all necessary documents for the upcoming meeting available for print below: \nAgenda 2025 Congregational Budget Meeting \nAnnual Meeting Minutes April 21 2024 \nBudget_2025_ \nProfitandLoss_2024Q3 \nPrintable documents can be requested at Office@Emmanuelunited.com\nSimply let Stefanie know you wish to have a physical copy\, and they will be printed in preparation. \n  \n  \n  \n  \n  \n  \n  \n 
URL:https://emmanuelunited.com/event/congregational-budget-meeting-2/
LOCATION:Emmanuel UC\, 420 Balmoral Drive\, Brampton\, Ontario\, Canada
ATTACH;FMTTYPE=image/jpeg:https://emmanuelunited.com/wp-content/uploads/2024/11/woman-speaking-to-audience-Circe-Denyer-CC0.jpg
END:VEVENT
BEGIN:VEVENT
DTSTART;TZID=America/Toronto:20241211T133000
DTEND;TZID=America/Toronto:20241211T143000
DTSTAMP:20260425T093709
CREATED:20240830T174957Z
LAST-MODIFIED:20250506T194226Z
UID:10000958-1733923800-1733927400@emmanuelunited.com
SUMMARY:Deeper Dive
DESCRIPTION:Join Rev’d Tom on for an opportunity to look a little deeper at the weekly message. ​ \nAll are welcome.
URL:https://emmanuelunited.com/event/deeper-dive-3/2024-12-11/
LOCATION:Emmanuel UC\, 420 Balmoral Drive\, Brampton\, Ontario\, Canada
CATEGORIES:Discipleship
ATTACH;FMTTYPE=image/jpeg:https://emmanuelunited.com/wp-content/uploads/2024/04/book-wisdom-mohamed-mahmoud-hassan-CC0-e1746560078172.jpg
END:VEVENT
BEGIN:VEVENT
DTSTART;TZID=America/Toronto:20241218T133000
DTEND;TZID=America/Toronto:20241218T143000
DTSTAMP:20260425T093709
CREATED:20240830T174957Z
LAST-MODIFIED:20250506T194226Z
UID:10000959-1734528600-1734532200@emmanuelunited.com
SUMMARY:Deeper Dive
DESCRIPTION:Join Rev’d Tom on for an opportunity to look a little deeper at the weekly message. ​ \nAll are welcome.
URL:https://emmanuelunited.com/event/deeper-dive-3/2024-12-18/
LOCATION:Emmanuel UC\, 420 Balmoral Drive\, Brampton\, Ontario\, Canada
CATEGORIES:Discipleship
ATTACH;FMTTYPE=image/jpeg:https://emmanuelunited.com/wp-content/uploads/2024/04/book-wisdom-mohamed-mahmoud-hassan-CC0-e1746560078172.jpg
END:VEVENT
BEGIN:VEVENT
DTSTART;TZID=America/Toronto:20241225T133000
DTEND;TZID=America/Toronto:20241225T143000
DTSTAMP:20260425T093709
CREATED:20240830T174957Z
LAST-MODIFIED:20250506T194226Z
UID:10000960-1735133400-1735137000@emmanuelunited.com
SUMMARY:Deeper Dive
DESCRIPTION:Join Rev’d Tom on for an opportunity to look a little deeper at the weekly message. ​ \nAll are welcome.
URL:https://emmanuelunited.com/event/deeper-dive-3/2024-12-25/
LOCATION:Emmanuel UC\, 420 Balmoral Drive\, Brampton\, Ontario\, Canada
CATEGORIES:Discipleship
ATTACH;FMTTYPE=image/jpeg:https://emmanuelunited.com/wp-content/uploads/2024/04/book-wisdom-mohamed-mahmoud-hassan-CC0-e1746560078172.jpg
END:VEVENT
BEGIN:VEVENT
DTSTART;TZID=America/Toronto:20241231T103000
DTEND;TZID=America/Toronto:20241231T120000
DTSTAMP:20260425T093709
CREATED:20241002T181645Z
LAST-MODIFIED:20250507T170851Z
UID:10001265-1735641000-1735646400@emmanuelunited.com
SUMMARY:Mid-Week Sip-N-Talk
DESCRIPTION:Mid-Week Sip-N-Talk \nJoin us for Mid-Week Sip-n-Talk for some monthly social time! Everyone’s invited\, bring a friend or neighbors. \nAlways held on the last Tuesday of each month at 10:30 AM.\nPlease join us for an enjoyable time of fellowship and light refreshment.
URL:https://emmanuelunited.com/event/mid-week-sip-n-talk-3/2024-12-31/
LOCATION:Emmanuel UC\, 420 Balmoral Drive\, Brampton\, Ontario\, Canada
CATEGORIES:Fellowship
ATTACH;FMTTYPE=image/jpeg:https://emmanuelunited.com/wp-content/uploads/2024/02/hot-latte-coffee-with-hearts-Ian-L-CC0-e1746637718193.jpg
END:VEVENT
BEGIN:VEVENT
DTSTART;TZID=America/Toronto:20250101T133000
DTEND;TZID=America/Toronto:20250101T143000
DTSTAMP:20260425T093709
CREATED:20240830T174957Z
LAST-MODIFIED:20250506T194226Z
UID:10000961-1735738200-1735741800@emmanuelunited.com
SUMMARY:Deeper Dive
DESCRIPTION:Join Rev’d Tom on for an opportunity to look a little deeper at the weekly message. ​ \nAll are welcome.
URL:https://emmanuelunited.com/event/deeper-dive-3/2025-01-01/
LOCATION:Emmanuel UC\, 420 Balmoral Drive\, Brampton\, Ontario\, Canada
CATEGORIES:Discipleship
ATTACH;FMTTYPE=image/jpeg:https://emmanuelunited.com/wp-content/uploads/2024/04/book-wisdom-mohamed-mahmoud-hassan-CC0-e1746560078172.jpg
END:VEVENT
BEGIN:VEVENT
DTSTART;TZID=America/Toronto:20250108T133000
DTEND;TZID=America/Toronto:20250108T143000
DTSTAMP:20260425T093709
CREATED:20240830T174957Z
LAST-MODIFIED:20250506T194226Z
UID:10000962-1736343000-1736346600@emmanuelunited.com
SUMMARY:Deeper Dive
DESCRIPTION:Join Rev’d Tom on for an opportunity to look a little deeper at the weekly message. ​ \nAll are welcome.
URL:https://emmanuelunited.com/event/deeper-dive-3/2025-01-08/
LOCATION:Emmanuel UC\, 420 Balmoral Drive\, Brampton\, Ontario\, Canada
CATEGORIES:Discipleship
ATTACH;FMTTYPE=image/jpeg:https://emmanuelunited.com/wp-content/uploads/2024/04/book-wisdom-mohamed-mahmoud-hassan-CC0-e1746560078172.jpg
END:VEVENT
BEGIN:VEVENT
DTSTART;TZID=America/Toronto:20250115T133000
DTEND;TZID=America/Toronto:20250115T143000
DTSTAMP:20260425T093709
CREATED:20240830T174957Z
LAST-MODIFIED:20250506T194226Z
UID:10000963-1736947800-1736951400@emmanuelunited.com
SUMMARY:Deeper Dive
DESCRIPTION:Join Rev’d Tom on for an opportunity to look a little deeper at the weekly message. ​ \nAll are welcome.
URL:https://emmanuelunited.com/event/deeper-dive-3/2025-01-15/
LOCATION:Emmanuel UC\, 420 Balmoral Drive\, Brampton\, Ontario\, Canada
CATEGORIES:Discipleship
ATTACH;FMTTYPE=image/jpeg:https://emmanuelunited.com/wp-content/uploads/2024/04/book-wisdom-mohamed-mahmoud-hassan-CC0-e1746560078172.jpg
END:VEVENT
BEGIN:VEVENT
DTSTART;TZID=America/Toronto:20250119T120000
DTEND;TZID=America/Toronto:20250119T130000
DTSTAMP:20260425T093709
CREATED:20250116T165923Z
LAST-MODIFIED:20250116T165923Z
UID:10001790-1737288000-1737291600@emmanuelunited.com
SUMMARY:Soup Luncheon
DESCRIPTION:This Sunday\, January 19th\, 2025\, we will be having a soup lunch after worship (around 12-ish\, depending on how long the sermon is) for anyone present. At the lunch\, you will be invited to participate in a survey from Shining Waters Regional Council regarding regional priorities for the next few years. \nTo help prepare for this\, we’ve prepared a list of the priorities\, and a brief description of each\, available at the link below. There will be a brief presentation as you eat about the process\, with the opportunity for questions and answers. You will then be given 5 stickers to ‘vote’ for those priorities you think the regional council should focus on for immediate future. \nI’m looking forward to welcoming you to lunch after church this week. \n\nRegional Priorities List\n\nImage by ivabalk from Pixabay.
URL:https://emmanuelunited.com/event/soup-luncheon-2-2/
LOCATION:Emmanuel UC\, 420 Balmoral Drive\, Brampton\, Ontario\, Canada
CATEGORIES:Governance
ATTACH;FMTTYPE=image/jpeg:https://emmanuelunited.com/wp-content/uploads/2025/01/goulash-4014661_640.jpg
END:VEVENT
BEGIN:VEVENT
DTSTART;TZID=America/Toronto:20250119T120000
DTEND;TZID=America/Toronto:20250119T130000
DTSTAMP:20260425T093709
CREATED:20250116T165923Z
LAST-MODIFIED:20250116T170014Z
UID:10001328-1737288000-1737291600@emmanuelunited.com
SUMMARY:Soup Luncheon
DESCRIPTION:This Sunday\, January 19th\, 2025\, we will be having a soup lunch after worship (around 12-ish\, depending on how long the sermon is) for anyone present. At the lunch\, you will be invited to participate in a survey from Shining Waters Regional Council regarding regional priorities for the next few years. \nTo help prepare for this\, we’ve prepared a list of the priorities\, and a brief description of each\, available at the link below. There will be a brief presentation as you eat about the process\, with the opportunity for questions and answers. You will then be given 5 stickers to ‘vote’ for those priorities you think the regional council should focus on for immediate future. \nI’m looking forward to welcoming you to lunch after church this week. \n\nRegional Priorities List\n\nImage by ivabalk from Pixabay.
URL:https://emmanuelunited.com/event/soup-luncheon-2/
LOCATION:Emmanuel UC\, 420 Balmoral Drive\, Brampton\, Ontario\, Canada
CATEGORIES:Governance
ATTACH;FMTTYPE=image/jpeg:https://emmanuelunited.com/wp-content/uploads/2025/01/goulash-4014661_640.jpg
END:VEVENT
BEGIN:VEVENT
DTSTART;TZID=America/Toronto:20250119T120000
DTEND;TZID=America/Toronto:20250119T150000
DTSTAMP:20260425T093709
CREATED:20250108T181326Z
LAST-MODIFIED:20250108T181326Z
UID:10001787-1737288000-1737298800@emmanuelunited.com
SUMMARY:Annual Soup Luncheon
DESCRIPTION:We’re once again kicking off the year with a nice winter warm-up! Join us for our Soup Luncheon to be held after church on Sunday January 19th.\nPlease mark your calendars and bring some change since this is a free-will offering fundraiser for the general fund.  \nHope to see you there!
URL:https://emmanuelunited.com/event/annual-soup-luncheon-2/
LOCATION:Emmanuel UC\, 420 Balmoral Drive\, Brampton\, Ontario\, Canada
CATEGORIES:Fellowship
ATTACH;FMTTYPE=image/jpeg:https://emmanuelunited.com/wp-content/uploads/2025/01/Chicken-noodle-soup-FT-RECIPE0524-3e7cdb231b024b0b985b151fe0303d46.jpeg
END:VEVENT
BEGIN:VEVENT
DTSTART;TZID=America/Toronto:20250119T120000
DTEND;TZID=America/Toronto:20250119T150000
DTSTAMP:20260425T093709
CREATED:20250108T181326Z
LAST-MODIFIED:20250108T181326Z
UID:10001325-1737288000-1737298800@emmanuelunited.com
SUMMARY:Annual Soup Luncheon
DESCRIPTION:We’re once again kicking off the year with a nice winter warm-up! Join us for our Soup Luncheon to be held after church on Sunday January 19th.\nPlease mark your calendars and bring some change since this is a free-will offering fundraiser for the general fund.  \nHope to see you there!
URL:https://emmanuelunited.com/event/annual-soup-luncheon/
LOCATION:Emmanuel UC\, 420 Balmoral Drive\, Brampton\, Ontario\, Canada
CATEGORIES:Fellowship
ATTACH;FMTTYPE=image/jpeg:https://emmanuelunited.com/wp-content/uploads/2025/01/Chicken-noodle-soup-FT-RECIPE0524-3e7cdb231b024b0b985b151fe0303d46.jpeg
END:VEVENT
BEGIN:VEVENT
DTSTART;TZID=America/Toronto:20250122T133000
DTEND;TZID=America/Toronto:20250122T143000
DTSTAMP:20260425T093709
CREATED:20240830T174957Z
LAST-MODIFIED:20250506T194226Z
UID:10000964-1737552600-1737556200@emmanuelunited.com
SUMMARY:Deeper Dive
DESCRIPTION:Join Rev’d Tom on for an opportunity to look a little deeper at the weekly message. ​ \nAll are welcome.
URL:https://emmanuelunited.com/event/deeper-dive-3/2025-01-22/
LOCATION:Emmanuel UC\, 420 Balmoral Drive\, Brampton\, Ontario\, Canada
CATEGORIES:Discipleship
ATTACH;FMTTYPE=image/jpeg:https://emmanuelunited.com/wp-content/uploads/2024/04/book-wisdom-mohamed-mahmoud-hassan-CC0-e1746560078172.jpg
END:VEVENT
BEGIN:VEVENT
DTSTART;TZID=America/Toronto:20250125T110000
DTEND;TZID=America/Toronto:20250125T160000
DTSTAMP:20260425T093709
CREATED:20250108T184548Z
LAST-MODIFIED:20250108T184548Z
UID:10001789-1737802800-1737820800@emmanuelunited.com
SUMMARY:Woman's Day Celebration
DESCRIPTION:Save the date! Women’s day will be January 25th.  \nWith a celebration of a new year\, an introduction to chair yoga and the coming year of the tiger\, the day should be a lot of fun.   \nFollowed by a catered lunch by the Mandarin.   \nStay tuned for more information.\nVilia 
URL:https://emmanuelunited.com/event/womans-day-celebration-2/
LOCATION:Emmanuel UC\, 420 Balmoral Drive\, Brampton\, Ontario\, Canada
ATTACH;FMTTYPE=image/jpeg:https://emmanuelunited.com/wp-content/uploads/2025/01/womens-day-1708513158RM0.jpg
END:VEVENT
BEGIN:VEVENT
DTSTART;TZID=America/Toronto:20250125T110000
DTEND;TZID=America/Toronto:20250125T160000
DTSTAMP:20260425T093709
CREATED:20250108T184548Z
LAST-MODIFIED:20250108T184548Z
UID:10001327-1737802800-1737820800@emmanuelunited.com
SUMMARY:Woman's Day Celebration
DESCRIPTION:Save the date! Women’s day will be January 25th.  \nWith a celebration of a new year\, an introduction to chair yoga and the coming year of the tiger\, the day should be a lot of fun.   \nFollowed by a catered lunch by the Mandarin.   \nStay tuned for more information.\nVilia 
URL:https://emmanuelunited.com/event/womans-day-celebration/
LOCATION:Emmanuel UC\, 420 Balmoral Drive\, Brampton\, Ontario\, Canada
ATTACH;FMTTYPE=image/jpeg:https://emmanuelunited.com/wp-content/uploads/2025/01/womens-day-1708513158RM0.jpg
END:VEVENT
BEGIN:VEVENT
DTSTART;TZID=America/Toronto:20250128T103000
DTEND;TZID=America/Toronto:20250128T120000
DTSTAMP:20260425T093709
CREATED:20241002T181645Z
LAST-MODIFIED:20250507T170851Z
UID:10001266-1738060200-1738065600@emmanuelunited.com
SUMMARY:Mid-Week Sip-N-Talk
DESCRIPTION:Mid-Week Sip-N-Talk \nJoin us for Mid-Week Sip-n-Talk for some monthly social time! Everyone’s invited\, bring a friend or neighbors. \nAlways held on the last Tuesday of each month at 10:30 AM.\nPlease join us for an enjoyable time of fellowship and light refreshment.
URL:https://emmanuelunited.com/event/mid-week-sip-n-talk-3/2025-01-28/
LOCATION:Emmanuel UC\, 420 Balmoral Drive\, Brampton\, Ontario\, Canada
CATEGORIES:Fellowship
ATTACH;FMTTYPE=image/jpeg:https://emmanuelunited.com/wp-content/uploads/2024/02/hot-latte-coffee-with-hearts-Ian-L-CC0-e1746637718193.jpg
END:VEVENT
BEGIN:VEVENT
DTSTART;TZID=America/Toronto:20250129T133000
DTEND;TZID=America/Toronto:20250129T143000
DTSTAMP:20260425T093709
CREATED:20240830T174957Z
LAST-MODIFIED:20250506T194226Z
UID:10000965-1738157400-1738161000@emmanuelunited.com
SUMMARY:Deeper Dive
DESCRIPTION:Join Rev’d Tom on for an opportunity to look a little deeper at the weekly message. ​ \nAll are welcome.
URL:https://emmanuelunited.com/event/deeper-dive-3/2025-01-29/
LOCATION:Emmanuel UC\, 420 Balmoral Drive\, Brampton\, Ontario\, Canada
CATEGORIES:Discipleship
ATTACH;FMTTYPE=image/jpeg:https://emmanuelunited.com/wp-content/uploads/2024/04/book-wisdom-mohamed-mahmoud-hassan-CC0-e1746560078172.jpg
END:VEVENT
BEGIN:VEVENT
DTSTART;TZID=America/Toronto:20250205T133000
DTEND;TZID=America/Toronto:20250205T143000
DTSTAMP:20260425T093709
CREATED:20240830T174957Z
LAST-MODIFIED:20250506T194226Z
UID:10000966-1738762200-1738765800@emmanuelunited.com
SUMMARY:Deeper Dive
DESCRIPTION:Join Rev’d Tom on for an opportunity to look a little deeper at the weekly message. ​ \nAll are welcome.
URL:https://emmanuelunited.com/event/deeper-dive-3/2025-02-05/
LOCATION:Emmanuel UC\, 420 Balmoral Drive\, Brampton\, Ontario\, Canada
CATEGORIES:Discipleship
ATTACH;FMTTYPE=image/jpeg:https://emmanuelunited.com/wp-content/uploads/2024/04/book-wisdom-mohamed-mahmoud-hassan-CC0-e1746560078172.jpg
END:VEVENT
BEGIN:VEVENT
DTSTART;TZID=America/Toronto:20250208T130000
DTEND;TZID=America/Toronto:20250208T150000
DTSTAMP:20260425T093709
CREATED:20250108T182836Z
LAST-MODIFIED:20250108T182836Z
UID:10001788-1739019600-1739026800@emmanuelunited.com
SUMMARY:Annual Valentines Lunch
DESCRIPTION:Our annual Valentines Lunch will take place on February 8th\, presented by the Men’s Club \nJoin us for the perfect valentines date\, a delicious catered lunch\, shared in fellowship with other loving couples. \nTickets are $30.00 and can be purchased through Mario\, or from Stefanie in the office.
URL:https://emmanuelunited.com/event/annual-valentines-lunch-2/
LOCATION:Emmanuel UC\, 420 Balmoral Drive\, Brampton\, Ontario\, Canada
CATEGORIES:Fellowship
ATTACH;FMTTYPE=image/jpeg:https://emmanuelunited.com/wp-content/uploads/2025/01/get.jpg
END:VEVENT
BEGIN:VEVENT
DTSTART;TZID=America/Toronto:20250208T130000
DTEND;TZID=America/Toronto:20250208T150000
DTSTAMP:20260425T093709
CREATED:20250108T182836Z
LAST-MODIFIED:20250108T182836Z
UID:10001326-1739019600-1739026800@emmanuelunited.com
SUMMARY:Annual Valentines Lunch
DESCRIPTION:Our annual Valentines Lunch will take place on February 8th\, presented by the Men’s Club \nJoin us for the perfect valentines date\, a delicious catered lunch\, shared in fellowship with other loving couples. \nTickets are $30.00 and can be purchased through Mario\, or from Stefanie in the office.
URL:https://emmanuelunited.com/event/annual-valentines-lunch/
LOCATION:Emmanuel UC\, 420 Balmoral Drive\, Brampton\, Ontario\, Canada
CATEGORIES:Fellowship
ATTACH;FMTTYPE=image/jpeg:https://emmanuelunited.com/wp-content/uploads/2025/01/get.jpg
END:VEVENT
BEGIN:VEVENT
DTSTART;TZID=America/Toronto:20250212T133000
DTEND;TZID=America/Toronto:20250212T143000
DTSTAMP:20260425T093709
CREATED:20240830T174957Z
LAST-MODIFIED:20250506T194226Z
UID:10000967-1739367000-1739370600@emmanuelunited.com
SUMMARY:Deeper Dive
DESCRIPTION:Join Rev’d Tom on for an opportunity to look a little deeper at the weekly message. ​ \nAll are welcome.
URL:https://emmanuelunited.com/event/deeper-dive-3/2025-02-12/
LOCATION:Emmanuel UC\, 420 Balmoral Drive\, Brampton\, Ontario\, Canada
CATEGORIES:Discipleship
ATTACH;FMTTYPE=image/jpeg:https://emmanuelunited.com/wp-content/uploads/2024/04/book-wisdom-mohamed-mahmoud-hassan-CC0-e1746560078172.jpg
END:VEVENT
END:VCALENDAR