BEGIN:VCALENDAR
VERSION:2.0
PRODID:-//Emmanuel United Church, Brampton - ECPv6.15.20//NONSGML v1.0//EN
CALSCALE:GREGORIAN
METHOD:PUBLISH
X-ORIGINAL-URL:https://emmanuelunited.com
X-WR-CALDESC:Events for Emmanuel United Church, Brampton
REFRESH-INTERVAL;VALUE=DURATION:PT1H
X-Robots-Tag:noindex
X-PUBLISHED-TTL:PT1H
BEGIN:VTIMEZONE
TZID:America/Toronto
BEGIN:DAYLIGHT
TZOFFSETFROM:-0500
TZOFFSETTO:-0400
TZNAME:EDT
DTSTART:20260308T070000
END:DAYLIGHT
BEGIN:STANDARD
TZOFFSETFROM:-0400
TZOFFSETTO:-0500
TZNAME:EST
DTSTART:20261101T060000
END:STANDARD
BEGIN:DAYLIGHT
TZOFFSETFROM:-0500
TZOFFSETTO:-0400
TZNAME:EDT
DTSTART:20270314T070000
END:DAYLIGHT
BEGIN:STANDARD
TZOFFSETFROM:-0400
TZOFFSETTO:-0500
TZNAME:EST
DTSTART:20271107T060000
END:STANDARD
BEGIN:DAYLIGHT
TZOFFSETFROM:-0500
TZOFFSETTO:-0400
TZNAME:EDT
DTSTART:20280312T070000
END:DAYLIGHT
BEGIN:STANDARD
TZOFFSETFROM:-0400
TZOFFSETTO:-0500
TZNAME:EST
DTSTART:20281105T060000
END:STANDARD
END:VTIMEZONE
BEGIN:VEVENT
DTSTART;TZID=America/Toronto:20270210T133000
DTEND;TZID=America/Toronto:20270210T143000
DTSTAMP:20260425T070026
CREATED:20250910T145921Z
LAST-MODIFIED:20260304T160851Z
UID:10001071-1802266200-1802269800@emmanuelunited.com
SUMMARY:Deeper Dive
DESCRIPTION:
URL:https://emmanuelunited.com/event/deeper-dive-3-2/2027-02-10/
LOCATION:Emmanuel UC\, 420 Balmoral Drive\, Brampton\, Ontario\, Canada
CATEGORIES:Discipleship
ATTACH;FMTTYPE=image/jpeg:https://emmanuelunited.com/wp-content/uploads/2024/04/book-wisdom-mohamed-mahmoud-hassan-CC0-e1746560078172.jpg
END:VEVENT
BEGIN:VEVENT
DTSTART;TZID=America/Toronto:20270210T190000
DTEND;TZID=America/Toronto:20270210T210000
DTSTAMP:20260425T070026
CREATED:20260304T152657Z
LAST-MODIFIED:20260311T145640Z
UID:10002460-1802286000-1802293200@emmanuelunited.com
SUMMARY:WOW UCW Meeting
DESCRIPTION:
URL:https://emmanuelunited.com/event/wow-ucw-meeting/2027-02-10/
LOCATION:Emmanuel UC\, 420 Balmoral Drive\, Brampton\, Ontario\, Canada
CATEGORIES:Fellowship
END:VEVENT
BEGIN:VEVENT
DTSTART;TZID=America/Toronto:20270213T090000
DTEND;TZID=America/Toronto:20270213T110000
DTSTAMP:20260425T070026
CREATED:20260310T133113Z
LAST-MODIFIED:20260310T133147Z
UID:10002570-1802509200-1802516400@emmanuelunited.com
SUMMARY:Men's Club
DESCRIPTION:
URL:https://emmanuelunited.com/event/mens-club/2027-02-13/
LOCATION:Emmanuel UC\, 420 Balmoral Drive\, Brampton\, Ontario\, Canada
CATEGORIES:Community,Fellowship
END:VEVENT
BEGIN:VEVENT
DTSTART;TZID=America/Toronto:20270214T110000
DTEND;TZID=America/Toronto:20270214T120000
DTSTAMP:20260425T070026
CREATED:20250506T192835Z
LAST-MODIFIED:20250507T193447Z
UID:10001890-1802602800-1802606400@emmanuelunited.com
SUMMARY:Sunday Worship
DESCRIPTION:Join us for worship each Sunday. Come as you are for an hour long service\, including music\, prayers\, and reflections. Children’s program provided September-June\, and there is always something for the young ones to do during worship.
URL:https://emmanuelunited.com/event/sunday-worship/2027-02-14/
LOCATION:Emmanuel UC\, 420 Balmoral Drive\, Brampton\, Ontario\, Canada
CATEGORIES:Worship
ATTACH;FMTTYPE=image/jpeg:https://emmanuelunited.com/wp-content/uploads/2025/05/326532972_1140884776571144_7440115511639422560_n.jpg
END:VEVENT
BEGIN:VEVENT
DTSTART;TZID=America/Toronto:20270214T120000
DTEND;TZID=America/Toronto:20270214T130000
DTSTAMP:20260425T070026
CREATED:20260402T191917Z
LAST-MODIFIED:20260402T191917Z
UID:10002151-1802606400-1802610000@emmanuelunited.com
SUMMARY:Sip-n-Talk
DESCRIPTION:Join us for coffee and fellowship after worship each week. Meet new friends\, catch up with old\, and enjoy some snacks.
URL:https://emmanuelunited.com/event/sip-n-talk-2/2027-02-14/
LOCATION:Emmanuel UC\, 420 Balmoral Drive\, Brampton\, Ontario\, Canada
CATEGORIES:Fellowship
ATTACH;FMTTYPE=image/jpeg:https://emmanuelunited.com/wp-content/uploads/2025/05/coffee-cup-and-beans-George-Hodan-CC0-e1746638839684.jpg
END:VEVENT
BEGIN:VEVENT
DTSTART;TZID=America/Toronto:20270216T103000
DTEND;TZID=America/Toronto:20270216T103000
DTSTAMP:20260425T070026
CREATED:20260311T194449Z
LAST-MODIFIED:20260311T194449Z
UID:10002653-1802773800-1802773800@emmanuelunited.com
SUMMARY:Happy Hearts UCW
DESCRIPTION:
URL:https://emmanuelunited.com/event/happy-hearts-ucw/2027-02-16/
LOCATION:Emmanuel UC\, 420 Balmoral Drive\, Brampton\, Ontario\, Canada
CATEGORIES:Fellowship,Service
END:VEVENT
BEGIN:VEVENT
DTSTART;TZID=America/Toronto:20270217T133000
DTEND;TZID=America/Toronto:20270217T143000
DTSTAMP:20260425T070026
CREATED:20250910T145921Z
LAST-MODIFIED:20260304T160851Z
UID:10001072-1802871000-1802874600@emmanuelunited.com
SUMMARY:Deeper Dive
DESCRIPTION:
URL:https://emmanuelunited.com/event/deeper-dive-3-2/2027-02-17/
LOCATION:Emmanuel UC\, 420 Balmoral Drive\, Brampton\, Ontario\, Canada
CATEGORIES:Discipleship
ATTACH;FMTTYPE=image/jpeg:https://emmanuelunited.com/wp-content/uploads/2024/04/book-wisdom-mohamed-mahmoud-hassan-CC0-e1746560078172.jpg
END:VEVENT
BEGIN:VEVENT
DTSTART;TZID=America/Toronto:20270220T083000
DTEND;TZID=America/Toronto:20270220T163000
DTSTAMP:20260425T070026
CREATED:20260311T143530Z
LAST-MODIFIED:20260311T194620Z
UID:10002667-1803112200-1803141000@emmanuelunited.com
SUMMARY:Scrapbooking
DESCRIPTION:
URL:https://emmanuelunited.com/event/scrapbooking/2027-02-20/
LOCATION:Emmanuel UC\, 420 Balmoral Drive\, Brampton\, Ontario\, Canada
CATEGORIES:Community,Fellowship
END:VEVENT
BEGIN:VEVENT
DTSTART;TZID=America/Toronto:20270221T110000
DTEND;TZID=America/Toronto:20270221T120000
DTSTAMP:20260425T070026
CREATED:20250506T192835Z
LAST-MODIFIED:20250507T193447Z
UID:10001891-1803207600-1803211200@emmanuelunited.com
SUMMARY:Sunday Worship
DESCRIPTION:Join us for worship each Sunday. Come as you are for an hour long service\, including music\, prayers\, and reflections. Children’s program provided September-June\, and there is always something for the young ones to do during worship.
URL:https://emmanuelunited.com/event/sunday-worship/2027-02-21/
LOCATION:Emmanuel UC\, 420 Balmoral Drive\, Brampton\, Ontario\, Canada
CATEGORIES:Worship
ATTACH;FMTTYPE=image/jpeg:https://emmanuelunited.com/wp-content/uploads/2025/05/326532972_1140884776571144_7440115511639422560_n.jpg
END:VEVENT
BEGIN:VEVENT
DTSTART;TZID=America/Toronto:20270221T120000
DTEND;TZID=America/Toronto:20270221T133000
DTSTAMP:20260425T070026
CREATED:20250910T151150Z
LAST-MODIFIED:20260402T192031Z
UID:10002402-1803211200-1803216600@emmanuelunited.com
SUMMARY:Soup-N-Sip
DESCRIPTION:We are introducing Soup-N-Sip\, a monthly social event to meet for hot soup and warm conversation.  \nWe will meet once a month. Everyone is invited\, bring any friends interested! \nWe hope to make this a social – success\, please invite anyone interested!
URL:https://emmanuelunited.com/event/soup-n-sip/2027-02-21/
LOCATION:Emmanuel UC\, 420 Balmoral Drive\, Brampton\, Ontario\, Canada
CATEGORIES:Community,Fellowship
ATTACH;FMTTYPE=image/jpeg:https://emmanuelunited.com/wp-content/uploads/2025/09/image-1621072803o8c-1-e1757517195618.jpg
END:VEVENT
BEGIN:VEVENT
DTSTART;TZID=America/Toronto:20270223T103000
DTEND;TZID=America/Toronto:20270223T120000
DTSTAMP:20260425T070026
CREATED:20241002T181645Z
LAST-MODIFIED:20250507T170851Z
UID:10001291-1803378600-1803384000@emmanuelunited.com
SUMMARY:Mid-Week Sip-N-Talk
DESCRIPTION:Mid-Week Sip-N-Talk \nJoin us for Mid-Week Sip-n-Talk for some monthly social time! Everyone’s invited\, bring a friend or neighbors. \nAlways held on the last Tuesday of each month at 10:30 AM.\nPlease join us for an enjoyable time of fellowship and light refreshment.
URL:https://emmanuelunited.com/event/mid-week-sip-n-talk-3/2027-02-23/
LOCATION:Emmanuel UC\, 420 Balmoral Drive\, Brampton\, Ontario\, Canada
CATEGORIES:Fellowship
ATTACH;FMTTYPE=image/jpeg:https://emmanuelunited.com/wp-content/uploads/2024/02/hot-latte-coffee-with-hearts-Ian-L-CC0-e1746637718193.jpg
END:VEVENT
BEGIN:VEVENT
DTSTART;TZID=America/Toronto:20270223T130000
DTEND;TZID=America/Toronto:20270223T150000
DTSTAMP:20260425T070026
CREATED:20260311T194353Z
LAST-MODIFIED:20260311T194353Z
UID:10002633-1803387600-1803394800@emmanuelunited.com
SUMMARY:Sunshine UCW
DESCRIPTION:
URL:https://emmanuelunited.com/event/sunshine-ucw/2027-02-23/
LOCATION:Emmanuel UC\, 420 Balmoral Drive\, Brampton\, Ontario\, Canada
CATEGORIES:Fellowship,Service
END:VEVENT
BEGIN:VEVENT
DTSTART;TZID=America/Toronto:20270224T133000
DTEND;TZID=America/Toronto:20270224T143000
DTSTAMP:20260425T070026
CREATED:20250910T145921Z
LAST-MODIFIED:20260304T160851Z
UID:10001073-1803475800-1803479400@emmanuelunited.com
SUMMARY:Deeper Dive
DESCRIPTION:
URL:https://emmanuelunited.com/event/deeper-dive-3-2/2027-02-24/
LOCATION:Emmanuel UC\, 420 Balmoral Drive\, Brampton\, Ontario\, Canada
CATEGORIES:Discipleship
ATTACH;FMTTYPE=image/jpeg:https://emmanuelunited.com/wp-content/uploads/2024/04/book-wisdom-mohamed-mahmoud-hassan-CC0-e1746560078172.jpg
END:VEVENT
BEGIN:VEVENT
DTSTART;TZID=America/Toronto:20270224T190000
DTEND;TZID=America/Toronto:20270224T210000
DTSTAMP:20260425T070026
CREATED:20260311T194316Z
LAST-MODIFIED:20260311T194316Z
UID:10002725-1803495600-1803502800@emmanuelunited.com
SUMMARY:Board Meeting
DESCRIPTION:
URL:https://emmanuelunited.com/event/board-meeting/2027-02-24/
LOCATION:Emmanuel UC\, 420 Balmoral Drive\, Brampton\, Ontario\, Canada
CATEGORIES:Governance
END:VEVENT
BEGIN:VEVENT
DTSTART;TZID=America/Toronto:20270228T110000
DTEND;TZID=America/Toronto:20270228T120000
DTSTAMP:20260425T070026
CREATED:20250506T192835Z
LAST-MODIFIED:20250507T193447Z
UID:10001892-1803812400-1803816000@emmanuelunited.com
SUMMARY:Sunday Worship
DESCRIPTION:Join us for worship each Sunday. Come as you are for an hour long service\, including music\, prayers\, and reflections. Children’s program provided September-June\, and there is always something for the young ones to do during worship.
URL:https://emmanuelunited.com/event/sunday-worship/2027-02-28/
LOCATION:Emmanuel UC\, 420 Balmoral Drive\, Brampton\, Ontario\, Canada
CATEGORIES:Worship
ATTACH;FMTTYPE=image/jpeg:https://emmanuelunited.com/wp-content/uploads/2025/05/326532972_1140884776571144_7440115511639422560_n.jpg
END:VEVENT
BEGIN:VEVENT
DTSTART;TZID=America/Toronto:20270228T120000
DTEND;TZID=America/Toronto:20270228T130000
DTSTAMP:20260425T070026
CREATED:20260402T191917Z
LAST-MODIFIED:20260402T191917Z
UID:10002153-1803816000-1803819600@emmanuelunited.com
SUMMARY:Sip-n-Talk
DESCRIPTION:Join us for coffee and fellowship after worship each week. Meet new friends\, catch up with old\, and enjoy some snacks.
URL:https://emmanuelunited.com/event/sip-n-talk-2/2027-02-28/
LOCATION:Emmanuel UC\, 420 Balmoral Drive\, Brampton\, Ontario\, Canada
CATEGORIES:Fellowship
ATTACH;FMTTYPE=image/jpeg:https://emmanuelunited.com/wp-content/uploads/2025/05/coffee-cup-and-beans-George-Hodan-CC0-e1746638839684.jpg
END:VEVENT
BEGIN:VEVENT
DTSTART;TZID=America/Toronto:20270303T133000
DTEND;TZID=America/Toronto:20270303T143000
DTSTAMP:20260425T070026
CREATED:20250910T145921Z
LAST-MODIFIED:20260304T160851Z
UID:10001074-1804080600-1804084200@emmanuelunited.com
SUMMARY:Deeper Dive
DESCRIPTION:
URL:https://emmanuelunited.com/event/deeper-dive-3-2/2027-03-03/
LOCATION:Emmanuel UC\, 420 Balmoral Drive\, Brampton\, Ontario\, Canada
CATEGORIES:Discipleship
ATTACH;FMTTYPE=image/jpeg:https://emmanuelunited.com/wp-content/uploads/2024/04/book-wisdom-mohamed-mahmoud-hassan-CC0-e1746560078172.jpg
END:VEVENT
BEGIN:VEVENT
DTSTART;TZID=America/Toronto:20270307T110000
DTEND;TZID=America/Toronto:20270307T120000
DTSTAMP:20260425T070026
CREATED:20250506T192835Z
LAST-MODIFIED:20250507T193447Z
UID:10001893-1804417200-1804420800@emmanuelunited.com
SUMMARY:Sunday Worship
DESCRIPTION:Join us for worship each Sunday. Come as you are for an hour long service\, including music\, prayers\, and reflections. Children’s program provided September-June\, and there is always something for the young ones to do during worship.
URL:https://emmanuelunited.com/event/sunday-worship/2027-03-07/
LOCATION:Emmanuel UC\, 420 Balmoral Drive\, Brampton\, Ontario\, Canada
CATEGORIES:Worship
ATTACH;FMTTYPE=image/jpeg:https://emmanuelunited.com/wp-content/uploads/2025/05/326532972_1140884776571144_7440115511639422560_n.jpg
END:VEVENT
BEGIN:VEVENT
DTSTART;TZID=America/Toronto:20270307T120000
DTEND;TZID=America/Toronto:20270307T130000
DTSTAMP:20260425T070026
CREATED:20260402T191917Z
LAST-MODIFIED:20260402T191917Z
UID:10002154-1804420800-1804424400@emmanuelunited.com
SUMMARY:Sip-n-Talk
DESCRIPTION:Join us for coffee and fellowship after worship each week. Meet new friends\, catch up with old\, and enjoy some snacks.
URL:https://emmanuelunited.com/event/sip-n-talk-2/2027-03-07/
LOCATION:Emmanuel UC\, 420 Balmoral Drive\, Brampton\, Ontario\, Canada
CATEGORIES:Fellowship
ATTACH;FMTTYPE=image/jpeg:https://emmanuelunited.com/wp-content/uploads/2025/05/coffee-cup-and-beans-George-Hodan-CC0-e1746638839684.jpg
END:VEVENT
BEGIN:VEVENT
DTSTART;TZID=America/Toronto:20270310T133000
DTEND;TZID=America/Toronto:20270310T143000
DTSTAMP:20260425T070026
CREATED:20250910T145921Z
LAST-MODIFIED:20260304T160851Z
UID:10001075-1804685400-1804689000@emmanuelunited.com
SUMMARY:Deeper Dive
DESCRIPTION:
URL:https://emmanuelunited.com/event/deeper-dive-3-2/2027-03-10/
LOCATION:Emmanuel UC\, 420 Balmoral Drive\, Brampton\, Ontario\, Canada
CATEGORIES:Discipleship
ATTACH;FMTTYPE=image/jpeg:https://emmanuelunited.com/wp-content/uploads/2024/04/book-wisdom-mohamed-mahmoud-hassan-CC0-e1746560078172.jpg
END:VEVENT
BEGIN:VEVENT
DTSTART;TZID=America/Toronto:20270310T190000
DTEND;TZID=America/Toronto:20270310T210000
DTSTAMP:20260425T070026
CREATED:20260304T152657Z
LAST-MODIFIED:20260311T145640Z
UID:10002461-1804705200-1804712400@emmanuelunited.com
SUMMARY:WOW UCW Meeting
DESCRIPTION:
URL:https://emmanuelunited.com/event/wow-ucw-meeting/2027-03-10/
LOCATION:Emmanuel UC\, 420 Balmoral Drive\, Brampton\, Ontario\, Canada
CATEGORIES:Fellowship
END:VEVENT
BEGIN:VEVENT
DTSTART;TZID=America/Toronto:20270313T090000
DTEND;TZID=America/Toronto:20270313T110000
DTSTAMP:20260425T070026
CREATED:20260310T133113Z
LAST-MODIFIED:20260310T133147Z
UID:10002571-1804928400-1804935600@emmanuelunited.com
SUMMARY:Men's Club
DESCRIPTION:
URL:https://emmanuelunited.com/event/mens-club/2027-03-13/
LOCATION:Emmanuel UC\, 420 Balmoral Drive\, Brampton\, Ontario\, Canada
CATEGORIES:Community,Fellowship
END:VEVENT
BEGIN:VEVENT
DTSTART;TZID=America/Toronto:20270314T110000
DTEND;TZID=America/Toronto:20270314T120000
DTSTAMP:20260425T070026
CREATED:20250506T192835Z
LAST-MODIFIED:20250507T193447Z
UID:10001894-1805022000-1805025600@emmanuelunited.com
SUMMARY:Sunday Worship
DESCRIPTION:Join us for worship each Sunday. Come as you are for an hour long service\, including music\, prayers\, and reflections. Children’s program provided September-June\, and there is always something for the young ones to do during worship.
URL:https://emmanuelunited.com/event/sunday-worship/2027-03-14/
LOCATION:Emmanuel UC\, 420 Balmoral Drive\, Brampton\, Ontario\, Canada
CATEGORIES:Worship
ATTACH;FMTTYPE=image/jpeg:https://emmanuelunited.com/wp-content/uploads/2025/05/326532972_1140884776571144_7440115511639422560_n.jpg
END:VEVENT
BEGIN:VEVENT
DTSTART;TZID=America/Toronto:20270314T120000
DTEND;TZID=America/Toronto:20270314T130000
DTSTAMP:20260425T070026
CREATED:20260402T191917Z
LAST-MODIFIED:20260402T191917Z
UID:10002155-1805025600-1805029200@emmanuelunited.com
SUMMARY:Sip-n-Talk
DESCRIPTION:Join us for coffee and fellowship after worship each week. Meet new friends\, catch up with old\, and enjoy some snacks.
URL:https://emmanuelunited.com/event/sip-n-talk-2/2027-03-14/
LOCATION:Emmanuel UC\, 420 Balmoral Drive\, Brampton\, Ontario\, Canada
CATEGORIES:Fellowship
ATTACH;FMTTYPE=image/jpeg:https://emmanuelunited.com/wp-content/uploads/2025/05/coffee-cup-and-beans-George-Hodan-CC0-e1746638839684.jpg
END:VEVENT
BEGIN:VEVENT
DTSTART;TZID=America/Toronto:20270316T103000
DTEND;TZID=America/Toronto:20270316T103000
DTSTAMP:20260425T070027
CREATED:20260311T194449Z
LAST-MODIFIED:20260311T194449Z
UID:10002654-1805193000-1805193000@emmanuelunited.com
SUMMARY:Happy Hearts UCW
DESCRIPTION:
URL:https://emmanuelunited.com/event/happy-hearts-ucw/2027-03-16/
LOCATION:Emmanuel UC\, 420 Balmoral Drive\, Brampton\, Ontario\, Canada
CATEGORIES:Fellowship,Service
END:VEVENT
BEGIN:VEVENT
DTSTART;TZID=America/Toronto:20270317T133000
DTEND;TZID=America/Toronto:20270317T143000
DTSTAMP:20260425T070027
CREATED:20250910T145921Z
LAST-MODIFIED:20260304T160851Z
UID:10001076-1805290200-1805293800@emmanuelunited.com
SUMMARY:Deeper Dive
DESCRIPTION:
URL:https://emmanuelunited.com/event/deeper-dive-3-2/2027-03-17/
LOCATION:Emmanuel UC\, 420 Balmoral Drive\, Brampton\, Ontario\, Canada
CATEGORIES:Discipleship
ATTACH;FMTTYPE=image/jpeg:https://emmanuelunited.com/wp-content/uploads/2024/04/book-wisdom-mohamed-mahmoud-hassan-CC0-e1746560078172.jpg
END:VEVENT
BEGIN:VEVENT
DTSTART;TZID=America/Toronto:20270320T083000
DTEND;TZID=America/Toronto:20270320T163000
DTSTAMP:20260425T070027
CREATED:20260311T143530Z
LAST-MODIFIED:20260311T194620Z
UID:10002668-1805531400-1805560200@emmanuelunited.com
SUMMARY:Scrapbooking
DESCRIPTION:
URL:https://emmanuelunited.com/event/scrapbooking/2027-03-20/
LOCATION:Emmanuel UC\, 420 Balmoral Drive\, Brampton\, Ontario\, Canada
CATEGORIES:Community,Fellowship
END:VEVENT
BEGIN:VEVENT
DTSTART;TZID=America/Toronto:20270321T110000
DTEND;TZID=America/Toronto:20270321T120000
DTSTAMP:20260425T070027
CREATED:20250506T192835Z
LAST-MODIFIED:20250507T193447Z
UID:10001895-1805626800-1805630400@emmanuelunited.com
SUMMARY:Sunday Worship
DESCRIPTION:Join us for worship each Sunday. Come as you are for an hour long service\, including music\, prayers\, and reflections. Children’s program provided September-June\, and there is always something for the young ones to do during worship.
URL:https://emmanuelunited.com/event/sunday-worship/2027-03-21/
LOCATION:Emmanuel UC\, 420 Balmoral Drive\, Brampton\, Ontario\, Canada
CATEGORIES:Worship
ATTACH;FMTTYPE=image/jpeg:https://emmanuelunited.com/wp-content/uploads/2025/05/326532972_1140884776571144_7440115511639422560_n.jpg
END:VEVENT
BEGIN:VEVENT
DTSTART;TZID=America/Toronto:20270321T120000
DTEND;TZID=America/Toronto:20270321T133000
DTSTAMP:20260425T070027
CREATED:20250910T151150Z
LAST-MODIFIED:20260402T192031Z
UID:10002403-1805630400-1805635800@emmanuelunited.com
SUMMARY:Soup-N-Sip
DESCRIPTION:We are introducing Soup-N-Sip\, a monthly social event to meet for hot soup and warm conversation.  \nWe will meet once a month. Everyone is invited\, bring any friends interested! \nWe hope to make this a social – success\, please invite anyone interested!
URL:https://emmanuelunited.com/event/soup-n-sip/2027-03-21/
LOCATION:Emmanuel UC\, 420 Balmoral Drive\, Brampton\, Ontario\, Canada
CATEGORIES:Community,Fellowship
ATTACH;FMTTYPE=image/jpeg:https://emmanuelunited.com/wp-content/uploads/2025/09/image-1621072803o8c-1-e1757517195618.jpg
END:VEVENT
BEGIN:VEVENT
DTSTART;TZID=America/Toronto:20270323T130000
DTEND;TZID=America/Toronto:20270323T150000
DTSTAMP:20260425T070027
CREATED:20260311T194353Z
LAST-MODIFIED:20260311T194353Z
UID:10002634-1805806800-1805814000@emmanuelunited.com
SUMMARY:Sunshine UCW
DESCRIPTION:
URL:https://emmanuelunited.com/event/sunshine-ucw/2027-03-23/
LOCATION:Emmanuel UC\, 420 Balmoral Drive\, Brampton\, Ontario\, Canada
CATEGORIES:Fellowship,Service
END:VEVENT
END:VCALENDAR