BEGIN:VCALENDAR
VERSION:2.0
PRODID:-//Emmanuel United Church, Brampton - ECPv6.15.20//NONSGML v1.0//EN
CALSCALE:GREGORIAN
METHOD:PUBLISH
X-ORIGINAL-URL:https://emmanuelunited.com
X-WR-CALDESC:Events for Emmanuel United Church, Brampton
REFRESH-INTERVAL;VALUE=DURATION:PT1H
X-Robots-Tag:noindex
X-PUBLISHED-TTL:PT1H
BEGIN:VTIMEZONE
TZID:America/Toronto
BEGIN:DAYLIGHT
TZOFFSETFROM:-0500
TZOFFSETTO:-0400
TZNAME:EDT
DTSTART:20260308T070000
END:DAYLIGHT
BEGIN:STANDARD
TZOFFSETFROM:-0400
TZOFFSETTO:-0500
TZNAME:EST
DTSTART:20261101T060000
END:STANDARD
BEGIN:DAYLIGHT
TZOFFSETFROM:-0500
TZOFFSETTO:-0400
TZNAME:EDT
DTSTART:20270314T070000
END:DAYLIGHT
BEGIN:STANDARD
TZOFFSETFROM:-0400
TZOFFSETTO:-0500
TZNAME:EST
DTSTART:20271107T060000
END:STANDARD
BEGIN:DAYLIGHT
TZOFFSETFROM:-0500
TZOFFSETTO:-0400
TZNAME:EDT
DTSTART:20280312T070000
END:DAYLIGHT
BEGIN:STANDARD
TZOFFSETFROM:-0400
TZOFFSETTO:-0500
TZNAME:EST
DTSTART:20281105T060000
END:STANDARD
END:VTIMEZONE
BEGIN:VEVENT
DTSTART;TZID=America/Toronto:20270619T083000
DTEND;TZID=America/Toronto:20270619T163000
DTSTAMP:20260425T115134
CREATED:20260311T143530Z
LAST-MODIFIED:20260311T194620Z
UID:10002671-1813393800-1813422600@emmanuelunited.com
SUMMARY:Scrapbooking
DESCRIPTION:
URL:https://emmanuelunited.com/event/scrapbooking/2027-06-19/
LOCATION:Emmanuel UC\, 420 Balmoral Drive\, Brampton\, Ontario\, Canada
CATEGORIES:Community,Fellowship
END:VEVENT
BEGIN:VEVENT
DTSTART;TZID=America/Toronto:20270620T110000
DTEND;TZID=America/Toronto:20270620T120000
DTSTAMP:20260425T115134
CREATED:20250506T192835Z
LAST-MODIFIED:20250507T193447Z
UID:10001908-1813489200-1813492800@emmanuelunited.com
SUMMARY:Sunday Worship
DESCRIPTION:Join us for worship each Sunday. Come as you are for an hour long service\, including music\, prayers\, and reflections. Children’s program provided September-June\, and there is always something for the young ones to do during worship.
URL:https://emmanuelunited.com/event/sunday-worship/2027-06-20/
LOCATION:Emmanuel UC\, 420 Balmoral Drive\, Brampton\, Ontario\, Canada
CATEGORIES:Worship
ATTACH;FMTTYPE=image/jpeg:https://emmanuelunited.com/wp-content/uploads/2025/05/326532972_1140884776571144_7440115511639422560_n.jpg
END:VEVENT
BEGIN:VEVENT
DTSTART;TZID=America/Toronto:20270620T120000
DTEND;TZID=America/Toronto:20270620T133000
DTSTAMP:20260425T115134
CREATED:20250910T151150Z
LAST-MODIFIED:20260402T192031Z
UID:10002406-1813492800-1813498200@emmanuelunited.com
SUMMARY:Soup-N-Sip
DESCRIPTION:We are introducing Soup-N-Sip\, a monthly social event to meet for hot soup and warm conversation.  \nWe will meet once a month. Everyone is invited\, bring any friends interested! \nWe hope to make this a social – success\, please invite anyone interested!
URL:https://emmanuelunited.com/event/soup-n-sip/2027-06-20/
LOCATION:Emmanuel UC\, 420 Balmoral Drive\, Brampton\, Ontario\, Canada
CATEGORIES:Community,Fellowship
ATTACH;FMTTYPE=image/jpeg:https://emmanuelunited.com/wp-content/uploads/2025/09/image-1621072803o8c-1-e1757517195618.jpg
END:VEVENT
BEGIN:VEVENT
DTSTART;TZID=America/Toronto:20270622T130000
DTEND;TZID=America/Toronto:20270622T150000
DTSTAMP:20260425T115134
CREATED:20260311T194353Z
LAST-MODIFIED:20260311T194353Z
UID:10002637-1813669200-1813676400@emmanuelunited.com
SUMMARY:Sunshine UCW
DESCRIPTION:
URL:https://emmanuelunited.com/event/sunshine-ucw/2027-06-22/
LOCATION:Emmanuel UC\, 420 Balmoral Drive\, Brampton\, Ontario\, Canada
CATEGORIES:Fellowship,Service
END:VEVENT
BEGIN:VEVENT
DTSTART;TZID=America/Toronto:20270623T133000
DTEND;TZID=America/Toronto:20270623T143000
DTSTAMP:20260425T115134
CREATED:20250910T145921Z
LAST-MODIFIED:20260304T160851Z
UID:10001090-1813757400-1813761000@emmanuelunited.com
SUMMARY:Deeper Dive
DESCRIPTION:
URL:https://emmanuelunited.com/event/deeper-dive-3-2/2027-06-23/
LOCATION:Emmanuel UC\, 420 Balmoral Drive\, Brampton\, Ontario\, Canada
CATEGORIES:Discipleship
ATTACH;FMTTYPE=image/jpeg:https://emmanuelunited.com/wp-content/uploads/2024/04/book-wisdom-mohamed-mahmoud-hassan-CC0-e1746560078172.jpg
END:VEVENT
BEGIN:VEVENT
DTSTART;TZID=America/Toronto:20270623T190000
DTEND;TZID=America/Toronto:20270623T210000
DTSTAMP:20260425T115134
CREATED:20260311T194316Z
LAST-MODIFIED:20260311T194316Z
UID:10002729-1813777200-1813784400@emmanuelunited.com
SUMMARY:Board Meeting
DESCRIPTION:
URL:https://emmanuelunited.com/event/board-meeting/2027-06-23/
LOCATION:Emmanuel UC\, 420 Balmoral Drive\, Brampton\, Ontario\, Canada
CATEGORIES:Governance
END:VEVENT
BEGIN:VEVENT
DTSTART;TZID=America/Toronto:20270627T110000
DTEND;TZID=America/Toronto:20270627T120000
DTSTAMP:20260425T115134
CREATED:20250506T192835Z
LAST-MODIFIED:20250507T193447Z
UID:10001909-1814094000-1814097600@emmanuelunited.com
SUMMARY:Sunday Worship
DESCRIPTION:Join us for worship each Sunday. Come as you are for an hour long service\, including music\, prayers\, and reflections. Children’s program provided September-June\, and there is always something for the young ones to do during worship.
URL:https://emmanuelunited.com/event/sunday-worship/2027-06-27/
LOCATION:Emmanuel UC\, 420 Balmoral Drive\, Brampton\, Ontario\, Canada
CATEGORIES:Worship
ATTACH;FMTTYPE=image/jpeg:https://emmanuelunited.com/wp-content/uploads/2025/05/326532972_1140884776571144_7440115511639422560_n.jpg
END:VEVENT
BEGIN:VEVENT
DTSTART;TZID=America/Toronto:20270627T120000
DTEND;TZID=America/Toronto:20270627T130000
DTSTAMP:20260425T115134
CREATED:20260402T191917Z
LAST-MODIFIED:20260402T191917Z
UID:10002170-1814097600-1814101200@emmanuelunited.com
SUMMARY:Sip-n-Talk
DESCRIPTION:Join us for coffee and fellowship after worship each week. Meet new friends\, catch up with old\, and enjoy some snacks.
URL:https://emmanuelunited.com/event/sip-n-talk-2/2027-06-27/
LOCATION:Emmanuel UC\, 420 Balmoral Drive\, Brampton\, Ontario\, Canada
CATEGORIES:Fellowship
ATTACH;FMTTYPE=image/jpeg:https://emmanuelunited.com/wp-content/uploads/2025/05/coffee-cup-and-beans-George-Hodan-CC0-e1746638839684.jpg
END:VEVENT
BEGIN:VEVENT
DTSTART;TZID=America/Toronto:20270629T103000
DTEND;TZID=America/Toronto:20270629T120000
DTSTAMP:20260425T115134
CREATED:20241002T181645Z
LAST-MODIFIED:20250507T170851Z
UID:10001295-1814265000-1814270400@emmanuelunited.com
SUMMARY:Mid-Week Sip-N-Talk
DESCRIPTION:Mid-Week Sip-N-Talk \nJoin us for Mid-Week Sip-n-Talk for some monthly social time! Everyone’s invited\, bring a friend or neighbors. \nAlways held on the last Tuesday of each month at 10:30 AM.\nPlease join us for an enjoyable time of fellowship and light refreshment.
URL:https://emmanuelunited.com/event/mid-week-sip-n-talk-3/2027-06-29/
LOCATION:Emmanuel UC\, 420 Balmoral Drive\, Brampton\, Ontario\, Canada
CATEGORIES:Fellowship
ATTACH;FMTTYPE=image/jpeg:https://emmanuelunited.com/wp-content/uploads/2024/02/hot-latte-coffee-with-hearts-Ian-L-CC0-e1746637718193.jpg
END:VEVENT
BEGIN:VEVENT
DTSTART;TZID=America/Toronto:20270630T133000
DTEND;TZID=America/Toronto:20270630T143000
DTSTAMP:20260425T115134
CREATED:20250910T145921Z
LAST-MODIFIED:20260304T160851Z
UID:10001091-1814362200-1814365800@emmanuelunited.com
SUMMARY:Deeper Dive
DESCRIPTION:
URL:https://emmanuelunited.com/event/deeper-dive-3-2/2027-06-30/
LOCATION:Emmanuel UC\, 420 Balmoral Drive\, Brampton\, Ontario\, Canada
CATEGORIES:Discipleship
ATTACH;FMTTYPE=image/jpeg:https://emmanuelunited.com/wp-content/uploads/2024/04/book-wisdom-mohamed-mahmoud-hassan-CC0-e1746560078172.jpg
END:VEVENT
BEGIN:VEVENT
DTSTART;TZID=America/Toronto:20270704T110000
DTEND;TZID=America/Toronto:20270704T120000
DTSTAMP:20260425T115134
CREATED:20250506T192835Z
LAST-MODIFIED:20250507T193447Z
UID:10001910-1814698800-1814702400@emmanuelunited.com
SUMMARY:Sunday Worship
DESCRIPTION:Join us for worship each Sunday. Come as you are for an hour long service\, including music\, prayers\, and reflections. Children’s program provided September-June\, and there is always something for the young ones to do during worship.
URL:https://emmanuelunited.com/event/sunday-worship/2027-07-04/
LOCATION:Emmanuel UC\, 420 Balmoral Drive\, Brampton\, Ontario\, Canada
CATEGORIES:Worship
ATTACH;FMTTYPE=image/jpeg:https://emmanuelunited.com/wp-content/uploads/2025/05/326532972_1140884776571144_7440115511639422560_n.jpg
END:VEVENT
BEGIN:VEVENT
DTSTART;TZID=America/Toronto:20270704T120000
DTEND;TZID=America/Toronto:20270704T130000
DTSTAMP:20260425T115134
CREATED:20260402T191917Z
LAST-MODIFIED:20260402T191917Z
UID:10002171-1814702400-1814706000@emmanuelunited.com
SUMMARY:Sip-n-Talk
DESCRIPTION:Join us for coffee and fellowship after worship each week. Meet new friends\, catch up with old\, and enjoy some snacks.
URL:https://emmanuelunited.com/event/sip-n-talk-2/2027-07-04/
LOCATION:Emmanuel UC\, 420 Balmoral Drive\, Brampton\, Ontario\, Canada
CATEGORIES:Fellowship
ATTACH;FMTTYPE=image/jpeg:https://emmanuelunited.com/wp-content/uploads/2025/05/coffee-cup-and-beans-George-Hodan-CC0-e1746638839684.jpg
END:VEVENT
BEGIN:VEVENT
DTSTART;TZID=America/Toronto:20270707T133000
DTEND;TZID=America/Toronto:20270707T143000
DTSTAMP:20260425T115134
CREATED:20250910T145921Z
LAST-MODIFIED:20260304T160851Z
UID:10001092-1814967000-1814970600@emmanuelunited.com
SUMMARY:Deeper Dive
DESCRIPTION:
URL:https://emmanuelunited.com/event/deeper-dive-3-2/2027-07-07/
LOCATION:Emmanuel UC\, 420 Balmoral Drive\, Brampton\, Ontario\, Canada
CATEGORIES:Discipleship
ATTACH;FMTTYPE=image/jpeg:https://emmanuelunited.com/wp-content/uploads/2024/04/book-wisdom-mohamed-mahmoud-hassan-CC0-e1746560078172.jpg
END:VEVENT
BEGIN:VEVENT
DTSTART;TZID=America/Toronto:20270710T090000
DTEND;TZID=America/Toronto:20270710T110000
DTSTAMP:20260425T115134
CREATED:20260310T133113Z
LAST-MODIFIED:20260310T133147Z
UID:10002575-1815210000-1815217200@emmanuelunited.com
SUMMARY:Men's Club
DESCRIPTION:
URL:https://emmanuelunited.com/event/mens-club/2027-07-10/
LOCATION:Emmanuel UC\, 420 Balmoral Drive\, Brampton\, Ontario\, Canada
CATEGORIES:Community,Fellowship
END:VEVENT
BEGIN:VEVENT
DTSTART;TZID=America/Toronto:20270711T110000
DTEND;TZID=America/Toronto:20270711T120000
DTSTAMP:20260425T115134
CREATED:20250506T192835Z
LAST-MODIFIED:20250507T193447Z
UID:10001911-1815303600-1815307200@emmanuelunited.com
SUMMARY:Sunday Worship
DESCRIPTION:Join us for worship each Sunday. Come as you are for an hour long service\, including music\, prayers\, and reflections. Children’s program provided September-June\, and there is always something for the young ones to do during worship.
URL:https://emmanuelunited.com/event/sunday-worship/2027-07-11/
LOCATION:Emmanuel UC\, 420 Balmoral Drive\, Brampton\, Ontario\, Canada
CATEGORIES:Worship
ATTACH;FMTTYPE=image/jpeg:https://emmanuelunited.com/wp-content/uploads/2025/05/326532972_1140884776571144_7440115511639422560_n.jpg
END:VEVENT
BEGIN:VEVENT
DTSTART;TZID=America/Toronto:20270711T120000
DTEND;TZID=America/Toronto:20270711T130000
DTSTAMP:20260425T115134
CREATED:20260402T191917Z
LAST-MODIFIED:20260402T191917Z
UID:10002172-1815307200-1815310800@emmanuelunited.com
SUMMARY:Sip-n-Talk
DESCRIPTION:Join us for coffee and fellowship after worship each week. Meet new friends\, catch up with old\, and enjoy some snacks.
URL:https://emmanuelunited.com/event/sip-n-talk-2/2027-07-11/
LOCATION:Emmanuel UC\, 420 Balmoral Drive\, Brampton\, Ontario\, Canada
CATEGORIES:Fellowship
ATTACH;FMTTYPE=image/jpeg:https://emmanuelunited.com/wp-content/uploads/2025/05/coffee-cup-and-beans-George-Hodan-CC0-e1746638839684.jpg
END:VEVENT
BEGIN:VEVENT
DTSTART;TZID=America/Toronto:20270714T133000
DTEND;TZID=America/Toronto:20270714T143000
DTSTAMP:20260425T115134
CREATED:20250910T145921Z
LAST-MODIFIED:20260304T160851Z
UID:10001093-1815571800-1815575400@emmanuelunited.com
SUMMARY:Deeper Dive
DESCRIPTION:
URL:https://emmanuelunited.com/event/deeper-dive-3-2/2027-07-14/
LOCATION:Emmanuel UC\, 420 Balmoral Drive\, Brampton\, Ontario\, Canada
CATEGORIES:Discipleship
ATTACH;FMTTYPE=image/jpeg:https://emmanuelunited.com/wp-content/uploads/2024/04/book-wisdom-mohamed-mahmoud-hassan-CC0-e1746560078172.jpg
END:VEVENT
BEGIN:VEVENT
DTSTART;TZID=America/Toronto:20270714T190000
DTEND;TZID=America/Toronto:20270714T210000
DTSTAMP:20260425T115134
CREATED:20260304T152657Z
LAST-MODIFIED:20260311T145640Z
UID:10002465-1815591600-1815598800@emmanuelunited.com
SUMMARY:WOW UCW Meeting
DESCRIPTION:
URL:https://emmanuelunited.com/event/wow-ucw-meeting/2027-07-14/
LOCATION:Emmanuel UC\, 420 Balmoral Drive\, Brampton\, Ontario\, Canada
CATEGORIES:Fellowship
END:VEVENT
BEGIN:VEVENT
DTSTART;TZID=America/Toronto:20270717T083000
DTEND;TZID=America/Toronto:20270717T163000
DTSTAMP:20260425T115134
CREATED:20260311T143530Z
LAST-MODIFIED:20260311T194620Z
UID:10002672-1815813000-1815841800@emmanuelunited.com
SUMMARY:Scrapbooking
DESCRIPTION:
URL:https://emmanuelunited.com/event/scrapbooking/2027-07-17/
LOCATION:Emmanuel UC\, 420 Balmoral Drive\, Brampton\, Ontario\, Canada
CATEGORIES:Community,Fellowship
END:VEVENT
BEGIN:VEVENT
DTSTART;TZID=America/Toronto:20270718T110000
DTEND;TZID=America/Toronto:20270718T120000
DTSTAMP:20260425T115134
CREATED:20250506T192835Z
LAST-MODIFIED:20250507T193447Z
UID:10001912-1815908400-1815912000@emmanuelunited.com
SUMMARY:Sunday Worship
DESCRIPTION:Join us for worship each Sunday. Come as you are for an hour long service\, including music\, prayers\, and reflections. Children’s program provided September-June\, and there is always something for the young ones to do during worship.
URL:https://emmanuelunited.com/event/sunday-worship/2027-07-18/
LOCATION:Emmanuel UC\, 420 Balmoral Drive\, Brampton\, Ontario\, Canada
CATEGORIES:Worship
ATTACH;FMTTYPE=image/jpeg:https://emmanuelunited.com/wp-content/uploads/2025/05/326532972_1140884776571144_7440115511639422560_n.jpg
END:VEVENT
BEGIN:VEVENT
DTSTART;TZID=America/Toronto:20270718T120000
DTEND;TZID=America/Toronto:20270718T133000
DTSTAMP:20260425T115134
CREATED:20250910T151150Z
LAST-MODIFIED:20260402T192031Z
UID:10002407-1815912000-1815917400@emmanuelunited.com
SUMMARY:Soup-N-Sip
DESCRIPTION:We are introducing Soup-N-Sip\, a monthly social event to meet for hot soup and warm conversation.  \nWe will meet once a month. Everyone is invited\, bring any friends interested! \nWe hope to make this a social – success\, please invite anyone interested!
URL:https://emmanuelunited.com/event/soup-n-sip/2027-07-18/
LOCATION:Emmanuel UC\, 420 Balmoral Drive\, Brampton\, Ontario\, Canada
CATEGORIES:Community,Fellowship
ATTACH;FMTTYPE=image/jpeg:https://emmanuelunited.com/wp-content/uploads/2025/09/image-1621072803o8c-1-e1757517195618.jpg
END:VEVENT
BEGIN:VEVENT
DTSTART;TZID=America/Toronto:20270721T133000
DTEND;TZID=America/Toronto:20270721T143000
DTSTAMP:20260425T115134
CREATED:20250910T145921Z
LAST-MODIFIED:20260304T160851Z
UID:10001094-1816176600-1816180200@emmanuelunited.com
SUMMARY:Deeper Dive
DESCRIPTION:
URL:https://emmanuelunited.com/event/deeper-dive-3-2/2027-07-21/
LOCATION:Emmanuel UC\, 420 Balmoral Drive\, Brampton\, Ontario\, Canada
CATEGORIES:Discipleship
ATTACH;FMTTYPE=image/jpeg:https://emmanuelunited.com/wp-content/uploads/2024/04/book-wisdom-mohamed-mahmoud-hassan-CC0-e1746560078172.jpg
END:VEVENT
BEGIN:VEVENT
DTSTART;TZID=America/Toronto:20270725T110000
DTEND;TZID=America/Toronto:20270725T120000
DTSTAMP:20260425T115134
CREATED:20250506T192835Z
LAST-MODIFIED:20250507T193447Z
UID:10001913-1816513200-1816516800@emmanuelunited.com
SUMMARY:Sunday Worship
DESCRIPTION:Join us for worship each Sunday. Come as you are for an hour long service\, including music\, prayers\, and reflections. Children’s program provided September-June\, and there is always something for the young ones to do during worship.
URL:https://emmanuelunited.com/event/sunday-worship/2027-07-25/
LOCATION:Emmanuel UC\, 420 Balmoral Drive\, Brampton\, Ontario\, Canada
CATEGORIES:Worship
ATTACH;FMTTYPE=image/jpeg:https://emmanuelunited.com/wp-content/uploads/2025/05/326532972_1140884776571144_7440115511639422560_n.jpg
END:VEVENT
BEGIN:VEVENT
DTSTART;TZID=America/Toronto:20270725T120000
DTEND;TZID=America/Toronto:20270725T130000
DTSTAMP:20260425T115134
CREATED:20260402T191917Z
LAST-MODIFIED:20260402T191917Z
UID:10002174-1816516800-1816520400@emmanuelunited.com
SUMMARY:Sip-n-Talk
DESCRIPTION:Join us for coffee and fellowship after worship each week. Meet new friends\, catch up with old\, and enjoy some snacks.
URL:https://emmanuelunited.com/event/sip-n-talk-2/2027-07-25/
LOCATION:Emmanuel UC\, 420 Balmoral Drive\, Brampton\, Ontario\, Canada
CATEGORIES:Fellowship
ATTACH;FMTTYPE=image/jpeg:https://emmanuelunited.com/wp-content/uploads/2025/05/coffee-cup-and-beans-George-Hodan-CC0-e1746638839684.jpg
END:VEVENT
BEGIN:VEVENT
DTSTART;TZID=America/Toronto:20270727T103000
DTEND;TZID=America/Toronto:20270727T120000
DTSTAMP:20260425T115134
CREATED:20241002T181645Z
LAST-MODIFIED:20250507T170851Z
UID:10001296-1816684200-1816689600@emmanuelunited.com
SUMMARY:Mid-Week Sip-N-Talk
DESCRIPTION:Mid-Week Sip-N-Talk \nJoin us for Mid-Week Sip-n-Talk for some monthly social time! Everyone’s invited\, bring a friend or neighbors. \nAlways held on the last Tuesday of each month at 10:30 AM.\nPlease join us for an enjoyable time of fellowship and light refreshment.
URL:https://emmanuelunited.com/event/mid-week-sip-n-talk-3/2027-07-27/
LOCATION:Emmanuel UC\, 420 Balmoral Drive\, Brampton\, Ontario\, Canada
CATEGORIES:Fellowship
ATTACH;FMTTYPE=image/jpeg:https://emmanuelunited.com/wp-content/uploads/2024/02/hot-latte-coffee-with-hearts-Ian-L-CC0-e1746637718193.jpg
END:VEVENT
BEGIN:VEVENT
DTSTART;TZID=America/Toronto:20270728T133000
DTEND;TZID=America/Toronto:20270728T143000
DTSTAMP:20260425T115134
CREATED:20250910T145921Z
LAST-MODIFIED:20260304T160851Z
UID:10001095-1816781400-1816785000@emmanuelunited.com
SUMMARY:Deeper Dive
DESCRIPTION:
URL:https://emmanuelunited.com/event/deeper-dive-3-2/2027-07-28/
LOCATION:Emmanuel UC\, 420 Balmoral Drive\, Brampton\, Ontario\, Canada
CATEGORIES:Discipleship
ATTACH;FMTTYPE=image/jpeg:https://emmanuelunited.com/wp-content/uploads/2024/04/book-wisdom-mohamed-mahmoud-hassan-CC0-e1746560078172.jpg
END:VEVENT
BEGIN:VEVENT
DTSTART;TZID=America/Toronto:20270728T190000
DTEND;TZID=America/Toronto:20270728T210000
DTSTAMP:20260425T115134
CREATED:20260311T194316Z
LAST-MODIFIED:20260311T194316Z
UID:10002730-1816801200-1816808400@emmanuelunited.com
SUMMARY:Board Meeting
DESCRIPTION:
URL:https://emmanuelunited.com/event/board-meeting/2027-07-28/
LOCATION:Emmanuel UC\, 420 Balmoral Drive\, Brampton\, Ontario\, Canada
CATEGORIES:Governance
END:VEVENT
BEGIN:VEVENT
DTSTART;TZID=America/Toronto:20270801T110000
DTEND;TZID=America/Toronto:20270801T120000
DTSTAMP:20260425T115134
CREATED:20250506T192835Z
LAST-MODIFIED:20250507T193447Z
UID:10001914-1817118000-1817121600@emmanuelunited.com
SUMMARY:Sunday Worship
DESCRIPTION:Join us for worship each Sunday. Come as you are for an hour long service\, including music\, prayers\, and reflections. Children’s program provided September-June\, and there is always something for the young ones to do during worship.
URL:https://emmanuelunited.com/event/sunday-worship/2027-08-01/
LOCATION:Emmanuel UC\, 420 Balmoral Drive\, Brampton\, Ontario\, Canada
CATEGORIES:Worship
ATTACH;FMTTYPE=image/jpeg:https://emmanuelunited.com/wp-content/uploads/2025/05/326532972_1140884776571144_7440115511639422560_n.jpg
END:VEVENT
BEGIN:VEVENT
DTSTART;TZID=America/Toronto:20270801T120000
DTEND;TZID=America/Toronto:20270801T130000
DTSTAMP:20260425T115134
CREATED:20260402T191917Z
LAST-MODIFIED:20260402T191917Z
UID:10002175-1817121600-1817125200@emmanuelunited.com
SUMMARY:Sip-n-Talk
DESCRIPTION:Join us for coffee and fellowship after worship each week. Meet new friends\, catch up with old\, and enjoy some snacks.
URL:https://emmanuelunited.com/event/sip-n-talk-2/2027-08-01/
LOCATION:Emmanuel UC\, 420 Balmoral Drive\, Brampton\, Ontario\, Canada
CATEGORIES:Fellowship
ATTACH;FMTTYPE=image/jpeg:https://emmanuelunited.com/wp-content/uploads/2025/05/coffee-cup-and-beans-George-Hodan-CC0-e1746638839684.jpg
END:VEVENT
BEGIN:VEVENT
DTSTART;TZID=America/Toronto:20270804T133000
DTEND;TZID=America/Toronto:20270804T143000
DTSTAMP:20260425T115134
CREATED:20250910T145921Z
LAST-MODIFIED:20260304T160851Z
UID:10001096-1817386200-1817389800@emmanuelunited.com
SUMMARY:Deeper Dive
DESCRIPTION:
URL:https://emmanuelunited.com/event/deeper-dive-3-2/2027-08-04/
LOCATION:Emmanuel UC\, 420 Balmoral Drive\, Brampton\, Ontario\, Canada
CATEGORIES:Discipleship
ATTACH;FMTTYPE=image/jpeg:https://emmanuelunited.com/wp-content/uploads/2024/04/book-wisdom-mohamed-mahmoud-hassan-CC0-e1746560078172.jpg
END:VEVENT
END:VCALENDAR