BEGIN:VCALENDAR
VERSION:2.0
PRODID:-//Emmanuel United Church, Brampton - ECPv6.15.20//NONSGML v1.0//EN
CALSCALE:GREGORIAN
METHOD:PUBLISH
X-WR-CALNAME:Emmanuel United Church, Brampton
X-ORIGINAL-URL:https://emmanuelunited.com
X-WR-CALDESC:Events for Emmanuel United Church, Brampton
REFRESH-INTERVAL;VALUE=DURATION:PT1H
X-Robots-Tag:noindex
X-PUBLISHED-TTL:PT1H
BEGIN:VTIMEZONE
TZID:America/Toronto
BEGIN:DAYLIGHT
TZOFFSETFROM:-0500
TZOFFSETTO:-0400
TZNAME:EDT
DTSTART:20270314T070000
END:DAYLIGHT
BEGIN:STANDARD
TZOFFSETFROM:-0400
TZOFFSETTO:-0500
TZNAME:EST
DTSTART:20271107T060000
END:STANDARD
BEGIN:DAYLIGHT
TZOFFSETFROM:-0500
TZOFFSETTO:-0400
TZNAME:EDT
DTSTART:20280312T070000
END:DAYLIGHT
BEGIN:STANDARD
TZOFFSETFROM:-0400
TZOFFSETTO:-0500
TZNAME:EST
DTSTART:20281105T060000
END:STANDARD
BEGIN:DAYLIGHT
TZOFFSETFROM:-0500
TZOFFSETTO:-0400
TZNAME:EDT
DTSTART:20290311T070000
END:DAYLIGHT
BEGIN:STANDARD
TZOFFSETFROM:-0400
TZOFFSETTO:-0500
TZNAME:EST
DTSTART:20291104T060000
END:STANDARD
END:VTIMEZONE
BEGIN:VEVENT
DTSTART;TZID=America/Toronto:20280503T133000
DTEND;TZID=America/Toronto:20280503T143000
DTSTAMP:20260425T125626
CREATED:20250910T145921Z
LAST-MODIFIED:20260304T160851Z
UID:10001135-1840973400-1840977000@emmanuelunited.com
SUMMARY:Deeper Dive
DESCRIPTION:
URL:https://emmanuelunited.com/event/deeper-dive-3-2/2028-05-03/
LOCATION:Emmanuel UC\, 420 Balmoral Drive\, Brampton\, Ontario\, Canada
CATEGORIES:Discipleship
ATTACH;FMTTYPE=image/jpeg:https://emmanuelunited.com/wp-content/uploads/2024/04/book-wisdom-mohamed-mahmoud-hassan-CC0-e1746560078172.jpg
END:VEVENT
BEGIN:VEVENT
DTSTART;TZID=America/Toronto:20280507T110000
DTEND;TZID=America/Toronto:20280507T120000
DTSTAMP:20260425T125626
CREATED:20250506T192835Z
LAST-MODIFIED:20250507T193447Z
UID:10001954-1841310000-1841313600@emmanuelunited.com
SUMMARY:Sunday Worship
DESCRIPTION:Join us for worship each Sunday. Come as you are for an hour long service\, including music\, prayers\, and reflections. Children’s program provided September-June\, and there is always something for the young ones to do during worship.
URL:https://emmanuelunited.com/event/sunday-worship/2028-05-07/
LOCATION:Emmanuel UC\, 420 Balmoral Drive\, Brampton\, Ontario\, Canada
CATEGORIES:Worship
ATTACH;FMTTYPE=image/jpeg:https://emmanuelunited.com/wp-content/uploads/2025/05/326532972_1140884776571144_7440115511639422560_n.jpg
END:VEVENT
BEGIN:VEVENT
DTSTART;TZID=America/Toronto:20280507T120000
DTEND;TZID=America/Toronto:20280507T130000
DTSTAMP:20260425T125626
CREATED:20260402T191917Z
LAST-MODIFIED:20260402T191917Z
UID:10002215-1841313600-1841317200@emmanuelunited.com
SUMMARY:Sip-n-Talk
DESCRIPTION:Join us for coffee and fellowship after worship each week. Meet new friends\, catch up with old\, and enjoy some snacks.
URL:https://emmanuelunited.com/event/sip-n-talk-2/2028-05-07/
LOCATION:Emmanuel UC\, 420 Balmoral Drive\, Brampton\, Ontario\, Canada
CATEGORIES:Fellowship
ATTACH;FMTTYPE=image/jpeg:https://emmanuelunited.com/wp-content/uploads/2025/05/coffee-cup-and-beans-George-Hodan-CC0-e1746638839684.jpg
END:VEVENT
BEGIN:VEVENT
DTSTART;TZID=America/Toronto:20280510T133000
DTEND;TZID=America/Toronto:20280510T143000
DTSTAMP:20260425T125626
CREATED:20250910T145921Z
LAST-MODIFIED:20260304T160851Z
UID:10001136-1841578200-1841581800@emmanuelunited.com
SUMMARY:Deeper Dive
DESCRIPTION:
URL:https://emmanuelunited.com/event/deeper-dive-3-2/2028-05-10/
LOCATION:Emmanuel UC\, 420 Balmoral Drive\, Brampton\, Ontario\, Canada
CATEGORIES:Discipleship
ATTACH;FMTTYPE=image/jpeg:https://emmanuelunited.com/wp-content/uploads/2024/04/book-wisdom-mohamed-mahmoud-hassan-CC0-e1746560078172.jpg
END:VEVENT
BEGIN:VEVENT
DTSTART;TZID=America/Toronto:20280510T190000
DTEND;TZID=America/Toronto:20280510T210000
DTSTAMP:20260425T125626
CREATED:20260304T152657Z
LAST-MODIFIED:20260311T145640Z
UID:10002475-1841598000-1841605200@emmanuelunited.com
SUMMARY:WOW UCW Meeting
DESCRIPTION:
URL:https://emmanuelunited.com/event/wow-ucw-meeting/2028-05-10/
LOCATION:Emmanuel UC\, 420 Balmoral Drive\, Brampton\, Ontario\, Canada
CATEGORIES:Fellowship
END:VEVENT
BEGIN:VEVENT
DTSTART;TZID=America/Toronto:20280513T090000
DTEND;TZID=America/Toronto:20280513T110000
DTSTAMP:20260425T125626
CREATED:20260310T133113Z
LAST-MODIFIED:20260310T133147Z
UID:10002585-1841821200-1841828400@emmanuelunited.com
SUMMARY:Men's Club
DESCRIPTION:
URL:https://emmanuelunited.com/event/mens-club/2028-05-13/
LOCATION:Emmanuel UC\, 420 Balmoral Drive\, Brampton\, Ontario\, Canada
CATEGORIES:Community,Fellowship
END:VEVENT
BEGIN:VEVENT
DTSTART;TZID=America/Toronto:20280514T110000
DTEND;TZID=America/Toronto:20280514T120000
DTSTAMP:20260425T125626
CREATED:20250506T192835Z
LAST-MODIFIED:20250507T193447Z
UID:10001955-1841914800-1841918400@emmanuelunited.com
SUMMARY:Sunday Worship
DESCRIPTION:Join us for worship each Sunday. Come as you are for an hour long service\, including music\, prayers\, and reflections. Children’s program provided September-June\, and there is always something for the young ones to do during worship.
URL:https://emmanuelunited.com/event/sunday-worship/2028-05-14/
LOCATION:Emmanuel UC\, 420 Balmoral Drive\, Brampton\, Ontario\, Canada
CATEGORIES:Worship
ATTACH;FMTTYPE=image/jpeg:https://emmanuelunited.com/wp-content/uploads/2025/05/326532972_1140884776571144_7440115511639422560_n.jpg
END:VEVENT
BEGIN:VEVENT
DTSTART;TZID=America/Toronto:20280514T120000
DTEND;TZID=America/Toronto:20280514T130000
DTSTAMP:20260425T125626
CREATED:20260402T191917Z
LAST-MODIFIED:20260402T191917Z
UID:10002216-1841918400-1841922000@emmanuelunited.com
SUMMARY:Sip-n-Talk
DESCRIPTION:Join us for coffee and fellowship after worship each week. Meet new friends\, catch up with old\, and enjoy some snacks.
URL:https://emmanuelunited.com/event/sip-n-talk-2/2028-05-14/
LOCATION:Emmanuel UC\, 420 Balmoral Drive\, Brampton\, Ontario\, Canada
CATEGORIES:Fellowship
ATTACH;FMTTYPE=image/jpeg:https://emmanuelunited.com/wp-content/uploads/2025/05/coffee-cup-and-beans-George-Hodan-CC0-e1746638839684.jpg
END:VEVENT
BEGIN:VEVENT
DTSTART;TZID=America/Toronto:20280517T133000
DTEND;TZID=America/Toronto:20280517T143000
DTSTAMP:20260425T125626
CREATED:20250910T145921Z
LAST-MODIFIED:20260304T160851Z
UID:10001137-1842183000-1842186600@emmanuelunited.com
SUMMARY:Deeper Dive
DESCRIPTION:
URL:https://emmanuelunited.com/event/deeper-dive-3-2/2028-05-17/
LOCATION:Emmanuel UC\, 420 Balmoral Drive\, Brampton\, Ontario\, Canada
CATEGORIES:Discipleship
ATTACH;FMTTYPE=image/jpeg:https://emmanuelunited.com/wp-content/uploads/2024/04/book-wisdom-mohamed-mahmoud-hassan-CC0-e1746560078172.jpg
END:VEVENT
BEGIN:VEVENT
DTSTART;TZID=America/Toronto:20280520T083000
DTEND;TZID=America/Toronto:20280520T163000
DTSTAMP:20260425T125626
CREATED:20260311T143530Z
LAST-MODIFIED:20260311T194620Z
UID:10002682-1842424200-1842453000@emmanuelunited.com
SUMMARY:Scrapbooking
DESCRIPTION:
URL:https://emmanuelunited.com/event/scrapbooking/2028-05-20/
LOCATION:Emmanuel UC\, 420 Balmoral Drive\, Brampton\, Ontario\, Canada
CATEGORIES:Community,Fellowship
END:VEVENT
BEGIN:VEVENT
DTSTART;TZID=America/Toronto:20280521T110000
DTEND;TZID=America/Toronto:20280521T120000
DTSTAMP:20260425T125626
CREATED:20250506T192835Z
LAST-MODIFIED:20250507T193447Z
UID:10001956-1842519600-1842523200@emmanuelunited.com
SUMMARY:Sunday Worship
DESCRIPTION:Join us for worship each Sunday. Come as you are for an hour long service\, including music\, prayers\, and reflections. Children’s program provided September-June\, and there is always something for the young ones to do during worship.
URL:https://emmanuelunited.com/event/sunday-worship/2028-05-21/
LOCATION:Emmanuel UC\, 420 Balmoral Drive\, Brampton\, Ontario\, Canada
CATEGORIES:Worship
ATTACH;FMTTYPE=image/jpeg:https://emmanuelunited.com/wp-content/uploads/2025/05/326532972_1140884776571144_7440115511639422560_n.jpg
END:VEVENT
BEGIN:VEVENT
DTSTART;TZID=America/Toronto:20280521T120000
DTEND;TZID=America/Toronto:20280521T133000
DTSTAMP:20260425T125626
CREATED:20250910T151150Z
LAST-MODIFIED:20260402T192031Z
UID:10002417-1842523200-1842528600@emmanuelunited.com
SUMMARY:Soup-N-Sip
DESCRIPTION:We are introducing Soup-N-Sip\, a monthly social event to meet for hot soup and warm conversation.  \nWe will meet once a month. Everyone is invited\, bring any friends interested! \nWe hope to make this a social – success\, please invite anyone interested!
URL:https://emmanuelunited.com/event/soup-n-sip/2028-05-21/
LOCATION:Emmanuel UC\, 420 Balmoral Drive\, Brampton\, Ontario\, Canada
CATEGORIES:Community,Fellowship
ATTACH;FMTTYPE=image/jpeg:https://emmanuelunited.com/wp-content/uploads/2025/09/image-1621072803o8c-1-e1757517195618.jpg
END:VEVENT
BEGIN:VEVENT
DTSTART;TZID=America/Toronto:20280524T133000
DTEND;TZID=America/Toronto:20280524T143000
DTSTAMP:20260425T125626
CREATED:20250910T145921Z
LAST-MODIFIED:20260304T160851Z
UID:10001138-1842787800-1842791400@emmanuelunited.com
SUMMARY:Deeper Dive
DESCRIPTION:
URL:https://emmanuelunited.com/event/deeper-dive-3-2/2028-05-24/
LOCATION:Emmanuel UC\, 420 Balmoral Drive\, Brampton\, Ontario\, Canada
CATEGORIES:Discipleship
ATTACH;FMTTYPE=image/jpeg:https://emmanuelunited.com/wp-content/uploads/2024/04/book-wisdom-mohamed-mahmoud-hassan-CC0-e1746560078172.jpg
END:VEVENT
BEGIN:VEVENT
DTSTART;TZID=America/Toronto:20280524T190000
DTEND;TZID=America/Toronto:20280524T210000
DTSTAMP:20260425T125626
CREATED:20260311T194316Z
LAST-MODIFIED:20260311T194316Z
UID:10002740-1842807600-1842814800@emmanuelunited.com
SUMMARY:Board Meeting
DESCRIPTION:
URL:https://emmanuelunited.com/event/board-meeting/2028-05-24/
LOCATION:Emmanuel UC\, 420 Balmoral Drive\, Brampton\, Ontario\, Canada
CATEGORIES:Governance
END:VEVENT
BEGIN:VEVENT
DTSTART;TZID=America/Toronto:20280528T110000
DTEND;TZID=America/Toronto:20280528T120000
DTSTAMP:20260425T125626
CREATED:20250506T192835Z
LAST-MODIFIED:20250507T193447Z
UID:10001957-1843124400-1843128000@emmanuelunited.com
SUMMARY:Sunday Worship
DESCRIPTION:Join us for worship each Sunday. Come as you are for an hour long service\, including music\, prayers\, and reflections. Children’s program provided September-June\, and there is always something for the young ones to do during worship.
URL:https://emmanuelunited.com/event/sunday-worship/2028-05-28/
LOCATION:Emmanuel UC\, 420 Balmoral Drive\, Brampton\, Ontario\, Canada
CATEGORIES:Worship
ATTACH;FMTTYPE=image/jpeg:https://emmanuelunited.com/wp-content/uploads/2025/05/326532972_1140884776571144_7440115511639422560_n.jpg
END:VEVENT
BEGIN:VEVENT
DTSTART;TZID=America/Toronto:20280528T120000
DTEND;TZID=America/Toronto:20280528T130000
DTSTAMP:20260425T125626
CREATED:20260402T191917Z
LAST-MODIFIED:20260402T191917Z
UID:10002218-1843128000-1843131600@emmanuelunited.com
SUMMARY:Sip-n-Talk
DESCRIPTION:Join us for coffee and fellowship after worship each week. Meet new friends\, catch up with old\, and enjoy some snacks.
URL:https://emmanuelunited.com/event/sip-n-talk-2/2028-05-28/
LOCATION:Emmanuel UC\, 420 Balmoral Drive\, Brampton\, Ontario\, Canada
CATEGORIES:Fellowship
ATTACH;FMTTYPE=image/jpeg:https://emmanuelunited.com/wp-content/uploads/2025/05/coffee-cup-and-beans-George-Hodan-CC0-e1746638839684.jpg
END:VEVENT
BEGIN:VEVENT
DTSTART;TZID=America/Toronto:20280530T103000
DTEND;TZID=America/Toronto:20280530T120000
DTSTAMP:20260425T125626
CREATED:20241002T181645Z
LAST-MODIFIED:20250507T170851Z
UID:10001306-1843295400-1843300800@emmanuelunited.com
SUMMARY:Mid-Week Sip-N-Talk
DESCRIPTION:Mid-Week Sip-N-Talk \nJoin us for Mid-Week Sip-n-Talk for some monthly social time! Everyone’s invited\, bring a friend or neighbors. \nAlways held on the last Tuesday of each month at 10:30 AM.\nPlease join us for an enjoyable time of fellowship and light refreshment.
URL:https://emmanuelunited.com/event/mid-week-sip-n-talk-3/2028-05-30/
LOCATION:Emmanuel UC\, 420 Balmoral Drive\, Brampton\, Ontario\, Canada
CATEGORIES:Fellowship
ATTACH;FMTTYPE=image/jpeg:https://emmanuelunited.com/wp-content/uploads/2024/02/hot-latte-coffee-with-hearts-Ian-L-CC0-e1746637718193.jpg
END:VEVENT
BEGIN:VEVENT
DTSTART;TZID=America/Toronto:20280531T133000
DTEND;TZID=America/Toronto:20280531T143000
DTSTAMP:20260425T125626
CREATED:20250910T145921Z
LAST-MODIFIED:20260304T160851Z
UID:10001139-1843392600-1843396200@emmanuelunited.com
SUMMARY:Deeper Dive
DESCRIPTION:
URL:https://emmanuelunited.com/event/deeper-dive-3-2/2028-05-31/
LOCATION:Emmanuel UC\, 420 Balmoral Drive\, Brampton\, Ontario\, Canada
CATEGORIES:Discipleship
ATTACH;FMTTYPE=image/jpeg:https://emmanuelunited.com/wp-content/uploads/2024/04/book-wisdom-mohamed-mahmoud-hassan-CC0-e1746560078172.jpg
END:VEVENT
BEGIN:VEVENT
DTSTART;TZID=America/Toronto:20280604T110000
DTEND;TZID=America/Toronto:20280604T120000
DTSTAMP:20260425T125626
CREATED:20250506T192835Z
LAST-MODIFIED:20250507T193447Z
UID:10001958-1843729200-1843732800@emmanuelunited.com
SUMMARY:Sunday Worship
DESCRIPTION:Join us for worship each Sunday. Come as you are for an hour long service\, including music\, prayers\, and reflections. Children’s program provided September-June\, and there is always something for the young ones to do during worship.
URL:https://emmanuelunited.com/event/sunday-worship/2028-06-04/
LOCATION:Emmanuel UC\, 420 Balmoral Drive\, Brampton\, Ontario\, Canada
CATEGORIES:Worship
ATTACH;FMTTYPE=image/jpeg:https://emmanuelunited.com/wp-content/uploads/2025/05/326532972_1140884776571144_7440115511639422560_n.jpg
END:VEVENT
BEGIN:VEVENT
DTSTART;TZID=America/Toronto:20280604T120000
DTEND;TZID=America/Toronto:20280604T130000
DTSTAMP:20260425T125626
CREATED:20260402T191917Z
LAST-MODIFIED:20260402T191917Z
UID:10002219-1843732800-1843736400@emmanuelunited.com
SUMMARY:Sip-n-Talk
DESCRIPTION:Join us for coffee and fellowship after worship each week. Meet new friends\, catch up with old\, and enjoy some snacks.
URL:https://emmanuelunited.com/event/sip-n-talk-2/2028-06-04/
LOCATION:Emmanuel UC\, 420 Balmoral Drive\, Brampton\, Ontario\, Canada
CATEGORIES:Fellowship
ATTACH;FMTTYPE=image/jpeg:https://emmanuelunited.com/wp-content/uploads/2025/05/coffee-cup-and-beans-George-Hodan-CC0-e1746638839684.jpg
END:VEVENT
BEGIN:VEVENT
DTSTART;TZID=America/Toronto:20280607T133000
DTEND;TZID=America/Toronto:20280607T143000
DTSTAMP:20260425T125626
CREATED:20250910T145921Z
LAST-MODIFIED:20260304T160851Z
UID:10001140-1843997400-1844001000@emmanuelunited.com
SUMMARY:Deeper Dive
DESCRIPTION:
URL:https://emmanuelunited.com/event/deeper-dive-3-2/2028-06-07/
LOCATION:Emmanuel UC\, 420 Balmoral Drive\, Brampton\, Ontario\, Canada
CATEGORIES:Discipleship
ATTACH;FMTTYPE=image/jpeg:https://emmanuelunited.com/wp-content/uploads/2024/04/book-wisdom-mohamed-mahmoud-hassan-CC0-e1746560078172.jpg
END:VEVENT
BEGIN:VEVENT
DTSTART;TZID=America/Toronto:20280610T090000
DTEND;TZID=America/Toronto:20280610T110000
DTSTAMP:20260425T125626
CREATED:20260310T133113Z
LAST-MODIFIED:20260310T133147Z
UID:10002586-1844240400-1844247600@emmanuelunited.com
SUMMARY:Men's Club
DESCRIPTION:
URL:https://emmanuelunited.com/event/mens-club/2028-06-10/
LOCATION:Emmanuel UC\, 420 Balmoral Drive\, Brampton\, Ontario\, Canada
CATEGORIES:Community,Fellowship
END:VEVENT
BEGIN:VEVENT
DTSTART;TZID=America/Toronto:20280611T110000
DTEND;TZID=America/Toronto:20280611T120000
DTSTAMP:20260425T125626
CREATED:20250506T192835Z
LAST-MODIFIED:20250507T193447Z
UID:10001959-1844334000-1844337600@emmanuelunited.com
SUMMARY:Sunday Worship
DESCRIPTION:Join us for worship each Sunday. Come as you are for an hour long service\, including music\, prayers\, and reflections. Children’s program provided September-June\, and there is always something for the young ones to do during worship.
URL:https://emmanuelunited.com/event/sunday-worship/2028-06-11/
LOCATION:Emmanuel UC\, 420 Balmoral Drive\, Brampton\, Ontario\, Canada
CATEGORIES:Worship
ATTACH;FMTTYPE=image/jpeg:https://emmanuelunited.com/wp-content/uploads/2025/05/326532972_1140884776571144_7440115511639422560_n.jpg
END:VEVENT
BEGIN:VEVENT
DTSTART;TZID=America/Toronto:20280611T120000
DTEND;TZID=America/Toronto:20280611T130000
DTSTAMP:20260425T125626
CREATED:20260402T191917Z
LAST-MODIFIED:20260402T191917Z
UID:10002220-1844337600-1844341200@emmanuelunited.com
SUMMARY:Sip-n-Talk
DESCRIPTION:Join us for coffee and fellowship after worship each week. Meet new friends\, catch up with old\, and enjoy some snacks.
URL:https://emmanuelunited.com/event/sip-n-talk-2/2028-06-11/
LOCATION:Emmanuel UC\, 420 Balmoral Drive\, Brampton\, Ontario\, Canada
CATEGORIES:Fellowship
ATTACH;FMTTYPE=image/jpeg:https://emmanuelunited.com/wp-content/uploads/2025/05/coffee-cup-and-beans-George-Hodan-CC0-e1746638839684.jpg
END:VEVENT
BEGIN:VEVENT
DTSTART;TZID=America/Toronto:20280614T133000
DTEND;TZID=America/Toronto:20280614T143000
DTSTAMP:20260425T125626
CREATED:20250910T145921Z
LAST-MODIFIED:20260304T160851Z
UID:10001141-1844602200-1844605800@emmanuelunited.com
SUMMARY:Deeper Dive
DESCRIPTION:
URL:https://emmanuelunited.com/event/deeper-dive-3-2/2028-06-14/
LOCATION:Emmanuel UC\, 420 Balmoral Drive\, Brampton\, Ontario\, Canada
CATEGORIES:Discipleship
ATTACH;FMTTYPE=image/jpeg:https://emmanuelunited.com/wp-content/uploads/2024/04/book-wisdom-mohamed-mahmoud-hassan-CC0-e1746560078172.jpg
END:VEVENT
BEGIN:VEVENT
DTSTART;TZID=America/Toronto:20280614T190000
DTEND;TZID=America/Toronto:20280614T210000
DTSTAMP:20260425T125626
CREATED:20260304T152657Z
LAST-MODIFIED:20260311T145640Z
UID:10002476-1844622000-1844629200@emmanuelunited.com
SUMMARY:WOW UCW Meeting
DESCRIPTION:
URL:https://emmanuelunited.com/event/wow-ucw-meeting/2028-06-14/
LOCATION:Emmanuel UC\, 420 Balmoral Drive\, Brampton\, Ontario\, Canada
CATEGORIES:Fellowship
END:VEVENT
BEGIN:VEVENT
DTSTART;TZID=America/Toronto:20280617T083000
DTEND;TZID=America/Toronto:20280617T163000
DTSTAMP:20260425T125626
CREATED:20260311T143530Z
LAST-MODIFIED:20260311T194620Z
UID:10002683-1844843400-1844872200@emmanuelunited.com
SUMMARY:Scrapbooking
DESCRIPTION:
URL:https://emmanuelunited.com/event/scrapbooking/2028-06-17/
LOCATION:Emmanuel UC\, 420 Balmoral Drive\, Brampton\, Ontario\, Canada
CATEGORIES:Community,Fellowship
END:VEVENT
BEGIN:VEVENT
DTSTART;TZID=America/Toronto:20280618T110000
DTEND;TZID=America/Toronto:20280618T120000
DTSTAMP:20260425T125626
CREATED:20250506T192835Z
LAST-MODIFIED:20250507T193447Z
UID:10001960-1844938800-1844942400@emmanuelunited.com
SUMMARY:Sunday Worship
DESCRIPTION:Join us for worship each Sunday. Come as you are for an hour long service\, including music\, prayers\, and reflections. Children’s program provided September-June\, and there is always something for the young ones to do during worship.
URL:https://emmanuelunited.com/event/sunday-worship/2028-06-18/
LOCATION:Emmanuel UC\, 420 Balmoral Drive\, Brampton\, Ontario\, Canada
CATEGORIES:Worship
ATTACH;FMTTYPE=image/jpeg:https://emmanuelunited.com/wp-content/uploads/2025/05/326532972_1140884776571144_7440115511639422560_n.jpg
END:VEVENT
BEGIN:VEVENT
DTSTART;TZID=America/Toronto:20280618T120000
DTEND;TZID=America/Toronto:20280618T133000
DTSTAMP:20260425T125626
CREATED:20250910T151150Z
LAST-MODIFIED:20260402T192031Z
UID:10002418-1844942400-1844947800@emmanuelunited.com
SUMMARY:Soup-N-Sip
DESCRIPTION:We are introducing Soup-N-Sip\, a monthly social event to meet for hot soup and warm conversation.  \nWe will meet once a month. Everyone is invited\, bring any friends interested! \nWe hope to make this a social – success\, please invite anyone interested!
URL:https://emmanuelunited.com/event/soup-n-sip/2028-06-18/
LOCATION:Emmanuel UC\, 420 Balmoral Drive\, Brampton\, Ontario\, Canada
CATEGORIES:Community,Fellowship
ATTACH;FMTTYPE=image/jpeg:https://emmanuelunited.com/wp-content/uploads/2025/09/image-1621072803o8c-1-e1757517195618.jpg
END:VEVENT
BEGIN:VEVENT
DTSTART;TZID=America/Toronto:20280621T133000
DTEND;TZID=America/Toronto:20280621T143000
DTSTAMP:20260425T125626
CREATED:20250910T145921Z
LAST-MODIFIED:20260304T160851Z
UID:10001142-1845207000-1845210600@emmanuelunited.com
SUMMARY:Deeper Dive
DESCRIPTION:
URL:https://emmanuelunited.com/event/deeper-dive-3-2/2028-06-21/
LOCATION:Emmanuel UC\, 420 Balmoral Drive\, Brampton\, Ontario\, Canada
CATEGORIES:Discipleship
ATTACH;FMTTYPE=image/jpeg:https://emmanuelunited.com/wp-content/uploads/2024/04/book-wisdom-mohamed-mahmoud-hassan-CC0-e1746560078172.jpg
END:VEVENT
END:VCALENDAR