BEGIN:VCALENDAR
VERSION:2.0
PRODID:-//Emmanuel United Church, Brampton - ECPv6.15.20//NONSGML v1.0//EN
CALSCALE:GREGORIAN
METHOD:PUBLISH
X-WR-CALNAME:Emmanuel United Church, Brampton
X-ORIGINAL-URL:https://emmanuelunited.com
X-WR-CALDESC:Events for Emmanuel United Church, Brampton
REFRESH-INTERVAL;VALUE=DURATION:PT1H
X-Robots-Tag:noindex
X-PUBLISHED-TTL:PT1H
BEGIN:VTIMEZONE
TZID:America/Toronto
BEGIN:DAYLIGHT
TZOFFSETFROM:-0500
TZOFFSETTO:-0400
TZNAME:EDT
DTSTART:20250309T070000
END:DAYLIGHT
BEGIN:STANDARD
TZOFFSETFROM:-0400
TZOFFSETTO:-0500
TZNAME:EST
DTSTART:20251102T060000
END:STANDARD
BEGIN:DAYLIGHT
TZOFFSETFROM:-0500
TZOFFSETTO:-0400
TZNAME:EDT
DTSTART:20260308T070000
END:DAYLIGHT
BEGIN:STANDARD
TZOFFSETFROM:-0400
TZOFFSETTO:-0500
TZNAME:EST
DTSTART:20261101T060000
END:STANDARD
BEGIN:DAYLIGHT
TZOFFSETFROM:-0500
TZOFFSETTO:-0400
TZNAME:EDT
DTSTART:20270314T070000
END:DAYLIGHT
BEGIN:STANDARD
TZOFFSETFROM:-0400
TZOFFSETTO:-0500
TZNAME:EST
DTSTART:20271107T060000
END:STANDARD
END:VTIMEZONE
BEGIN:VEVENT
DTSTART;TZID=America/Toronto:20260412T120000
DTEND;TZID=America/Toronto:20260412T130000
DTSTAMP:20260423T165349
CREATED:20260402T191917Z
LAST-MODIFIED:20260402T191917Z
UID:10002107-1775995200-1775998800@emmanuelunited.com
SUMMARY:Sip-n-Talk
DESCRIPTION:Join us for coffee and fellowship after worship each week. Meet new friends\, catch up with old\, and enjoy some snacks.
URL:https://emmanuelunited.com/event/sip-n-talk-2/2026-04-12/
LOCATION:Emmanuel UC\, 420 Balmoral Drive\, Brampton\, Ontario\, Canada
CATEGORIES:Fellowship
ATTACH;FMTTYPE=image/jpeg:https://emmanuelunited.com/wp-content/uploads/2025/05/coffee-cup-and-beans-George-Hodan-CC0-e1746638839684.jpg
END:VEVENT
BEGIN:VEVENT
DTSTART;TZID=America/Toronto:20260412T110000
DTEND;TZID=America/Toronto:20260412T120000
DTSTAMP:20260423T165349
CREATED:20250506T192835Z
LAST-MODIFIED:20250507T193447Z
UID:10001846-1775991600-1775995200@emmanuelunited.com
SUMMARY:Sunday Worship
DESCRIPTION:Join us for worship each Sunday. Come as you are for an hour long service\, including music\, prayers\, and reflections. Children’s program provided September-June\, and there is always something for the young ones to do during worship.
URL:https://emmanuelunited.com/event/sunday-worship/2026-04-12/
LOCATION:Emmanuel UC\, 420 Balmoral Drive\, Brampton\, Ontario\, Canada
CATEGORIES:Worship
ATTACH;FMTTYPE=image/jpeg:https://emmanuelunited.com/wp-content/uploads/2025/05/326532972_1140884776571144_7440115511639422560_n.jpg
END:VEVENT
BEGIN:VEVENT
DTSTART;TZID=America/Toronto:20260411T090000
DTEND;TZID=America/Toronto:20260411T110000
DTSTAMP:20260423T165349
CREATED:20260310T133113Z
LAST-MODIFIED:20260310T133147Z
UID:10002560-1775898000-1775905200@emmanuelunited.com
SUMMARY:Men's Club
DESCRIPTION:
URL:https://emmanuelunited.com/event/mens-club/2026-04-11/
LOCATION:Emmanuel UC\, 420 Balmoral Drive\, Brampton\, Ontario\, Canada
CATEGORIES:Community,Fellowship
END:VEVENT
BEGIN:VEVENT
DTSTART;TZID=America/Toronto:20260408T190000
DTEND;TZID=America/Toronto:20260408T210000
DTSTAMP:20260423T165349
CREATED:20260304T152657Z
LAST-MODIFIED:20260311T145640Z
UID:10002450-1775674800-1775682000@emmanuelunited.com
SUMMARY:WOW UCW Meeting
DESCRIPTION:
URL:https://emmanuelunited.com/event/wow-ucw-meeting/2026-04-08/
LOCATION:Emmanuel UC\, 420 Balmoral Drive\, Brampton\, Ontario\, Canada
CATEGORIES:Fellowship
END:VEVENT
BEGIN:VEVENT
DTSTART;TZID=America/Toronto:20260408T133000
DTEND;TZID=America/Toronto:20260408T143000
DTSTAMP:20260423T165349
CREATED:20250910T145921Z
LAST-MODIFIED:20260304T160851Z
UID:10001027-1775655000-1775658600@emmanuelunited.com
SUMMARY:Deeper Dive
DESCRIPTION:
URL:https://emmanuelunited.com/event/deeper-dive-3-2/2026-04-08/
LOCATION:Emmanuel UC\, 420 Balmoral Drive\, Brampton\, Ontario\, Canada
CATEGORIES:Discipleship
ATTACH;FMTTYPE=image/jpeg:https://emmanuelunited.com/wp-content/uploads/2024/04/book-wisdom-mohamed-mahmoud-hassan-CC0-e1746560078172.jpg
END:VEVENT
BEGIN:VEVENT
DTSTART;TZID=America/Toronto:20260405T120000
DTEND;TZID=America/Toronto:20260405T130000
DTSTAMP:20260423T165349
CREATED:20260402T191917Z
LAST-MODIFIED:20260402T191917Z
UID:10002106-1775390400-1775394000@emmanuelunited.com
SUMMARY:Sip-n-Talk
DESCRIPTION:Join us for coffee and fellowship after worship each week. Meet new friends\, catch up with old\, and enjoy some snacks.
URL:https://emmanuelunited.com/event/sip-n-talk-2/2026-04-05/
LOCATION:Emmanuel UC\, 420 Balmoral Drive\, Brampton\, Ontario\, Canada
CATEGORIES:Fellowship
ATTACH;FMTTYPE=image/jpeg:https://emmanuelunited.com/wp-content/uploads/2025/05/coffee-cup-and-beans-George-Hodan-CC0-e1746638839684.jpg
END:VEVENT
BEGIN:VEVENT
DTSTART;TZID=America/Toronto:20260405T110000
DTEND;TZID=America/Toronto:20260405T120000
DTSTAMP:20260423T165349
CREATED:20250506T192835Z
LAST-MODIFIED:20250507T193447Z
UID:10001845-1775386800-1775390400@emmanuelunited.com
SUMMARY:Sunday Worship
DESCRIPTION:Join us for worship each Sunday. Come as you are for an hour long service\, including music\, prayers\, and reflections. Children’s program provided September-June\, and there is always something for the young ones to do during worship.
URL:https://emmanuelunited.com/event/sunday-worship/2026-04-05/
LOCATION:Emmanuel UC\, 420 Balmoral Drive\, Brampton\, Ontario\, Canada
CATEGORIES:Worship
ATTACH;FMTTYPE=image/jpeg:https://emmanuelunited.com/wp-content/uploads/2025/05/326532972_1140884776571144_7440115511639422560_n.jpg
END:VEVENT
BEGIN:VEVENT
DTSTART;TZID=America/Toronto:20260403T110000
DTEND;TZID=America/Toronto:20260403T120000
DTSTAMP:20260423T165349
CREATED:20260311T194056Z
LAST-MODIFIED:20260311T194056Z
UID:10002641-1775214000-1775217600@emmanuelunited.com
SUMMARY:Good Friday Service
DESCRIPTION:
URL:https://emmanuelunited.com/event/good-friday-service/
LOCATION:Emmanuel UC\, 420 Balmoral Drive\, Brampton\, Ontario\, Canada
CATEGORIES:Worship
END:VEVENT
BEGIN:VEVENT
DTSTART;TZID=America/Toronto:20260402T183000
DTEND;TZID=America/Toronto:20260402T193000
DTSTAMP:20260423T165349
CREATED:20260311T194005Z
LAST-MODIFIED:20260311T194005Z
UID:10002640-1775154600-1775158200@emmanuelunited.com
SUMMARY:Maundy Thursday Service
DESCRIPTION:
URL:https://emmanuelunited.com/event/maundy-thursday-service/
LOCATION:Emmanuel UC\, 420 Balmoral Drive\, Brampton\, Ontario\, Canada
CATEGORIES:Worship
END:VEVENT
BEGIN:VEVENT
DTSTART;TZID=America/Toronto:20260401T133000
DTEND;TZID=America/Toronto:20260401T143000
DTSTAMP:20260423T165349
CREATED:20250910T145921Z
LAST-MODIFIED:20260304T160851Z
UID:10001026-1775050200-1775053800@emmanuelunited.com
SUMMARY:Deeper Dive
DESCRIPTION:
URL:https://emmanuelunited.com/event/deeper-dive-3-2/2026-04-01/
LOCATION:Emmanuel UC\, 420 Balmoral Drive\, Brampton\, Ontario\, Canada
CATEGORIES:Discipleship
ATTACH;FMTTYPE=image/jpeg:https://emmanuelunited.com/wp-content/uploads/2024/04/book-wisdom-mohamed-mahmoud-hassan-CC0-e1746560078172.jpg
END:VEVENT
BEGIN:VEVENT
DTSTART;TZID=America/Toronto:20260331T103000
DTEND;TZID=America/Toronto:20260331T120000
DTSTAMP:20260423T165349
CREATED:20241002T181645Z
LAST-MODIFIED:20250507T170851Z
UID:10001280-1774953000-1774958400@emmanuelunited.com
SUMMARY:Mid-Week Sip-N-Talk
DESCRIPTION:Mid-Week Sip-N-Talk \nJoin us for Mid-Week Sip-n-Talk for some monthly social time! Everyone’s invited\, bring a friend or neighbors. \nAlways held on the last Tuesday of each month at 10:30 AM.\nPlease join us for an enjoyable time of fellowship and light refreshment.
URL:https://emmanuelunited.com/event/mid-week-sip-n-talk-3/2026-03-31/
LOCATION:Emmanuel UC\, 420 Balmoral Drive\, Brampton\, Ontario\, Canada
CATEGORIES:Fellowship
ATTACH;FMTTYPE=image/jpeg:https://emmanuelunited.com/wp-content/uploads/2024/02/hot-latte-coffee-with-hearts-Ian-L-CC0-e1746637718193.jpg
END:VEVENT
BEGIN:VEVENT
DTSTART;TZID=America/Toronto:20260329T190000
DTEND;TZID=America/Toronto:20260329T200000
DTSTAMP:20260423T165349
CREATED:20260311T194141Z
LAST-MODIFIED:20260320T162642Z
UID:10002639-1774810800-1774814400@emmanuelunited.com
SUMMARY:Cantata
DESCRIPTION:Join us in celebration of this Easter Season.Enjoy a timeless Cantata presented by our Senior Choir!\n\nConcert will start at 7:00pm and all are welcome\,A free will offering would be greatly appreciated as they will be directed to Regeneration!\n\nFor more information call 905-792-3269Or at: Office@emmanuelunited.com
URL:https://emmanuelunited.com/event/cantata/
LOCATION:Emmanuel UC\, 420 Balmoral Drive\, Brampton\, Ontario\, Canada
CATEGORIES:Community,Worship
ATTACH;FMTTYPE=image/png:https://emmanuelunited.com/wp-content/uploads/2026/03/Screenshot-2026-03-20-122548.png
END:VEVENT
BEGIN:VEVENT
DTSTART;TZID=America/Toronto:20260329T120000
DTEND;TZID=America/Toronto:20260329T130000
DTSTAMP:20260423T165349
CREATED:20250506T193013Z
LAST-MODIFIED:20260311T183953Z
UID:10002105-1774785600-1774789200@emmanuelunited.com
SUMMARY:Sip-n-Talk
DESCRIPTION:Join us for coffee and fellowship after worship each week. Meet new friends\, catch up with old\, and enjoy some snacks.
URL:https://emmanuelunited.com/event/sip-n-talk/2026-03-29/
LOCATION:Emmanuel UC\, 420 Balmoral Drive\, Brampton\, Ontario\, Canada
CATEGORIES:Fellowship
ATTACH;FMTTYPE=image/jpeg:https://emmanuelunited.com/wp-content/uploads/2025/05/coffee-cup-and-beans-George-Hodan-CC0-e1746638839684.jpg
END:VEVENT
BEGIN:VEVENT
DTSTART;TZID=America/Toronto:20260329T110000
DTEND;TZID=America/Toronto:20260329T120000
DTSTAMP:20260423T165349
CREATED:20250506T192835Z
LAST-MODIFIED:20250507T193447Z
UID:10001844-1774782000-1774785600@emmanuelunited.com
SUMMARY:Sunday Worship
DESCRIPTION:Join us for worship each Sunday. Come as you are for an hour long service\, including music\, prayers\, and reflections. Children’s program provided September-June\, and there is always something for the young ones to do during worship.
URL:https://emmanuelunited.com/event/sunday-worship/2026-03-29/
LOCATION:Emmanuel UC\, 420 Balmoral Drive\, Brampton\, Ontario\, Canada
CATEGORIES:Worship
ATTACH;FMTTYPE=image/jpeg:https://emmanuelunited.com/wp-content/uploads/2025/05/326532972_1140884776571144_7440115511639422560_n.jpg
END:VEVENT
BEGIN:VEVENT
DTSTART;TZID=America/Toronto:20260325T190000
DTEND;TZID=America/Toronto:20260325T210000
DTSTAMP:20260423T165349
CREATED:20260311T194316Z
LAST-MODIFIED:20260311T194316Z
UID:10002638-1774465200-1774472400@emmanuelunited.com
SUMMARY:Board Meeting
DESCRIPTION:
URL:https://emmanuelunited.com/event/board-meeting/2026-03-25/
LOCATION:Emmanuel UC\, 420 Balmoral Drive\, Brampton\, Ontario\, Canada
CATEGORIES:Governance
END:VEVENT
BEGIN:VEVENT
DTSTART;TZID=America/Toronto:20260325T133000
DTEND;TZID=America/Toronto:20260325T143000
DTSTAMP:20260423T165349
CREATED:20250910T145921Z
LAST-MODIFIED:20260304T160851Z
UID:10001025-1774445400-1774449000@emmanuelunited.com
SUMMARY:Deeper Dive
DESCRIPTION:
URL:https://emmanuelunited.com/event/deeper-dive-3-2/2026-03-25/
LOCATION:Emmanuel UC\, 420 Balmoral Drive\, Brampton\, Ontario\, Canada
CATEGORIES:Discipleship
ATTACH;FMTTYPE=image/jpeg:https://emmanuelunited.com/wp-content/uploads/2024/04/book-wisdom-mohamed-mahmoud-hassan-CC0-e1746560078172.jpg
END:VEVENT
BEGIN:VEVENT
DTSTART;TZID=America/Toronto:20260324T130000
DTEND;TZID=America/Toronto:20260324T150000
DTSTAMP:20260423T165349
CREATED:20260311T194353Z
LAST-MODIFIED:20260311T194353Z
UID:10002622-1774357200-1774364400@emmanuelunited.com
SUMMARY:Sunshine UCW
DESCRIPTION:
URL:https://emmanuelunited.com/event/sunshine-ucw/2026-03-24/
LOCATION:Emmanuel UC\, 420 Balmoral Drive\, Brampton\, Ontario\, Canada
CATEGORIES:Fellowship,Service
END:VEVENT
BEGIN:VEVENT
DTSTART;TZID=America/Toronto:20260322T120000
DTEND;TZID=America/Toronto:20260322T130000
DTSTAMP:20260423T165349
CREATED:20250506T193013Z
LAST-MODIFIED:20260311T183953Z
UID:10002104-1774180800-1774184400@emmanuelunited.com
SUMMARY:Sip-n-Talk
DESCRIPTION:Join us for coffee and fellowship after worship each week. Meet new friends\, catch up with old\, and enjoy some snacks.
URL:https://emmanuelunited.com/event/sip-n-talk/2026-03-22/
LOCATION:Emmanuel UC\, 420 Balmoral Drive\, Brampton\, Ontario\, Canada
CATEGORIES:Fellowship
ATTACH;FMTTYPE=image/jpeg:https://emmanuelunited.com/wp-content/uploads/2025/05/coffee-cup-and-beans-George-Hodan-CC0-e1746638839684.jpg
END:VEVENT
BEGIN:VEVENT
DTSTART;TZID=America/Toronto:20260322T110000
DTEND;TZID=America/Toronto:20260322T120000
DTSTAMP:20260423T165349
CREATED:20250506T192835Z
LAST-MODIFIED:20250507T193447Z
UID:10001843-1774177200-1774180800@emmanuelunited.com
SUMMARY:Sunday Worship
DESCRIPTION:Join us for worship each Sunday. Come as you are for an hour long service\, including music\, prayers\, and reflections. Children’s program provided September-June\, and there is always something for the young ones to do during worship.
URL:https://emmanuelunited.com/event/sunday-worship/2026-03-22/
LOCATION:Emmanuel UC\, 420 Balmoral Drive\, Brampton\, Ontario\, Canada
CATEGORIES:Worship
ATTACH;FMTTYPE=image/jpeg:https://emmanuelunited.com/wp-content/uploads/2025/05/326532972_1140884776571144_7440115511639422560_n.jpg
END:VEVENT
BEGIN:VEVENT
DTSTART;TZID=America/Toronto:20260321T083000
DTEND;TZID=America/Toronto:20260321T163000
DTSTAMP:20260423T165349
CREATED:20260311T143530Z
LAST-MODIFIED:20260311T194620Z
UID:10002621-1774081800-1774110600@emmanuelunited.com
SUMMARY:Scrapbooking
DESCRIPTION:
URL:https://emmanuelunited.com/event/scrapbooking/2026-03-21/
LOCATION:Emmanuel UC\, 420 Balmoral Drive\, Brampton\, Ontario\, Canada
CATEGORIES:Community,Fellowship
END:VEVENT
BEGIN:VEVENT
DTSTART;TZID=America/Toronto:20260318T133000
DTEND;TZID=America/Toronto:20260318T143000
DTSTAMP:20260423T165349
CREATED:20250910T145921Z
LAST-MODIFIED:20260304T160851Z
UID:10001024-1773840600-1773844200@emmanuelunited.com
SUMMARY:Deeper Dive
DESCRIPTION:
URL:https://emmanuelunited.com/event/deeper-dive-3-2/2026-03-18/
LOCATION:Emmanuel UC\, 420 Balmoral Drive\, Brampton\, Ontario\, Canada
CATEGORIES:Discipleship
ATTACH;FMTTYPE=image/jpeg:https://emmanuelunited.com/wp-content/uploads/2024/04/book-wisdom-mohamed-mahmoud-hassan-CC0-e1746560078172.jpg
END:VEVENT
BEGIN:VEVENT
DTSTART;TZID=America/Toronto:20260317T103000
DTEND;TZID=America/Toronto:20260317T103000
DTSTAMP:20260423T165349
CREATED:20260311T194449Z
LAST-MODIFIED:20260311T194449Z
UID:10002642-1773743400-1773743400@emmanuelunited.com
SUMMARY:Happy Hearts UCW
DESCRIPTION:
URL:https://emmanuelunited.com/event/happy-hearts-ucw/2026-03-17/
LOCATION:Emmanuel UC\, 420 Balmoral Drive\, Brampton\, Ontario\, Canada
CATEGORIES:Fellowship,Service
END:VEVENT
BEGIN:VEVENT
DTSTART;TZID=America/Toronto:20260315T120000
DTEND;TZID=America/Toronto:20260315T133000
DTSTAMP:20260423T165349
CREATED:20250910T151150Z
LAST-MODIFIED:20260402T192031Z
UID:10002391-1773576000-1773581400@emmanuelunited.com
SUMMARY:Soup-N-Sip
DESCRIPTION:We are introducing Soup-N-Sip\, a monthly social event to meet for hot soup and warm conversation.  \nWe will meet once a month. Everyone is invited\, bring any friends interested! \nWe hope to make this a social – success\, please invite anyone interested!
URL:https://emmanuelunited.com/event/soup-n-sip/2026-03-15/
LOCATION:Emmanuel UC\, 420 Balmoral Drive\, Brampton\, Ontario\, Canada
CATEGORIES:Community,Fellowship
ATTACH;FMTTYPE=image/jpeg:https://emmanuelunited.com/wp-content/uploads/2025/09/image-1621072803o8c-1-e1757517195618.jpg
END:VEVENT
BEGIN:VEVENT
DTSTART;TZID=America/Toronto:20260315T120000
DTEND;TZID=America/Toronto:20260315T130000
DTSTAMP:20260423T165349
CREATED:20250506T193013Z
LAST-MODIFIED:20260311T183953Z
UID:10002103-1773576000-1773579600@emmanuelunited.com
SUMMARY:Sip-n-Talk
DESCRIPTION:Join us for coffee and fellowship after worship each week. Meet new friends\, catch up with old\, and enjoy some snacks.
URL:https://emmanuelunited.com/event/sip-n-talk/2026-03-15/
LOCATION:Emmanuel UC\, 420 Balmoral Drive\, Brampton\, Ontario\, Canada
CATEGORIES:Fellowship
ATTACH;FMTTYPE=image/jpeg:https://emmanuelunited.com/wp-content/uploads/2025/05/coffee-cup-and-beans-George-Hodan-CC0-e1746638839684.jpg
END:VEVENT
BEGIN:VEVENT
DTSTART;TZID=America/Toronto:20260315T110000
DTEND;TZID=America/Toronto:20260315T120000
DTSTAMP:20260423T165349
CREATED:20250506T192835Z
LAST-MODIFIED:20250507T193447Z
UID:10001842-1773572400-1773576000@emmanuelunited.com
SUMMARY:Sunday Worship
DESCRIPTION:Join us for worship each Sunday. Come as you are for an hour long service\, including music\, prayers\, and reflections. Children’s program provided September-June\, and there is always something for the young ones to do during worship.
URL:https://emmanuelunited.com/event/sunday-worship/2026-03-15/
LOCATION:Emmanuel UC\, 420 Balmoral Drive\, Brampton\, Ontario\, Canada
CATEGORIES:Worship
ATTACH;FMTTYPE=image/jpeg:https://emmanuelunited.com/wp-content/uploads/2025/05/326532972_1140884776571144_7440115511639422560_n.jpg
END:VEVENT
BEGIN:VEVENT
DTSTART;TZID=America/Toronto:20260314T090000
DTEND;TZID=America/Toronto:20260314T110000
DTSTAMP:20260423T165349
CREATED:20260310T133113Z
LAST-MODIFIED:20260310T133147Z
UID:10002559-1773478800-1773486000@emmanuelunited.com
SUMMARY:Men's Club
DESCRIPTION:
URL:https://emmanuelunited.com/event/mens-club/2026-03-14/
LOCATION:Emmanuel UC\, 420 Balmoral Drive\, Brampton\, Ontario\, Canada
CATEGORIES:Community,Fellowship
END:VEVENT
BEGIN:VEVENT
DTSTART;TZID=America/Toronto:20260311T190000
DTEND;TZID=America/Toronto:20260311T210000
DTSTAMP:20260423T165349
CREATED:20260304T152657Z
LAST-MODIFIED:20260311T145640Z
UID:10002449-1773255600-1773262800@emmanuelunited.com
SUMMARY:WOW UCW Meeting
DESCRIPTION:
URL:https://emmanuelunited.com/event/wow-ucw-meeting/2026-03-11/
LOCATION:Emmanuel UC\, 420 Balmoral Drive\, Brampton\, Ontario\, Canada
CATEGORIES:Fellowship
END:VEVENT
BEGIN:VEVENT
DTSTART;TZID=America/Toronto:20260311T133000
DTEND;TZID=America/Toronto:20260311T143000
DTSTAMP:20260423T165349
CREATED:20250910T145921Z
LAST-MODIFIED:20260304T160851Z
UID:10001023-1773235800-1773239400@emmanuelunited.com
SUMMARY:Deeper Dive
DESCRIPTION:
URL:https://emmanuelunited.com/event/deeper-dive-3-2/2026-03-11/
LOCATION:Emmanuel UC\, 420 Balmoral Drive\, Brampton\, Ontario\, Canada
CATEGORIES:Discipleship
ATTACH;FMTTYPE=image/jpeg:https://emmanuelunited.com/wp-content/uploads/2024/04/book-wisdom-mohamed-mahmoud-hassan-CC0-e1746560078172.jpg
END:VEVENT
BEGIN:VEVENT
DTSTART;TZID=America/Toronto:20260308T120000
DTEND;TZID=America/Toronto:20260308T130000
DTSTAMP:20260423T165349
CREATED:20250506T193013Z
LAST-MODIFIED:20260311T183953Z
UID:10002102-1772971200-1772974800@emmanuelunited.com
SUMMARY:Sip-n-Talk
DESCRIPTION:Join us for coffee and fellowship after worship each week. Meet new friends\, catch up with old\, and enjoy some snacks.
URL:https://emmanuelunited.com/event/sip-n-talk/2026-03-08/
LOCATION:Emmanuel UC\, 420 Balmoral Drive\, Brampton\, Ontario\, Canada
CATEGORIES:Fellowship
ATTACH;FMTTYPE=image/jpeg:https://emmanuelunited.com/wp-content/uploads/2025/05/coffee-cup-and-beans-George-Hodan-CC0-e1746638839684.jpg
END:VEVENT
BEGIN:VEVENT
DTSTART;TZID=America/Toronto:20260308T110000
DTEND;TZID=America/Toronto:20260308T120000
DTSTAMP:20260423T165349
CREATED:20250506T192835Z
LAST-MODIFIED:20250507T193447Z
UID:10001841-1772967600-1772971200@emmanuelunited.com
SUMMARY:Sunday Worship
DESCRIPTION:Join us for worship each Sunday. Come as you are for an hour long service\, including music\, prayers\, and reflections. Children’s program provided September-June\, and there is always something for the young ones to do during worship.
URL:https://emmanuelunited.com/event/sunday-worship/2026-03-08/
LOCATION:Emmanuel UC\, 420 Balmoral Drive\, Brampton\, Ontario\, Canada
CATEGORIES:Worship
ATTACH;FMTTYPE=image/jpeg:https://emmanuelunited.com/wp-content/uploads/2025/05/326532972_1140884776571144_7440115511639422560_n.jpg
END:VEVENT
END:VCALENDAR