BEGIN:VCALENDAR
VERSION:2.0
PRODID:-//Emmanuel United Church, Brampton - ECPv6.15.20//NONSGML v1.0//EN
CALSCALE:GREGORIAN
METHOD:PUBLISH
X-ORIGINAL-URL:https://emmanuelunited.com
X-WR-CALDESC:Events for Emmanuel United Church, Brampton
REFRESH-INTERVAL;VALUE=DURATION:PT1H
X-Robots-Tag:noindex
X-PUBLISHED-TTL:PT1H
BEGIN:VTIMEZONE
TZID:America/Toronto
BEGIN:DAYLIGHT
TZOFFSETFROM:-0500
TZOFFSETTO:-0400
TZNAME:EDT
DTSTART:20220313T070000
END:DAYLIGHT
BEGIN:STANDARD
TZOFFSETFROM:-0400
TZOFFSETTO:-0500
TZNAME:EST
DTSTART:20221106T060000
END:STANDARD
BEGIN:DAYLIGHT
TZOFFSETFROM:-0500
TZOFFSETTO:-0400
TZNAME:EDT
DTSTART:20230312T070000
END:DAYLIGHT
BEGIN:STANDARD
TZOFFSETFROM:-0400
TZOFFSETTO:-0500
TZNAME:EST
DTSTART:20231105T060000
END:STANDARD
BEGIN:DAYLIGHT
TZOFFSETFROM:-0500
TZOFFSETTO:-0400
TZNAME:EDT
DTSTART:20240310T070000
END:DAYLIGHT
BEGIN:STANDARD
TZOFFSETFROM:-0400
TZOFFSETTO:-0500
TZNAME:EST
DTSTART:20241103T060000
END:STANDARD
BEGIN:DAYLIGHT
TZOFFSETFROM:-0500
TZOFFSETTO:-0400
TZNAME:EDT
DTSTART:20250309T070000
END:DAYLIGHT
BEGIN:STANDARD
TZOFFSETFROM:-0400
TZOFFSETTO:-0500
TZNAME:EST
DTSTART:20251102T060000
END:STANDARD
BEGIN:DAYLIGHT
TZOFFSETFROM:-0500
TZOFFSETTO:-0400
TZNAME:EDT
DTSTART:20260308T070000
END:DAYLIGHT
BEGIN:STANDARD
TZOFFSETFROM:-0400
TZOFFSETTO:-0500
TZNAME:EST
DTSTART:20261101T060000
END:STANDARD
END:VTIMEZONE
BEGIN:VEVENT
DTSTART;TZID=America/Toronto:20250608T110000
DTEND;TZID=America/Toronto:20250608T120000
DTSTAMP:20260423T232449
CREATED:20250506T192835Z
LAST-MODIFIED:20250507T193447Z
UID:10001802-1749380400-1749384000@emmanuelunited.com
SUMMARY:Sunday Worship
DESCRIPTION:Join us for worship each Sunday. Come as you are for an hour long service\, including music\, prayers\, and reflections. Children’s program provided September-June\, and there is always something for the young ones to do during worship.
URL:https://emmanuelunited.com/event/sunday-worship/2025-06-08/
LOCATION:Emmanuel UC\, 420 Balmoral Drive\, Brampton\, Ontario\, Canada
CATEGORIES:Worship
ATTACH;FMTTYPE=image/jpeg:https://emmanuelunited.com/wp-content/uploads/2025/05/326532972_1140884776571144_7440115511639422560_n.jpg
END:VEVENT
BEGIN:VEVENT
DTSTART;TZID=America/Toronto:20250601T110000
DTEND;TZID=America/Toronto:20250601T120000
DTSTAMP:20260423T232449
CREATED:20250506T192835Z
LAST-MODIFIED:20250507T193447Z
UID:10001801-1748775600-1748779200@emmanuelunited.com
SUMMARY:Sunday Worship
DESCRIPTION:Join us for worship each Sunday. Come as you are for an hour long service\, including music\, prayers\, and reflections. Children’s program provided September-June\, and there is always something for the young ones to do during worship.
URL:https://emmanuelunited.com/event/sunday-worship/2025-06-01/
LOCATION:Emmanuel UC\, 420 Balmoral Drive\, Brampton\, Ontario\, Canada
CATEGORIES:Worship
ATTACH;FMTTYPE=image/jpeg:https://emmanuelunited.com/wp-content/uploads/2025/05/326532972_1140884776571144_7440115511639422560_n.jpg
END:VEVENT
BEGIN:VEVENT
DTSTART;TZID=America/Toronto:20250531T140000
DTEND;TZID=America/Toronto:20250531T170000
DTSTAMP:20260423T232449
CREATED:20250507T170644Z
LAST-MODIFIED:20250529T134928Z
UID:10002356-1748700000-1748710800@emmanuelunited.com
SUMMARY:PCS Singers Present: Time and Again... Moment in Songs
DESCRIPTION:Join the PCS Singers for their production: Time and Again… Moments in Song.\nA musical production for all ages!\n\nTickets priced at:Adults – $35.00Children – $15.00\n\nContact office to pre-order tickets at Office@emmanuelunited.com\n\nMay 31st – 2:00pmEmmanuel United Church420 Balmoral Dr.Brampton\, ON
URL:https://emmanuelunited.com/event/pcs-singers-present-time-and-again-moment-in-songs/
LOCATION:Emmanuel UC\, 420 Balmoral Drive\, Brampton\, Ontario\, Canada
CATEGORIES:Fellowship,Worship
ATTACH;FMTTYPE=image/jpeg:https://emmanuelunited.com/wp-content/uploads/2025/05/PCS-Spring-2025-poster-1920x1080-1-e1746637648111.jpg
END:VEVENT
BEGIN:VEVENT
DTSTART;TZID=America/Toronto:20250525T110000
DTEND;TZID=America/Toronto:20250525T120000
DTSTAMP:20260423T232449
CREATED:20250506T192835Z
LAST-MODIFIED:20250507T193447Z
UID:10001800-1748170800-1748174400@emmanuelunited.com
SUMMARY:Sunday Worship
DESCRIPTION:Join us for worship each Sunday. Come as you are for an hour long service\, including music\, prayers\, and reflections. Children’s program provided September-June\, and there is always something for the young ones to do during worship.
URL:https://emmanuelunited.com/event/sunday-worship/2025-05-25/
LOCATION:Emmanuel UC\, 420 Balmoral Drive\, Brampton\, Ontario\, Canada
CATEGORIES:Worship
ATTACH;FMTTYPE=image/jpeg:https://emmanuelunited.com/wp-content/uploads/2025/05/326532972_1140884776571144_7440115511639422560_n.jpg
END:VEVENT
BEGIN:VEVENT
DTSTART;TZID=America/Toronto:20250518T110000
DTEND;TZID=America/Toronto:20250518T120000
DTSTAMP:20260423T232449
CREATED:20250506T192835Z
LAST-MODIFIED:20250507T193447Z
UID:10001799-1747566000-1747569600@emmanuelunited.com
SUMMARY:Sunday Worship
DESCRIPTION:Join us for worship each Sunday. Come as you are for an hour long service\, including music\, prayers\, and reflections. Children’s program provided September-June\, and there is always something for the young ones to do during worship.
URL:https://emmanuelunited.com/event/sunday-worship/2025-05-18/
LOCATION:Emmanuel UC\, 420 Balmoral Drive\, Brampton\, Ontario\, Canada
CATEGORIES:Worship
ATTACH;FMTTYPE=image/jpeg:https://emmanuelunited.com/wp-content/uploads/2025/05/326532972_1140884776571144_7440115511639422560_n.jpg
END:VEVENT
BEGIN:VEVENT
DTSTART;TZID=America/Toronto:20250511T110000
DTEND;TZID=America/Toronto:20250511T120000
DTSTAMP:20260423T232449
CREATED:20250506T192835Z
LAST-MODIFIED:20250507T193447Z
UID:10001798-1746961200-1746964800@emmanuelunited.com
SUMMARY:Sunday Worship
DESCRIPTION:Join us for worship each Sunday. Come as you are for an hour long service\, including music\, prayers\, and reflections. Children’s program provided September-June\, and there is always something for the young ones to do during worship.
URL:https://emmanuelunited.com/event/sunday-worship/2025-05-11/
LOCATION:Emmanuel UC\, 420 Balmoral Drive\, Brampton\, Ontario\, Canada
CATEGORIES:Worship
ATTACH;FMTTYPE=image/jpeg:https://emmanuelunited.com/wp-content/uploads/2025/05/326532972_1140884776571144_7440115511639422560_n.jpg
END:VEVENT
BEGIN:VEVENT
DTSTART;TZID=America/Toronto:20240324T190000
DTEND;TZID=America/Toronto:20240324T210000
DTSTAMP:20260423T232449
CREATED:20240229T184334Z
LAST-MODIFIED:20240229T184334Z
UID:10000433-1711306800-1711314000@emmanuelunited.com
SUMMARY:Come Walk With Me- An Easter Week Cantata
DESCRIPTION:The choirs of  Emmanuel United and Grace present\n\nCome Walk With Me – An Easter Week Cantata\nCome join us Sunday March 24th at 7pm at Emmanuel United Church for our annual Easter Cantata and celebrate in song.\nEveryone is welcome\, and guests are highly encouraged.
URL:https://emmanuelunited.com/event/come-walk-with-me-an-easter-week-cantata/
LOCATION:Emmanuel UC\, 420 Balmoral Drive\, Brampton\, Ontario\, Canada
CATEGORIES:Discipleship,Fellowship,Worship
ATTACH;FMTTYPE=image/jpeg:https://emmanuelunited.com/wp-content/uploads/2024/02/ComeWalkWithMecropped.jpg
END:VEVENT
BEGIN:VEVENT
DTSTART;TZID=America/Toronto:20240324T190000
DTEND;TZID=America/Toronto:20240324T210000
DTSTAMP:20260423T232449
CREATED:20240229T184334Z
LAST-MODIFIED:20240229T184334Z
UID:10001365-1711306800-1711314000@emmanuelunited.com
SUMMARY:Come Walk With Me- An Easter Week Cantata
DESCRIPTION:The choirs of  Emmanuel United and Grace present\n\nCome Walk With Me – An Easter Week Cantata\nCome join us Sunday March 24th at 7pm at Emmanuel United Church for our annual Easter Cantata and celebrate in song.\nEveryone is welcome\, and guests are highly encouraged.
URL:https://emmanuelunited.com/event/come-walk-with-me-an-easter-week-cantata-2/
LOCATION:Emmanuel UC\, 420 Balmoral Drive\, Brampton\, Ontario\, Canada
CATEGORIES:Discipleship,Fellowship,Worship
ATTACH;FMTTYPE=image/jpeg:https://emmanuelunited.com/wp-content/uploads/2024/02/ComeWalkWithMecropped.jpg
END:VEVENT
BEGIN:VEVENT
DTSTART;TZID=America/Toronto:20240211T110000
DTEND;TZID=America/Toronto:20240211T120000
DTSTAMP:20260423T232449
CREATED:20240103T200944Z
LAST-MODIFIED:20240103T200944Z
UID:10001346-1707649200-1707652800@emmanuelunited.com
SUMMARY:"The Call of God" Worship
DESCRIPTION:Why does God have\, or need a church? What is our role as followers of Jesus? The question of God’s call has two parts\, which we will explore in this series. First\, what is God calling us to? What is it to be a follower of Jesus? Second\, what is call calling us to do? What is God’s mission in the world\, and how does a church help with that? \nJoin us this Epiphany season as we look at both these questions in more detail.
URL:https://emmanuelunited.com/event/the-call-of-god-worship-5/2024-02-11/
LOCATION:Emmanuel UC\, 420 Balmoral Drive\, Brampton\, Ontario\, Canada
CATEGORIES:Worship
ATTACH;FMTTYPE=image/jpeg:https://emmanuelunited.com/wp-content/uploads/2024/01/Call-of-God-Epiphany_LowRes-WebSlide.jpg
END:VEVENT
BEGIN:VEVENT
DTSTART;TZID=America/Toronto:20240211T110000
DTEND;TZID=America/Toronto:20240211T120000
DTSTAMP:20260423T232449
CREATED:20240103T200944Z
LAST-MODIFIED:20240103T200944Z
UID:10000405-1707649200-1707652800@emmanuelunited.com
SUMMARY:"The Call of God" Worship
DESCRIPTION:Why does God have\, or need a church? What is our role as followers of Jesus? The question of God’s call has two parts\, which we will explore in this series. First\, what is God calling us to? What is it to be a follower of Jesus? Second\, what is call calling us to do? What is God’s mission in the world\, and how does a church help with that? \nJoin us this Epiphany season as we look at both these questions in more detail.
URL:https://emmanuelunited.com/event/the-call-of-god-worship/2024-02-11/
LOCATION:Emmanuel UC\, 420 Balmoral Drive\, Brampton\, Ontario\, Canada
CATEGORIES:Worship
ATTACH;FMTTYPE=image/jpeg:https://emmanuelunited.com/wp-content/uploads/2024/01/Call-of-God-Epiphany_LowRes-WebSlide.jpg
END:VEVENT
BEGIN:VEVENT
DTSTART;TZID=America/Toronto:20240204T110000
DTEND;TZID=America/Toronto:20240204T120000
DTSTAMP:20260423T232449
CREATED:20240103T200944Z
LAST-MODIFIED:20240103T200944Z
UID:10000404-1707044400-1707048000@emmanuelunited.com
SUMMARY:"The Call of God" Worship
DESCRIPTION:Why does God have\, or need a church? What is our role as followers of Jesus? The question of God’s call has two parts\, which we will explore in this series. First\, what is God calling us to? What is it to be a follower of Jesus? Second\, what is call calling us to do? What is God’s mission in the world\, and how does a church help with that? \nJoin us this Epiphany season as we look at both these questions in more detail.
URL:https://emmanuelunited.com/event/the-call-of-god-worship/2024-02-04/
LOCATION:Emmanuel UC\, 420 Balmoral Drive\, Brampton\, Ontario\, Canada
CATEGORIES:Worship
ATTACH;FMTTYPE=image/jpeg:https://emmanuelunited.com/wp-content/uploads/2024/01/Call-of-God-Epiphany_LowRes-WebSlide.jpg
END:VEVENT
BEGIN:VEVENT
DTSTART;TZID=America/Toronto:20240204T110000
DTEND;TZID=America/Toronto:20240204T120000
DTSTAMP:20260423T232449
CREATED:20240103T200944Z
LAST-MODIFIED:20240103T200944Z
UID:10001345-1707044400-1707048000@emmanuelunited.com
SUMMARY:"The Call of God" Worship
DESCRIPTION:Why does God have\, or need a church? What is our role as followers of Jesus? The question of God’s call has two parts\, which we will explore in this series. First\, what is God calling us to? What is it to be a follower of Jesus? Second\, what is call calling us to do? What is God’s mission in the world\, and how does a church help with that? \nJoin us this Epiphany season as we look at both these questions in more detail.
URL:https://emmanuelunited.com/event/the-call-of-god-worship-5/2024-02-04/
LOCATION:Emmanuel UC\, 420 Balmoral Drive\, Brampton\, Ontario\, Canada
CATEGORIES:Worship
ATTACH;FMTTYPE=image/jpeg:https://emmanuelunited.com/wp-content/uploads/2024/01/Call-of-God-Epiphany_LowRes-WebSlide.jpg
END:VEVENT
BEGIN:VEVENT
DTSTART;TZID=America/Toronto:20240128T110000
DTEND;TZID=America/Toronto:20240128T120000
DTSTAMP:20260423T232449
CREATED:20240103T200944Z
LAST-MODIFIED:20240103T200944Z
UID:10000403-1706439600-1706443200@emmanuelunited.com
SUMMARY:"The Call of God" Worship
DESCRIPTION:Why does God have\, or need a church? What is our role as followers of Jesus? The question of God’s call has two parts\, which we will explore in this series. First\, what is God calling us to? What is it to be a follower of Jesus? Second\, what is call calling us to do? What is God’s mission in the world\, and how does a church help with that? \nJoin us this Epiphany season as we look at both these questions in more detail.
URL:https://emmanuelunited.com/event/the-call-of-god-worship/2024-01-28/
LOCATION:Emmanuel UC\, 420 Balmoral Drive\, Brampton\, Ontario\, Canada
CATEGORIES:Worship
ATTACH;FMTTYPE=image/jpeg:https://emmanuelunited.com/wp-content/uploads/2024/01/Call-of-God-Epiphany_LowRes-WebSlide.jpg
END:VEVENT
BEGIN:VEVENT
DTSTART;TZID=America/Toronto:20240128T110000
DTEND;TZID=America/Toronto:20240128T120000
DTSTAMP:20260423T232449
CREATED:20240103T200944Z
LAST-MODIFIED:20240103T200944Z
UID:10001344-1706439600-1706443200@emmanuelunited.com
SUMMARY:"The Call of God" Worship
DESCRIPTION:Why does God have\, or need a church? What is our role as followers of Jesus? The question of God’s call has two parts\, which we will explore in this series. First\, what is God calling us to? What is it to be a follower of Jesus? Second\, what is call calling us to do? What is God’s mission in the world\, and how does a church help with that? \nJoin us this Epiphany season as we look at both these questions in more detail.
URL:https://emmanuelunited.com/event/the-call-of-god-worship-5/2024-01-28/
LOCATION:Emmanuel UC\, 420 Balmoral Drive\, Brampton\, Ontario\, Canada
CATEGORIES:Worship
ATTACH;FMTTYPE=image/jpeg:https://emmanuelunited.com/wp-content/uploads/2024/01/Call-of-God-Epiphany_LowRes-WebSlide.jpg
END:VEVENT
BEGIN:VEVENT
DTSTART;TZID=America/Toronto:20240121T110000
DTEND;TZID=America/Toronto:20240121T120000
DTSTAMP:20260423T232449
CREATED:20240118T152712Z
LAST-MODIFIED:20240118T152841Z
UID:10000402-1705834800-1705838400@emmanuelunited.com
SUMMARY:The Call of God: A Community of Fishers
DESCRIPTION:A service of Word based on Mark 1:14-20 \nHave you ever recommended a good restaurant to a friend? You probably talked about how the food tasted\, what kind of atmosphere was there. Or what about a movie? Maybe you mentioned the cast\, or the plot. But what about church? If you’re like most of us\, you probably don’t know where to start. However\, in our Gospel reading\, we hear about Jesus calling the first disciples\, and promising to make them “fishers of people.” How did Jesus do this for His 1st century followers\, and how does He do the same thing for His 21st century followers? \nPoints to Ponder: \n\nHave you ever gone fishing? How was it similar to the disciples’ methods? How was it different?\nWhat other purposes can people\, including you\, have in life?\nIn fishing for people\, are there any people you would not want to catch? Why?\nWhat part of your net needs mending? In other words\, what in your life is letting people miss Christ in you?\n\n#EmmanuelUCBrampton #TheCallOfGod #Epiphany2023 #ACommunityOfFishers
URL:https://emmanuelunited.com/event/the-call-of-god-worship-4/
LOCATION:Emmanuel UC\, 420 Balmoral Drive\, Brampton\, Ontario\, Canada
CATEGORIES:Worship
ATTACH;FMTTYPE=image/jpeg:https://emmanuelunited.com/wp-content/uploads/2024/01/Call-of-God-Epiphany_LowRes-WebSlide.jpg
END:VEVENT
BEGIN:VEVENT
DTSTART;TZID=America/Toronto:20240121T110000
DTEND;TZID=America/Toronto:20240121T120000
DTSTAMP:20260423T232449
CREATED:20240118T152712Z
LAST-MODIFIED:20240118T152712Z
UID:10001359-1705834800-1705838400@emmanuelunited.com
SUMMARY:The Call of God: A Community of Fishers
DESCRIPTION:A service of Word based on Mark 1:14-20 \nHave you ever recommended a good restaurant to a friend? You probably talked about how the food tasted\, what kind of atmosphere was there. Or what about a movie? Maybe you mentioned the cast\, or the plot. But what about church? If you’re like most of us\, you probably don’t know where to start. However\, in our Gospel reading\, we hear about Jesus calling the first disciples\, and promising to make them “fishers of people.” How did Jesus do this for His 1st century followers\, and how does He do the same thing for His 21st century followers? \nPoints to Ponder: \n\nHave you ever gone fishing? How was it similar to the disciples’ methods? How was it different?\nWhat other purposes can people\, including you\, have in life?\nIn fishing for people\, are there any people you would not want to catch? Why?\nWhat part of your net needs mending? In other words\, what in your life is letting people miss Christ in you?\n\n#EmmanuelUCBrampton #TheCallOfGod #Epiphany2023 #ACommunityOfFishers
URL:https://emmanuelunited.com/event/the-call-of-god-worship-4-2/
LOCATION:Emmanuel UC\, 420 Balmoral Drive\, Brampton\, Ontario\, Canada
CATEGORIES:Worship
ATTACH;FMTTYPE=image/jpeg:https://emmanuelunited.com/wp-content/uploads/2024/01/Call-of-God-Epiphany_LowRes-WebSlide.jpg
END:VEVENT
BEGIN:VEVENT
DTSTART;TZID=America/Toronto:20240114T110000
DTEND;TZID=America/Toronto:20240114T120000
DTSTAMP:20260423T232449
CREATED:20240111T205145Z
LAST-MODIFIED:20240111T205252Z
UID:10000401-1705230000-1705233600@emmanuelunited.com
SUMMARY:"The Call of God" Worship
DESCRIPTION:A service of word based on 1 Samuel 3:1-10 There seems to be no end to all the opportunities to make a difference. Should we help out at a soup kitchen\, or donate to dig wells in Africa? Should we advocate for more physically accessible spaces\, or for more support for students with intellectual disabilities? There are so many good causes out there\, which one (or ones) should we support? There would have been many things that a young lad like Samuel could have done in his day\, but God had a particular mission for him\, just like there is a particular mission for each of us today. Join us as we look int how Samuel discerned his call\, and how we can discern ours today. \nPoints To Ponder: \n\nWhat is something that you used to love to do or be a part of that has grown rarer in your life?\nLooking back\, have you misheard God before? Describe what happened.\nWho do you have in your life that can point you in the right direction if you’re going the wrong way?\nWho can you be that voice for?\n\n#EmmanuelUCBrampton #TheCallOfGod #Epiphany2023 #ACommunityOfDiscernment
URL:https://emmanuelunited.com/event/the-call-of-god-worship-3/
LOCATION:Emmanuel UC\, 420 Balmoral Drive\, Brampton\, Ontario\, Canada
CATEGORIES:Worship
ATTACH;FMTTYPE=image/jpeg:https://emmanuelunited.com/wp-content/uploads/2024/01/Call-of-God-Epiphany_LowRes-WebSlide.jpg
END:VEVENT
BEGIN:VEVENT
DTSTART;TZID=America/Toronto:20240114T110000
DTEND;TZID=America/Toronto:20240114T120000
DTSTAMP:20260423T232449
CREATED:20240111T205145Z
LAST-MODIFIED:20240111T205145Z
UID:10001358-1705230000-1705233600@emmanuelunited.com
SUMMARY:"The Call of God" Worship
DESCRIPTION:A service of word based on 1 Samuel 3:1-10 There seems to be no end to all the opportunities to make a difference. Should we help out at a soup kitchen\, or donate to dig wells in Africa? Should we advocate for more physically accessible spaces\, or for more support for students with intellectual disabilities? There are so many good causes out there\, which one (or ones) should we support? There would have been many things that a young lad like Samuel could have done in his day\, but God had a particular mission for him\, just like there is a particular mission for each of us today. Join us as we look int how Samuel discerned his call\, and how we can discern ours today. \nPoints To Ponder: \n\nWhat is something that you used to love to do or be a part of that has grown rarer in your life?\nLooking back\, have you misheard God before? Describe what happened.\nWho do you have in your life that can point you in the right direction if you’re going the wrong way?\nWho can you be that voice for?\n\n#EmmanuelUCBrampton #TheCallOfGod #Epiphany2023 #ACommunityOfDiscernment
URL:https://emmanuelunited.com/event/the-call-of-god-worship-3-2/
LOCATION:Emmanuel UC\, 420 Balmoral Drive\, Brampton\, Ontario\, Canada
CATEGORIES:Worship
ATTACH;FMTTYPE=image/jpeg:https://emmanuelunited.com/wp-content/uploads/2024/01/Call-of-God-Epiphany_LowRes-WebSlide.jpg
END:VEVENT
BEGIN:VEVENT
DTSTART;TZID=America/Toronto:20240107T110000
DTEND;TZID=America/Toronto:20240107T120000
DTSTAMP:20260423T232449
CREATED:20240104T193313Z
LAST-MODIFIED:20240104T193313Z
UID:10001355-1704625200-1704628800@emmanuelunited.com
SUMMARY:"The Call of God" Worship
DESCRIPTION:One of the biggest rules in sales is to help customers find WII-FM\, or “What’s in It For Me?” For so many of us\, this permeates how we look at the world\, trying to find out how certain things will affect us. But\, when it comes to signs from God\, signs like the Christmas Star the Magi followed to Bethlehem\, this approach can lead to disastrous results. Join us as we investigate how we should look at signs from God\, and how we should look at the world. \nQuestions to Ponder: \n\n\n\n\nWhat would be your response if you saw an unexpectedly bright object in the sky?\nIn your life\, how have you responded like the magi to something unexpected?\nIn your life\, how have you responded like Herod and the scribes to something unexpected?\nWhere do you find hope?
URL:https://emmanuelunited.com/event/the-call-of-god-worship-2-2/
LOCATION:Emmanuel UC\, 420 Balmoral Drive\, Brampton\, Ontario\, Canada
CATEGORIES:Worship
ATTACH;FMTTYPE=image/jpeg:https://emmanuelunited.com/wp-content/uploads/2024/01/Call-of-God-Epiphany_LowRes-WebSlide.jpg
END:VEVENT
BEGIN:VEVENT
DTSTART;TZID=America/Toronto:20240107T110000
DTEND;TZID=America/Toronto:20240107T120000
DTSTAMP:20260423T232449
CREATED:20240104T193313Z
LAST-MODIFIED:20240104T193528Z
UID:10000400-1704625200-1704628800@emmanuelunited.com
SUMMARY:"The Call of God" Worship
DESCRIPTION:One of the biggest rules in sales is to help customers find WII-FM\, or “What’s in It For Me?” For so many of us\, this permeates how we look at the world\, trying to find out how certain things will affect us. But\, when it comes to signs from God\, signs like the Christmas Star the Magi followed to Bethlehem\, this approach can lead to disastrous results. Join us as we investigate how we should look at signs from God\, and how we should look at the world. \nQuestions to Ponder: \n\n\n\n\nWhat would be your response if you saw an unexpectedly bright object in the sky?\nIn your life\, how have you responded like the magi to something unexpected?\nIn your life\, how have you responded like Herod and the scribes to something unexpected?\nWhere do you find hope?
URL:https://emmanuelunited.com/event/the-call-of-god-worship-2/
LOCATION:Emmanuel UC\, 420 Balmoral Drive\, Brampton\, Ontario\, Canada
CATEGORIES:Worship
ATTACH;FMTTYPE=image/jpeg:https://emmanuelunited.com/wp-content/uploads/2024/01/Call-of-God-Epiphany_LowRes-WebSlide.jpg
END:VEVENT
BEGIN:VEVENT
DTSTART;TZID=America/Toronto:20231225T110000
DTEND;TZID=America/Toronto:20231225T130000
DTSTAMP:20260423T232449
CREATED:20231219T173919Z
LAST-MODIFIED:20231219T183535Z
UID:10000397-1703502000-1703509200@emmanuelunited.com
SUMMARY:Christmas Day Virtual Service
DESCRIPTION:Join us in worship\, virtually\, on the joyous morning Christmas Day. This service will be fully virtual\, bringing the beauty of worship right to your home! \nWe will be airing live at 11:00am\, and upload directly after\, for those who may want to view at a different time. \nPlease follow the following link to our YouTube page\, were the service will air: https://www.youtube.com/@EmmanuelUCBrampton
URL:https://emmanuelunited.com/event/christmas-day-virtual-service/
LOCATION:VIRTUAL – YOUTUBE
CATEGORIES:Worship
ATTACH;FMTTYPE=image/jpeg:https://emmanuelunited.com/wp-content/uploads/2023/12/images.jpg
END:VEVENT
BEGIN:VEVENT
DTSTART;TZID=America/Toronto:20231225T110000
DTEND;TZID=America/Toronto:20231225T130000
DTSTAMP:20260423T232449
CREATED:20231219T173919Z
LAST-MODIFIED:20231219T173919Z
UID:10001341-1703502000-1703509200@emmanuelunited.com
SUMMARY:Christmas Day Virtual Service
DESCRIPTION:Join us in worship\, virtually\, on the joyous morning Christmas Day. This service will be fully virtual\, bringing the beauty of worship right to your home! \nWe will be airing live at 11:00am\, and upload directly after\, for those who may want to view at a different time. \nPlease follow the following link to our YouTube page\, were the service will air: https://www.youtube.com/@EmmanuelUCBrampton
URL:https://emmanuelunited.com/event/christmas-day-virtual-service-2/
LOCATION:VIRTUAL – YOUTUBE
CATEGORIES:Worship
ATTACH;FMTTYPE=image/jpeg:https://emmanuelunited.com/wp-content/uploads/2023/12/images.jpg
END:VEVENT
BEGIN:VEVENT
DTSTART;TZID=America/Toronto:20231224T190000
DTEND;TZID=America/Toronto:20231224T200000
DTSTAMP:20260423T232449
CREATED:20231207T154004Z
LAST-MODIFIED:20231213T155423Z
UID:10000004-1703444400-1703448000@emmanuelunited.com
SUMMARY:Christmas Eve Service
DESCRIPTION:Join us in worship on Christmas Eve\, and celebrate the birth of our lord and savior.\nThis is an open service and we invite anyone and everyone who wishes to come out and spend the evening surrounded by blessings. \nThis service will be both in person\, and available to live-stream from our channel:https://youtube.com/@EmmanuelUCBrampton?si=PGsFE63gtdmdSyLh
URL:https://emmanuelunited.com/event/christmas-eve-service/
LOCATION:Emmanuel UC\, 420 Balmoral Drive\, Brampton\, Ontario\, Canada
CATEGORIES:Worship
ATTACH;FMTTYPE=image/jpeg:https://emmanuelunited.com/wp-content/uploads/2023/12/kerzenparade-201101.jpg
END:VEVENT
BEGIN:VEVENT
DTSTART;TZID=America/Toronto:20231224T190000
DTEND;TZID=America/Toronto:20231224T200000
DTSTAMP:20260423T232449
CREATED:20231207T154004Z
LAST-MODIFIED:20231207T154004Z
UID:10001335-1703444400-1703448000@emmanuelunited.com
SUMMARY:Christmas Eve Service
DESCRIPTION:Join us in worship on Christmas Eve\, and celebrate the birth of our lord and savior.\nThis is an open service and we invite anyone and everyone who wishes to come out and spend the evening surrounded by blessings. \nThis service will be both in person\, and available to live-stream from our channel:https://youtube.com/@EmmanuelUCBrampton?si=PGsFE63gtdmdSyLh
URL:https://emmanuelunited.com/event/christmas-eve-service-2/
LOCATION:Emmanuel UC\, 420 Balmoral Drive\, Brampton\, Ontario\, Canada
CATEGORIES:Worship
ATTACH;FMTTYPE=image/jpeg:https://emmanuelunited.com/wp-content/uploads/2023/12/kerzenparade-201101.jpg
END:VEVENT
BEGIN:VEVENT
DTSTART;TZID=America/Toronto:20231210T110000
DTEND;TZID=America/Toronto:20231210T123000
DTSTAMP:20260423T232449
CREATED:20231206T203103Z
LAST-MODIFIED:20231207T155428Z
UID:10000001-1702206000-1702211400@emmanuelunited.com
SUMMARY:Worship Concert - Seasons of Wonder
DESCRIPTION:Take a break from the busy-ness of the season and join us for a performance of Joseph M. Martin’s “Season of Wonders: Celebrating the Miracle of Christmas”. This collection of classic carols and new anthems will uplift your spirits and shine a new light on the miracle that is the birth of Jesus.
URL:https://emmanuelunited.com/event/worship-concert-seasons-of-wonder/
LOCATION:Emmanuel UC\, 420 Balmoral Drive\, Brampton\, Ontario\, Canada
CATEGORIES:Worship
ATTACH;FMTTYPE=image/jpeg:https://emmanuelunited.com/wp-content/uploads/2023/12/406519135_727496476081606_8978575501183815150_n.jpg
END:VEVENT
BEGIN:VEVENT
DTSTART;TZID=America/Toronto:20231210T110000
DTEND;TZID=America/Toronto:20231210T123000
DTSTAMP:20260423T232449
CREATED:20231206T203103Z
LAST-MODIFIED:20231206T203103Z
UID:10001332-1702206000-1702211400@emmanuelunited.com
SUMMARY:Worship Concert - Seasons of Wonder
DESCRIPTION:Take a break from the busy-ness of the season and join us for a performance of Joseph M. Martin’s “Season of Wonders: Celebrating the Miracle of Christmas”. This collection of classic carols and new anthems will uplift your spirits and shine a new light on the miracle that is the birth of Jesus.
URL:https://emmanuelunited.com/event/worship-concert-seasons-of-wonder-2/
LOCATION:Emmanuel UC\, 420 Balmoral Drive\, Brampton\, Ontario\, Canada
CATEGORIES:Worship
ATTACH;FMTTYPE=image/jpeg:https://emmanuelunited.com/wp-content/uploads/2023/12/406519135_727496476081606_8978575501183815150_n.jpg
END:VEVENT
END:VCALENDAR