BEGIN:VCALENDAR
VERSION:2.0
PRODID:-//Emmanuel United Church, Brampton - ECPv6.15.20//NONSGML v1.0//EN
CALSCALE:GREGORIAN
METHOD:PUBLISH
X-WR-CALNAME:Emmanuel United Church, Brampton
X-ORIGINAL-URL:https://emmanuelunited.com
X-WR-CALDESC:Events for Emmanuel United Church, Brampton
REFRESH-INTERVAL;VALUE=DURATION:PT1H
X-Robots-Tag:noindex
X-PUBLISHED-TTL:PT1H
BEGIN:VTIMEZONE
TZID:America/Toronto
BEGIN:DAYLIGHT
TZOFFSETFROM:-0500
TZOFFSETTO:-0400
TZNAME:EDT
DTSTART:20280312T070000
END:DAYLIGHT
BEGIN:STANDARD
TZOFFSETFROM:-0400
TZOFFSETTO:-0500
TZNAME:EST
DTSTART:20281105T060000
END:STANDARD
BEGIN:DAYLIGHT
TZOFFSETFROM:-0500
TZOFFSETTO:-0400
TZNAME:EDT
DTSTART:20290311T070000
END:DAYLIGHT
BEGIN:STANDARD
TZOFFSETFROM:-0400
TZOFFSETTO:-0500
TZNAME:EST
DTSTART:20291104T060000
END:STANDARD
BEGIN:DAYLIGHT
TZOFFSETFROM:-0500
TZOFFSETTO:-0400
TZNAME:EDT
DTSTART:20300310T070000
END:DAYLIGHT
BEGIN:STANDARD
TZOFFSETFROM:-0400
TZOFFSETTO:-0500
TZNAME:EST
DTSTART:20301103T060000
END:STANDARD
END:VTIMEZONE
BEGIN:VEVENT
DTSTART;TZID=America/Toronto:20290415T110000
DTEND;TZID=America/Toronto:20290415T120000
DTSTAMP:20260424T154330
CREATED:20250506T192835Z
LAST-MODIFIED:20250507T193447Z
UID:10002003-1870945200-1870948800@emmanuelunited.com
SUMMARY:Sunday Worship
DESCRIPTION:Join us for worship each Sunday. Come as you are for an hour long service\, including music\, prayers\, and reflections. Children’s program provided September-June\, and there is always something for the young ones to do during worship.
URL:https://emmanuelunited.com/event/sunday-worship/2029-04-15/
LOCATION:Emmanuel UC\, 420 Balmoral Drive\, Brampton\, Ontario\, Canada
CATEGORIES:Worship
ATTACH;FMTTYPE=image/jpeg:https://emmanuelunited.com/wp-content/uploads/2025/05/326532972_1140884776571144_7440115511639422560_n.jpg
END:VEVENT
BEGIN:VEVENT
DTSTART;TZID=America/Toronto:20290422T110000
DTEND;TZID=America/Toronto:20290422T120000
DTSTAMP:20260424T154330
CREATED:20250506T192835Z
LAST-MODIFIED:20250507T193447Z
UID:10002004-1871550000-1871553600@emmanuelunited.com
SUMMARY:Sunday Worship
DESCRIPTION:Join us for worship each Sunday. Come as you are for an hour long service\, including music\, prayers\, and reflections. Children’s program provided September-June\, and there is always something for the young ones to do during worship.
URL:https://emmanuelunited.com/event/sunday-worship/2029-04-22/
LOCATION:Emmanuel UC\, 420 Balmoral Drive\, Brampton\, Ontario\, Canada
CATEGORIES:Worship
ATTACH;FMTTYPE=image/jpeg:https://emmanuelunited.com/wp-content/uploads/2025/05/326532972_1140884776571144_7440115511639422560_n.jpg
END:VEVENT
BEGIN:VEVENT
DTSTART;TZID=America/Toronto:20290429T110000
DTEND;TZID=America/Toronto:20290429T120000
DTSTAMP:20260424T154330
CREATED:20250506T192835Z
LAST-MODIFIED:20250507T193447Z
UID:10002005-1872154800-1872158400@emmanuelunited.com
SUMMARY:Sunday Worship
DESCRIPTION:Join us for worship each Sunday. Come as you are for an hour long service\, including music\, prayers\, and reflections. Children’s program provided September-June\, and there is always something for the young ones to do during worship.
URL:https://emmanuelunited.com/event/sunday-worship/2029-04-29/
LOCATION:Emmanuel UC\, 420 Balmoral Drive\, Brampton\, Ontario\, Canada
CATEGORIES:Worship
ATTACH;FMTTYPE=image/jpeg:https://emmanuelunited.com/wp-content/uploads/2025/05/326532972_1140884776571144_7440115511639422560_n.jpg
END:VEVENT
BEGIN:VEVENT
DTSTART;TZID=America/Toronto:20290506T110000
DTEND;TZID=America/Toronto:20290506T120000
DTSTAMP:20260424T154330
CREATED:20250506T192835Z
LAST-MODIFIED:20250507T193447Z
UID:10002006-1872759600-1872763200@emmanuelunited.com
SUMMARY:Sunday Worship
DESCRIPTION:Join us for worship each Sunday. Come as you are for an hour long service\, including music\, prayers\, and reflections. Children’s program provided September-June\, and there is always something for the young ones to do during worship.
URL:https://emmanuelunited.com/event/sunday-worship/2029-05-06/
LOCATION:Emmanuel UC\, 420 Balmoral Drive\, Brampton\, Ontario\, Canada
CATEGORIES:Worship
ATTACH;FMTTYPE=image/jpeg:https://emmanuelunited.com/wp-content/uploads/2025/05/326532972_1140884776571144_7440115511639422560_n.jpg
END:VEVENT
BEGIN:VEVENT
DTSTART;TZID=America/Toronto:20290513T110000
DTEND;TZID=America/Toronto:20290513T120000
DTSTAMP:20260424T154330
CREATED:20250506T192835Z
LAST-MODIFIED:20250507T193447Z
UID:10002007-1873364400-1873368000@emmanuelunited.com
SUMMARY:Sunday Worship
DESCRIPTION:Join us for worship each Sunday. Come as you are for an hour long service\, including music\, prayers\, and reflections. Children’s program provided September-June\, and there is always something for the young ones to do during worship.
URL:https://emmanuelunited.com/event/sunday-worship/2029-05-13/
LOCATION:Emmanuel UC\, 420 Balmoral Drive\, Brampton\, Ontario\, Canada
CATEGORIES:Worship
ATTACH;FMTTYPE=image/jpeg:https://emmanuelunited.com/wp-content/uploads/2025/05/326532972_1140884776571144_7440115511639422560_n.jpg
END:VEVENT
BEGIN:VEVENT
DTSTART;TZID=America/Toronto:20290520T110000
DTEND;TZID=America/Toronto:20290520T120000
DTSTAMP:20260424T154330
CREATED:20250506T192835Z
LAST-MODIFIED:20250507T193447Z
UID:10002008-1873969200-1873972800@emmanuelunited.com
SUMMARY:Sunday Worship
DESCRIPTION:Join us for worship each Sunday. Come as you are for an hour long service\, including music\, prayers\, and reflections. Children’s program provided September-June\, and there is always something for the young ones to do during worship.
URL:https://emmanuelunited.com/event/sunday-worship/2029-05-20/
LOCATION:Emmanuel UC\, 420 Balmoral Drive\, Brampton\, Ontario\, Canada
CATEGORIES:Worship
ATTACH;FMTTYPE=image/jpeg:https://emmanuelunited.com/wp-content/uploads/2025/05/326532972_1140884776571144_7440115511639422560_n.jpg
END:VEVENT
BEGIN:VEVENT
DTSTART;TZID=America/Toronto:20290527T110000
DTEND;TZID=America/Toronto:20290527T120000
DTSTAMP:20260424T154330
CREATED:20250506T192835Z
LAST-MODIFIED:20250507T193447Z
UID:10002009-1874574000-1874577600@emmanuelunited.com
SUMMARY:Sunday Worship
DESCRIPTION:Join us for worship each Sunday. Come as you are for an hour long service\, including music\, prayers\, and reflections. Children’s program provided September-June\, and there is always something for the young ones to do during worship.
URL:https://emmanuelunited.com/event/sunday-worship/2029-05-27/
LOCATION:Emmanuel UC\, 420 Balmoral Drive\, Brampton\, Ontario\, Canada
CATEGORIES:Worship
ATTACH;FMTTYPE=image/jpeg:https://emmanuelunited.com/wp-content/uploads/2025/05/326532972_1140884776571144_7440115511639422560_n.jpg
END:VEVENT
BEGIN:VEVENT
DTSTART;TZID=America/Toronto:20290603T110000
DTEND;TZID=America/Toronto:20290603T120000
DTSTAMP:20260424T154330
CREATED:20250506T192835Z
LAST-MODIFIED:20250507T193447Z
UID:10002010-1875178800-1875182400@emmanuelunited.com
SUMMARY:Sunday Worship
DESCRIPTION:Join us for worship each Sunday. Come as you are for an hour long service\, including music\, prayers\, and reflections. Children’s program provided September-June\, and there is always something for the young ones to do during worship.
URL:https://emmanuelunited.com/event/sunday-worship/2029-06-03/
LOCATION:Emmanuel UC\, 420 Balmoral Drive\, Brampton\, Ontario\, Canada
CATEGORIES:Worship
ATTACH;FMTTYPE=image/jpeg:https://emmanuelunited.com/wp-content/uploads/2025/05/326532972_1140884776571144_7440115511639422560_n.jpg
END:VEVENT
BEGIN:VEVENT
DTSTART;TZID=America/Toronto:20290610T110000
DTEND;TZID=America/Toronto:20290610T120000
DTSTAMP:20260424T154330
CREATED:20250506T192835Z
LAST-MODIFIED:20250507T193447Z
UID:10002011-1875783600-1875787200@emmanuelunited.com
SUMMARY:Sunday Worship
DESCRIPTION:Join us for worship each Sunday. Come as you are for an hour long service\, including music\, prayers\, and reflections. Children’s program provided September-June\, and there is always something for the young ones to do during worship.
URL:https://emmanuelunited.com/event/sunday-worship/2029-06-10/
LOCATION:Emmanuel UC\, 420 Balmoral Drive\, Brampton\, Ontario\, Canada
CATEGORIES:Worship
ATTACH;FMTTYPE=image/jpeg:https://emmanuelunited.com/wp-content/uploads/2025/05/326532972_1140884776571144_7440115511639422560_n.jpg
END:VEVENT
BEGIN:VEVENT
DTSTART;TZID=America/Toronto:20290617T110000
DTEND;TZID=America/Toronto:20290617T120000
DTSTAMP:20260424T154330
CREATED:20250506T192835Z
LAST-MODIFIED:20250507T193447Z
UID:10002012-1876388400-1876392000@emmanuelunited.com
SUMMARY:Sunday Worship
DESCRIPTION:Join us for worship each Sunday. Come as you are for an hour long service\, including music\, prayers\, and reflections. Children’s program provided September-June\, and there is always something for the young ones to do during worship.
URL:https://emmanuelunited.com/event/sunday-worship/2029-06-17/
LOCATION:Emmanuel UC\, 420 Balmoral Drive\, Brampton\, Ontario\, Canada
CATEGORIES:Worship
ATTACH;FMTTYPE=image/jpeg:https://emmanuelunited.com/wp-content/uploads/2025/05/326532972_1140884776571144_7440115511639422560_n.jpg
END:VEVENT
BEGIN:VEVENT
DTSTART;TZID=America/Toronto:20290624T110000
DTEND;TZID=America/Toronto:20290624T120000
DTSTAMP:20260424T154330
CREATED:20250506T192835Z
LAST-MODIFIED:20250507T193447Z
UID:10002013-1876993200-1876996800@emmanuelunited.com
SUMMARY:Sunday Worship
DESCRIPTION:Join us for worship each Sunday. Come as you are for an hour long service\, including music\, prayers\, and reflections. Children’s program provided September-June\, and there is always something for the young ones to do during worship.
URL:https://emmanuelunited.com/event/sunday-worship/2029-06-24/
LOCATION:Emmanuel UC\, 420 Balmoral Drive\, Brampton\, Ontario\, Canada
CATEGORIES:Worship
ATTACH;FMTTYPE=image/jpeg:https://emmanuelunited.com/wp-content/uploads/2025/05/326532972_1140884776571144_7440115511639422560_n.jpg
END:VEVENT
BEGIN:VEVENT
DTSTART;TZID=America/Toronto:20290701T110000
DTEND;TZID=America/Toronto:20290701T120000
DTSTAMP:20260424T154330
CREATED:20250506T192835Z
LAST-MODIFIED:20250507T193447Z
UID:10002014-1877598000-1877601600@emmanuelunited.com
SUMMARY:Sunday Worship
DESCRIPTION:Join us for worship each Sunday. Come as you are for an hour long service\, including music\, prayers\, and reflections. Children’s program provided September-June\, and there is always something for the young ones to do during worship.
URL:https://emmanuelunited.com/event/sunday-worship/2029-07-01/
LOCATION:Emmanuel UC\, 420 Balmoral Drive\, Brampton\, Ontario\, Canada
CATEGORIES:Worship
ATTACH;FMTTYPE=image/jpeg:https://emmanuelunited.com/wp-content/uploads/2025/05/326532972_1140884776571144_7440115511639422560_n.jpg
END:VEVENT
BEGIN:VEVENT
DTSTART;TZID=America/Toronto:20290708T110000
DTEND;TZID=America/Toronto:20290708T120000
DTSTAMP:20260424T154330
CREATED:20250506T192835Z
LAST-MODIFIED:20250507T193447Z
UID:10002015-1878202800-1878206400@emmanuelunited.com
SUMMARY:Sunday Worship
DESCRIPTION:Join us for worship each Sunday. Come as you are for an hour long service\, including music\, prayers\, and reflections. Children’s program provided September-June\, and there is always something for the young ones to do during worship.
URL:https://emmanuelunited.com/event/sunday-worship/2029-07-08/
LOCATION:Emmanuel UC\, 420 Balmoral Drive\, Brampton\, Ontario\, Canada
CATEGORIES:Worship
ATTACH;FMTTYPE=image/jpeg:https://emmanuelunited.com/wp-content/uploads/2025/05/326532972_1140884776571144_7440115511639422560_n.jpg
END:VEVENT
BEGIN:VEVENT
DTSTART;TZID=America/Toronto:20290715T110000
DTEND;TZID=America/Toronto:20290715T120000
DTSTAMP:20260424T154330
CREATED:20250506T192835Z
LAST-MODIFIED:20250507T193447Z
UID:10002016-1878807600-1878811200@emmanuelunited.com
SUMMARY:Sunday Worship
DESCRIPTION:Join us for worship each Sunday. Come as you are for an hour long service\, including music\, prayers\, and reflections. Children’s program provided September-June\, and there is always something for the young ones to do during worship.
URL:https://emmanuelunited.com/event/sunday-worship/2029-07-15/
LOCATION:Emmanuel UC\, 420 Balmoral Drive\, Brampton\, Ontario\, Canada
CATEGORIES:Worship
ATTACH;FMTTYPE=image/jpeg:https://emmanuelunited.com/wp-content/uploads/2025/05/326532972_1140884776571144_7440115511639422560_n.jpg
END:VEVENT
BEGIN:VEVENT
DTSTART;TZID=America/Toronto:20290722T110000
DTEND;TZID=America/Toronto:20290722T120000
DTSTAMP:20260424T154330
CREATED:20250506T192835Z
LAST-MODIFIED:20250507T193447Z
UID:10002017-1879412400-1879416000@emmanuelunited.com
SUMMARY:Sunday Worship
DESCRIPTION:Join us for worship each Sunday. Come as you are for an hour long service\, including music\, prayers\, and reflections. Children’s program provided September-June\, and there is always something for the young ones to do during worship.
URL:https://emmanuelunited.com/event/sunday-worship/2029-07-22/
LOCATION:Emmanuel UC\, 420 Balmoral Drive\, Brampton\, Ontario\, Canada
CATEGORIES:Worship
ATTACH;FMTTYPE=image/jpeg:https://emmanuelunited.com/wp-content/uploads/2025/05/326532972_1140884776571144_7440115511639422560_n.jpg
END:VEVENT
BEGIN:VEVENT
DTSTART;TZID=America/Toronto:20290729T110000
DTEND;TZID=America/Toronto:20290729T120000
DTSTAMP:20260424T154330
CREATED:20250506T192835Z
LAST-MODIFIED:20250507T193447Z
UID:10002018-1880017200-1880020800@emmanuelunited.com
SUMMARY:Sunday Worship
DESCRIPTION:Join us for worship each Sunday. Come as you are for an hour long service\, including music\, prayers\, and reflections. Children’s program provided September-June\, and there is always something for the young ones to do during worship.
URL:https://emmanuelunited.com/event/sunday-worship/2029-07-29/
LOCATION:Emmanuel UC\, 420 Balmoral Drive\, Brampton\, Ontario\, Canada
CATEGORIES:Worship
ATTACH;FMTTYPE=image/jpeg:https://emmanuelunited.com/wp-content/uploads/2025/05/326532972_1140884776571144_7440115511639422560_n.jpg
END:VEVENT
BEGIN:VEVENT
DTSTART;TZID=America/Toronto:20290805T110000
DTEND;TZID=America/Toronto:20290805T120000
DTSTAMP:20260424T154330
CREATED:20250506T192835Z
LAST-MODIFIED:20250507T193447Z
UID:10002019-1880622000-1880625600@emmanuelunited.com
SUMMARY:Sunday Worship
DESCRIPTION:Join us for worship each Sunday. Come as you are for an hour long service\, including music\, prayers\, and reflections. Children’s program provided September-June\, and there is always something for the young ones to do during worship.
URL:https://emmanuelunited.com/event/sunday-worship/2029-08-05/
LOCATION:Emmanuel UC\, 420 Balmoral Drive\, Brampton\, Ontario\, Canada
CATEGORIES:Worship
ATTACH;FMTTYPE=image/jpeg:https://emmanuelunited.com/wp-content/uploads/2025/05/326532972_1140884776571144_7440115511639422560_n.jpg
END:VEVENT
BEGIN:VEVENT
DTSTART;TZID=America/Toronto:20290812T110000
DTEND;TZID=America/Toronto:20290812T120000
DTSTAMP:20260424T154330
CREATED:20250506T192835Z
LAST-MODIFIED:20250507T193447Z
UID:10002020-1881226800-1881230400@emmanuelunited.com
SUMMARY:Sunday Worship
DESCRIPTION:Join us for worship each Sunday. Come as you are for an hour long service\, including music\, prayers\, and reflections. Children’s program provided September-June\, and there is always something for the young ones to do during worship.
URL:https://emmanuelunited.com/event/sunday-worship/2029-08-12/
LOCATION:Emmanuel UC\, 420 Balmoral Drive\, Brampton\, Ontario\, Canada
CATEGORIES:Worship
ATTACH;FMTTYPE=image/jpeg:https://emmanuelunited.com/wp-content/uploads/2025/05/326532972_1140884776571144_7440115511639422560_n.jpg
END:VEVENT
BEGIN:VEVENT
DTSTART;TZID=America/Toronto:20290819T110000
DTEND;TZID=America/Toronto:20290819T120000
DTSTAMP:20260424T154330
CREATED:20250506T192835Z
LAST-MODIFIED:20250507T193447Z
UID:10002021-1881831600-1881835200@emmanuelunited.com
SUMMARY:Sunday Worship
DESCRIPTION:Join us for worship each Sunday. Come as you are for an hour long service\, including music\, prayers\, and reflections. Children’s program provided September-June\, and there is always something for the young ones to do during worship.
URL:https://emmanuelunited.com/event/sunday-worship/2029-08-19/
LOCATION:Emmanuel UC\, 420 Balmoral Drive\, Brampton\, Ontario\, Canada
CATEGORIES:Worship
ATTACH;FMTTYPE=image/jpeg:https://emmanuelunited.com/wp-content/uploads/2025/05/326532972_1140884776571144_7440115511639422560_n.jpg
END:VEVENT
BEGIN:VEVENT
DTSTART;TZID=America/Toronto:20290826T110000
DTEND;TZID=America/Toronto:20290826T120000
DTSTAMP:20260424T154330
CREATED:20250506T192835Z
LAST-MODIFIED:20250507T193447Z
UID:10002022-1882436400-1882440000@emmanuelunited.com
SUMMARY:Sunday Worship
DESCRIPTION:Join us for worship each Sunday. Come as you are for an hour long service\, including music\, prayers\, and reflections. Children’s program provided September-June\, and there is always something for the young ones to do during worship.
URL:https://emmanuelunited.com/event/sunday-worship/2029-08-26/
LOCATION:Emmanuel UC\, 420 Balmoral Drive\, Brampton\, Ontario\, Canada
CATEGORIES:Worship
ATTACH;FMTTYPE=image/jpeg:https://emmanuelunited.com/wp-content/uploads/2025/05/326532972_1140884776571144_7440115511639422560_n.jpg
END:VEVENT
BEGIN:VEVENT
DTSTART;TZID=America/Toronto:20290902T110000
DTEND;TZID=America/Toronto:20290902T120000
DTSTAMP:20260424T154330
CREATED:20250506T192835Z
LAST-MODIFIED:20250507T193447Z
UID:10002023-1883041200-1883044800@emmanuelunited.com
SUMMARY:Sunday Worship
DESCRIPTION:Join us for worship each Sunday. Come as you are for an hour long service\, including music\, prayers\, and reflections. Children’s program provided September-June\, and there is always something for the young ones to do during worship.
URL:https://emmanuelunited.com/event/sunday-worship/2029-09-02/
LOCATION:Emmanuel UC\, 420 Balmoral Drive\, Brampton\, Ontario\, Canada
CATEGORIES:Worship
ATTACH;FMTTYPE=image/jpeg:https://emmanuelunited.com/wp-content/uploads/2025/05/326532972_1140884776571144_7440115511639422560_n.jpg
END:VEVENT
BEGIN:VEVENT
DTSTART;TZID=America/Toronto:20290909T110000
DTEND;TZID=America/Toronto:20290909T120000
DTSTAMP:20260424T154330
CREATED:20250506T192835Z
LAST-MODIFIED:20250507T193447Z
UID:10002024-1883646000-1883649600@emmanuelunited.com
SUMMARY:Sunday Worship
DESCRIPTION:Join us for worship each Sunday. Come as you are for an hour long service\, including music\, prayers\, and reflections. Children’s program provided September-June\, and there is always something for the young ones to do during worship.
URL:https://emmanuelunited.com/event/sunday-worship/2029-09-09/
LOCATION:Emmanuel UC\, 420 Balmoral Drive\, Brampton\, Ontario\, Canada
CATEGORIES:Worship
ATTACH;FMTTYPE=image/jpeg:https://emmanuelunited.com/wp-content/uploads/2025/05/326532972_1140884776571144_7440115511639422560_n.jpg
END:VEVENT
BEGIN:VEVENT
DTSTART;TZID=America/Toronto:20290916T110000
DTEND;TZID=America/Toronto:20290916T120000
DTSTAMP:20260424T154330
CREATED:20250506T192835Z
LAST-MODIFIED:20250507T193447Z
UID:10002025-1884250800-1884254400@emmanuelunited.com
SUMMARY:Sunday Worship
DESCRIPTION:Join us for worship each Sunday. Come as you are for an hour long service\, including music\, prayers\, and reflections. Children’s program provided September-June\, and there is always something for the young ones to do during worship.
URL:https://emmanuelunited.com/event/sunday-worship/2029-09-16/
LOCATION:Emmanuel UC\, 420 Balmoral Drive\, Brampton\, Ontario\, Canada
CATEGORIES:Worship
ATTACH;FMTTYPE=image/jpeg:https://emmanuelunited.com/wp-content/uploads/2025/05/326532972_1140884776571144_7440115511639422560_n.jpg
END:VEVENT
BEGIN:VEVENT
DTSTART;TZID=America/Toronto:20290923T110000
DTEND;TZID=America/Toronto:20290923T120000
DTSTAMP:20260424T154330
CREATED:20250506T192835Z
LAST-MODIFIED:20250507T193447Z
UID:10002026-1884855600-1884859200@emmanuelunited.com
SUMMARY:Sunday Worship
DESCRIPTION:Join us for worship each Sunday. Come as you are for an hour long service\, including music\, prayers\, and reflections. Children’s program provided September-June\, and there is always something for the young ones to do during worship.
URL:https://emmanuelunited.com/event/sunday-worship/2029-09-23/
LOCATION:Emmanuel UC\, 420 Balmoral Drive\, Brampton\, Ontario\, Canada
CATEGORIES:Worship
ATTACH;FMTTYPE=image/jpeg:https://emmanuelunited.com/wp-content/uploads/2025/05/326532972_1140884776571144_7440115511639422560_n.jpg
END:VEVENT
BEGIN:VEVENT
DTSTART;TZID=America/Toronto:20290930T110000
DTEND;TZID=America/Toronto:20290930T120000
DTSTAMP:20260424T154330
CREATED:20250506T192835Z
LAST-MODIFIED:20250507T193447Z
UID:10002027-1885460400-1885464000@emmanuelunited.com
SUMMARY:Sunday Worship
DESCRIPTION:Join us for worship each Sunday. Come as you are for an hour long service\, including music\, prayers\, and reflections. Children’s program provided September-June\, and there is always something for the young ones to do during worship.
URL:https://emmanuelunited.com/event/sunday-worship/2029-09-30/
LOCATION:Emmanuel UC\, 420 Balmoral Drive\, Brampton\, Ontario\, Canada
CATEGORIES:Worship
ATTACH;FMTTYPE=image/jpeg:https://emmanuelunited.com/wp-content/uploads/2025/05/326532972_1140884776571144_7440115511639422560_n.jpg
END:VEVENT
BEGIN:VEVENT
DTSTART;TZID=America/Toronto:20291007T110000
DTEND;TZID=America/Toronto:20291007T120000
DTSTAMP:20260424T154330
CREATED:20250506T192835Z
LAST-MODIFIED:20250507T193447Z
UID:10002028-1886065200-1886068800@emmanuelunited.com
SUMMARY:Sunday Worship
DESCRIPTION:Join us for worship each Sunday. Come as you are for an hour long service\, including music\, prayers\, and reflections. Children’s program provided September-June\, and there is always something for the young ones to do during worship.
URL:https://emmanuelunited.com/event/sunday-worship/2029-10-07/
LOCATION:Emmanuel UC\, 420 Balmoral Drive\, Brampton\, Ontario\, Canada
CATEGORIES:Worship
ATTACH;FMTTYPE=image/jpeg:https://emmanuelunited.com/wp-content/uploads/2025/05/326532972_1140884776571144_7440115511639422560_n.jpg
END:VEVENT
BEGIN:VEVENT
DTSTART;TZID=America/Toronto:20291014T110000
DTEND;TZID=America/Toronto:20291014T120000
DTSTAMP:20260424T154330
CREATED:20250506T192835Z
LAST-MODIFIED:20250507T193447Z
UID:10002029-1886670000-1886673600@emmanuelunited.com
SUMMARY:Sunday Worship
DESCRIPTION:Join us for worship each Sunday. Come as you are for an hour long service\, including music\, prayers\, and reflections. Children’s program provided September-June\, and there is always something for the young ones to do during worship.
URL:https://emmanuelunited.com/event/sunday-worship/2029-10-14/
LOCATION:Emmanuel UC\, 420 Balmoral Drive\, Brampton\, Ontario\, Canada
CATEGORIES:Worship
ATTACH;FMTTYPE=image/jpeg:https://emmanuelunited.com/wp-content/uploads/2025/05/326532972_1140884776571144_7440115511639422560_n.jpg
END:VEVENT
BEGIN:VEVENT
DTSTART;TZID=America/Toronto:20291021T110000
DTEND;TZID=America/Toronto:20291021T120000
DTSTAMP:20260424T154330
CREATED:20250506T192835Z
LAST-MODIFIED:20250507T193447Z
UID:10002030-1887274800-1887278400@emmanuelunited.com
SUMMARY:Sunday Worship
DESCRIPTION:Join us for worship each Sunday. Come as you are for an hour long service\, including music\, prayers\, and reflections. Children’s program provided September-June\, and there is always something for the young ones to do during worship.
URL:https://emmanuelunited.com/event/sunday-worship/2029-10-21/
LOCATION:Emmanuel UC\, 420 Balmoral Drive\, Brampton\, Ontario\, Canada
CATEGORIES:Worship
ATTACH;FMTTYPE=image/jpeg:https://emmanuelunited.com/wp-content/uploads/2025/05/326532972_1140884776571144_7440115511639422560_n.jpg
END:VEVENT
BEGIN:VEVENT
DTSTART;TZID=America/Toronto:20291028T110000
DTEND;TZID=America/Toronto:20291028T120000
DTSTAMP:20260424T154330
CREATED:20250506T192835Z
LAST-MODIFIED:20250507T193447Z
UID:10002031-1887879600-1887883200@emmanuelunited.com
SUMMARY:Sunday Worship
DESCRIPTION:Join us for worship each Sunday. Come as you are for an hour long service\, including music\, prayers\, and reflections. Children’s program provided September-June\, and there is always something for the young ones to do during worship.
URL:https://emmanuelunited.com/event/sunday-worship/2029-10-28/
LOCATION:Emmanuel UC\, 420 Balmoral Drive\, Brampton\, Ontario\, Canada
CATEGORIES:Worship
ATTACH;FMTTYPE=image/jpeg:https://emmanuelunited.com/wp-content/uploads/2025/05/326532972_1140884776571144_7440115511639422560_n.jpg
END:VEVENT
BEGIN:VEVENT
DTSTART;TZID=America/Toronto:20291104T110000
DTEND;TZID=America/Toronto:20291104T120000
DTSTAMP:20260424T154330
CREATED:20250506T192835Z
LAST-MODIFIED:20250507T193447Z
UID:10002032-1888484400-1888488000@emmanuelunited.com
SUMMARY:Sunday Worship
DESCRIPTION:Join us for worship each Sunday. Come as you are for an hour long service\, including music\, prayers\, and reflections. Children’s program provided September-June\, and there is always something for the young ones to do during worship.
URL:https://emmanuelunited.com/event/sunday-worship/2029-11-04/
LOCATION:Emmanuel UC\, 420 Balmoral Drive\, Brampton\, Ontario\, Canada
CATEGORIES:Worship
ATTACH;FMTTYPE=image/jpeg:https://emmanuelunited.com/wp-content/uploads/2025/05/326532972_1140884776571144_7440115511639422560_n.jpg
END:VEVENT
END:VCALENDAR