BEGIN:VCALENDAR
VERSION:2.0
PRODID:-//Emmanuel United Church, Brampton - ECPv6.15.20//NONSGML v1.0//EN
CALSCALE:GREGORIAN
METHOD:PUBLISH
X-ORIGINAL-URL:https://emmanuelunited.com
X-WR-CALDESC:Events for Emmanuel United Church, Brampton
REFRESH-INTERVAL;VALUE=DURATION:PT1H
X-Robots-Tag:noindex
X-PUBLISHED-TTL:PT1H
BEGIN:VTIMEZONE
TZID:America/Toronto
BEGIN:DAYLIGHT
TZOFFSETFROM:-0500
TZOFFSETTO:-0400
TZNAME:EDT
DTSTART:20230312T070000
END:DAYLIGHT
BEGIN:STANDARD
TZOFFSETFROM:-0400
TZOFFSETTO:-0500
TZNAME:EST
DTSTART:20231105T060000
END:STANDARD
BEGIN:DAYLIGHT
TZOFFSETFROM:-0500
TZOFFSETTO:-0400
TZNAME:EDT
DTSTART:20240310T070000
END:DAYLIGHT
BEGIN:STANDARD
TZOFFSETFROM:-0400
TZOFFSETTO:-0500
TZNAME:EST
DTSTART:20241103T060000
END:STANDARD
BEGIN:DAYLIGHT
TZOFFSETFROM:-0500
TZOFFSETTO:-0400
TZNAME:EDT
DTSTART:20250309T070000
END:DAYLIGHT
BEGIN:STANDARD
TZOFFSETFROM:-0400
TZOFFSETTO:-0500
TZNAME:EST
DTSTART:20251102T060000
END:STANDARD
END:VTIMEZONE
BEGIN:VEVENT
DTSTART;TZID=America/Toronto:20240107T110000
DTEND;TZID=America/Toronto:20240107T120000
DTSTAMP:20260425T172233
CREATED:20240104T193313Z
LAST-MODIFIED:20240104T193528Z
UID:10000400-1704625200-1704628800@emmanuelunited.com
SUMMARY:"The Call of God" Worship
DESCRIPTION:One of the biggest rules in sales is to help customers find WII-FM\, or “What’s in It For Me?” For so many of us\, this permeates how we look at the world\, trying to find out how certain things will affect us. But\, when it comes to signs from God\, signs like the Christmas Star the Magi followed to Bethlehem\, this approach can lead to disastrous results. Join us as we investigate how we should look at signs from God\, and how we should look at the world. \nQuestions to Ponder: \n\n\n\n\nWhat would be your response if you saw an unexpectedly bright object in the sky?\nIn your life\, how have you responded like the magi to something unexpected?\nIn your life\, how have you responded like Herod and the scribes to something unexpected?\nWhere do you find hope?
URL:https://emmanuelunited.com/event/the-call-of-god-worship-2/
LOCATION:Emmanuel UC\, 420 Balmoral Drive\, Brampton\, Ontario\, Canada
CATEGORIES:Worship
ATTACH;FMTTYPE=image/jpeg:https://emmanuelunited.com/wp-content/uploads/2024/01/Call-of-God-Epiphany_LowRes-WebSlide.jpg
END:VEVENT
BEGIN:VEVENT
DTSTART;TZID=America/Toronto:20240107T110000
DTEND;TZID=America/Toronto:20240107T120000
DTSTAMP:20260425T172233
CREATED:20240104T193313Z
LAST-MODIFIED:20240104T193313Z
UID:10001355-1704625200-1704628800@emmanuelunited.com
SUMMARY:"The Call of God" Worship
DESCRIPTION:One of the biggest rules in sales is to help customers find WII-FM\, or “What’s in It For Me?” For so many of us\, this permeates how we look at the world\, trying to find out how certain things will affect us. But\, when it comes to signs from God\, signs like the Christmas Star the Magi followed to Bethlehem\, this approach can lead to disastrous results. Join us as we investigate how we should look at signs from God\, and how we should look at the world. \nQuestions to Ponder: \n\n\n\n\nWhat would be your response if you saw an unexpectedly bright object in the sky?\nIn your life\, how have you responded like the magi to something unexpected?\nIn your life\, how have you responded like Herod and the scribes to something unexpected?\nWhere do you find hope?
URL:https://emmanuelunited.com/event/the-call-of-god-worship-2-2/
LOCATION:Emmanuel UC\, 420 Balmoral Drive\, Brampton\, Ontario\, Canada
CATEGORIES:Worship
ATTACH;FMTTYPE=image/jpeg:https://emmanuelunited.com/wp-content/uploads/2024/01/Call-of-God-Epiphany_LowRes-WebSlide.jpg
END:VEVENT
END:VCALENDAR