BEGIN:VCALENDAR
VERSION:2.0
PRODID:-//Emmanuel United Church, Brampton - ECPv6.15.20//NONSGML v1.0//EN
CALSCALE:GREGORIAN
METHOD:PUBLISH
X-ORIGINAL-URL:https://emmanuelunited.com
X-WR-CALDESC:Events for Emmanuel United Church, Brampton
REFRESH-INTERVAL;VALUE=DURATION:PT1H
X-Robots-Tag:noindex
X-PUBLISHED-TTL:PT1H
BEGIN:VTIMEZONE
TZID:America/Toronto
BEGIN:DAYLIGHT
TZOFFSETFROM:-0500
TZOFFSETTO:-0400
TZNAME:EDT
DTSTART:20250309T070000
END:DAYLIGHT
BEGIN:STANDARD
TZOFFSETFROM:-0400
TZOFFSETTO:-0500
TZNAME:EST
DTSTART:20251102T060000
END:STANDARD
BEGIN:DAYLIGHT
TZOFFSETFROM:-0500
TZOFFSETTO:-0400
TZNAME:EDT
DTSTART:20260308T070000
END:DAYLIGHT
BEGIN:STANDARD
TZOFFSETFROM:-0400
TZOFFSETTO:-0500
TZNAME:EST
DTSTART:20261101T060000
END:STANDARD
BEGIN:DAYLIGHT
TZOFFSETFROM:-0500
TZOFFSETTO:-0400
TZNAME:EDT
DTSTART:20270314T070000
END:DAYLIGHT
BEGIN:STANDARD
TZOFFSETFROM:-0400
TZOFFSETTO:-0500
TZNAME:EST
DTSTART:20271107T060000
END:STANDARD
END:VTIMEZONE
BEGIN:VEVENT
DTSTART;TZID=America/Toronto:20260607T110000
DTEND;TZID=America/Toronto:20260607T120000
DTSTAMP:20260423T165032
CREATED:20250506T192835Z
LAST-MODIFIED:20250507T193447Z
UID:10001854-1780830000-1780833600@emmanuelunited.com
SUMMARY:Sunday Worship
DESCRIPTION:Join us for worship each Sunday. Come as you are for an hour long service\, including music\, prayers\, and reflections. Children’s program provided September-June\, and there is always something for the young ones to do during worship.
URL:https://emmanuelunited.com/event/sunday-worship/2026-06-07/
LOCATION:Emmanuel UC\, 420 Balmoral Drive\, Brampton\, Ontario\, Canada
CATEGORIES:Worship
ATTACH;FMTTYPE=image/jpeg:https://emmanuelunited.com/wp-content/uploads/2025/05/326532972_1140884776571144_7440115511639422560_n.jpg
END:VEVENT
BEGIN:VEVENT
DTSTART;TZID=America/Toronto:20260607T110000
DTEND;TZID=America/Toronto:20260607T120000
DTSTAMP:20260423T165032
CREATED:20260311T193718Z
LAST-MODIFIED:20260311T193718Z
UID:10002776-1780830000-1780833600@emmanuelunited.com
SUMMARY:65th Anniversary Sunday
DESCRIPTION:
URL:https://emmanuelunited.com/event/65th-anniversary-sunday/
LOCATION:Emmanuel UC\, 420 Balmoral Drive\, Brampton\, Ontario\, Canada
CATEGORIES:Worship
END:VEVENT
BEGIN:VEVENT
DTSTART;TZID=America/Toronto:20260614T110000
DTEND;TZID=America/Toronto:20260614T120000
DTSTAMP:20260423T165032
CREATED:20250506T192835Z
LAST-MODIFIED:20250507T193447Z
UID:10001855-1781434800-1781438400@emmanuelunited.com
SUMMARY:Sunday Worship
DESCRIPTION:Join us for worship each Sunday. Come as you are for an hour long service\, including music\, prayers\, and reflections. Children’s program provided September-June\, and there is always something for the young ones to do during worship.
URL:https://emmanuelunited.com/event/sunday-worship/2026-06-14/
LOCATION:Emmanuel UC\, 420 Balmoral Drive\, Brampton\, Ontario\, Canada
CATEGORIES:Worship
ATTACH;FMTTYPE=image/jpeg:https://emmanuelunited.com/wp-content/uploads/2025/05/326532972_1140884776571144_7440115511639422560_n.jpg
END:VEVENT
BEGIN:VEVENT
DTSTART;TZID=America/Toronto:20260621T110000
DTEND;TZID=America/Toronto:20260621T120000
DTSTAMP:20260423T165032
CREATED:20250506T192835Z
LAST-MODIFIED:20250507T193447Z
UID:10001856-1782039600-1782043200@emmanuelunited.com
SUMMARY:Sunday Worship
DESCRIPTION:Join us for worship each Sunday. Come as you are for an hour long service\, including music\, prayers\, and reflections. Children’s program provided September-June\, and there is always something for the young ones to do during worship.
URL:https://emmanuelunited.com/event/sunday-worship/2026-06-21/
LOCATION:Emmanuel UC\, 420 Balmoral Drive\, Brampton\, Ontario\, Canada
CATEGORIES:Worship
ATTACH;FMTTYPE=image/jpeg:https://emmanuelunited.com/wp-content/uploads/2025/05/326532972_1140884776571144_7440115511639422560_n.jpg
END:VEVENT
BEGIN:VEVENT
DTSTART;TZID=America/Toronto:20260628T110000
DTEND;TZID=America/Toronto:20260628T120000
DTSTAMP:20260423T165032
CREATED:20250506T192835Z
LAST-MODIFIED:20250507T193447Z
UID:10001857-1782644400-1782648000@emmanuelunited.com
SUMMARY:Sunday Worship
DESCRIPTION:Join us for worship each Sunday. Come as you are for an hour long service\, including music\, prayers\, and reflections. Children’s program provided September-June\, and there is always something for the young ones to do during worship.
URL:https://emmanuelunited.com/event/sunday-worship/2026-06-28/
LOCATION:Emmanuel UC\, 420 Balmoral Drive\, Brampton\, Ontario\, Canada
CATEGORIES:Worship
ATTACH;FMTTYPE=image/jpeg:https://emmanuelunited.com/wp-content/uploads/2025/05/326532972_1140884776571144_7440115511639422560_n.jpg
END:VEVENT
END:VCALENDAR