BEGIN:VCALENDAR
VERSION:2.0
PRODID:-//Emmanuel United Church, Brampton - ECPv6.15.20//NONSGML v1.0//EN
CALSCALE:GREGORIAN
METHOD:PUBLISH
X-ORIGINAL-URL:https://emmanuelunited.com
X-WR-CALDESC:Events for Emmanuel United Church, Brampton
REFRESH-INTERVAL;VALUE=DURATION:PT1H
X-Robots-Tag:noindex
X-PUBLISHED-TTL:PT1H
BEGIN:VTIMEZONE
TZID:America/Toronto
BEGIN:DAYLIGHT
TZOFFSETFROM:-0500
TZOFFSETTO:-0400
TZNAME:EDT
DTSTART:20260308T070000
END:DAYLIGHT
BEGIN:STANDARD
TZOFFSETFROM:-0400
TZOFFSETTO:-0500
TZNAME:EST
DTSTART:20261101T060000
END:STANDARD
BEGIN:DAYLIGHT
TZOFFSETFROM:-0500
TZOFFSETTO:-0400
TZNAME:EDT
DTSTART:20270314T070000
END:DAYLIGHT
BEGIN:STANDARD
TZOFFSETFROM:-0400
TZOFFSETTO:-0500
TZNAME:EST
DTSTART:20271107T060000
END:STANDARD
BEGIN:DAYLIGHT
TZOFFSETFROM:-0500
TZOFFSETTO:-0400
TZNAME:EDT
DTSTART:20280312T070000
END:DAYLIGHT
BEGIN:STANDARD
TZOFFSETFROM:-0400
TZOFFSETTO:-0500
TZNAME:EST
DTSTART:20281105T060000
END:STANDARD
BEGIN:DAYLIGHT
TZOFFSETFROM:-0500
TZOFFSETTO:-0400
TZNAME:EDT
DTSTART:20290311T070000
END:DAYLIGHT
BEGIN:STANDARD
TZOFFSETFROM:-0400
TZOFFSETTO:-0500
TZNAME:EST
DTSTART:20291104T060000
END:STANDARD
BEGIN:DAYLIGHT
TZOFFSETFROM:-0500
TZOFFSETTO:-0400
TZNAME:EDT
DTSTART:20300310T070000
END:DAYLIGHT
BEGIN:STANDARD
TZOFFSETFROM:-0400
TZOFFSETTO:-0500
TZNAME:EST
DTSTART:20301103T060000
END:STANDARD
END:VTIMEZONE
BEGIN:VEVENT
DTSTART;TZID=America/Toronto:20270623T190000
DTEND;TZID=America/Toronto:20270623T210000
DTSTAMP:20260423T181426
CREATED:20260311T194316Z
LAST-MODIFIED:20260311T194316Z
UID:10002729-1813777200-1813784400@emmanuelunited.com
SUMMARY:Board Meeting
DESCRIPTION:
URL:https://emmanuelunited.com/event/board-meeting/2027-06-23/
LOCATION:Emmanuel UC\, 420 Balmoral Drive\, Brampton\, Ontario\, Canada
CATEGORIES:Governance
END:VEVENT
BEGIN:VEVENT
DTSTART;TZID=America/Toronto:20270728T190000
DTEND;TZID=America/Toronto:20270728T210000
DTSTAMP:20260423T181426
CREATED:20260311T194316Z
LAST-MODIFIED:20260311T194316Z
UID:10002730-1816801200-1816808400@emmanuelunited.com
SUMMARY:Board Meeting
DESCRIPTION:
URL:https://emmanuelunited.com/event/board-meeting/2027-07-28/
LOCATION:Emmanuel UC\, 420 Balmoral Drive\, Brampton\, Ontario\, Canada
CATEGORIES:Governance
END:VEVENT
BEGIN:VEVENT
DTSTART;TZID=America/Toronto:20270825T190000
DTEND;TZID=America/Toronto:20270825T210000
DTSTAMP:20260423T181426
CREATED:20260311T194316Z
LAST-MODIFIED:20260311T194316Z
UID:10002731-1819220400-1819227600@emmanuelunited.com
SUMMARY:Board Meeting
DESCRIPTION:
URL:https://emmanuelunited.com/event/board-meeting/2027-08-25/
LOCATION:Emmanuel UC\, 420 Balmoral Drive\, Brampton\, Ontario\, Canada
CATEGORIES:Governance
END:VEVENT
BEGIN:VEVENT
DTSTART;TZID=America/Toronto:20270922T190000
DTEND;TZID=America/Toronto:20270922T210000
DTSTAMP:20260423T181426
CREATED:20260311T194316Z
LAST-MODIFIED:20260311T194316Z
UID:10002732-1821639600-1821646800@emmanuelunited.com
SUMMARY:Board Meeting
DESCRIPTION:
URL:https://emmanuelunited.com/event/board-meeting/2027-09-22/
LOCATION:Emmanuel UC\, 420 Balmoral Drive\, Brampton\, Ontario\, Canada
CATEGORIES:Governance
END:VEVENT
BEGIN:VEVENT
DTSTART;TZID=America/Toronto:20271027T190000
DTEND;TZID=America/Toronto:20271027T210000
DTSTAMP:20260423T181426
CREATED:20260311T194316Z
LAST-MODIFIED:20260311T194316Z
UID:10002733-1824663600-1824670800@emmanuelunited.com
SUMMARY:Board Meeting
DESCRIPTION:
URL:https://emmanuelunited.com/event/board-meeting/2027-10-27/
LOCATION:Emmanuel UC\, 420 Balmoral Drive\, Brampton\, Ontario\, Canada
CATEGORIES:Governance
END:VEVENT
BEGIN:VEVENT
DTSTART;TZID=America/Toronto:20271124T190000
DTEND;TZID=America/Toronto:20271124T210000
DTSTAMP:20260423T181426
CREATED:20260311T194316Z
LAST-MODIFIED:20260311T194316Z
UID:10002734-1827082800-1827090000@emmanuelunited.com
SUMMARY:Board Meeting
DESCRIPTION:
URL:https://emmanuelunited.com/event/board-meeting/2027-11-24/
LOCATION:Emmanuel UC\, 420 Balmoral Drive\, Brampton\, Ontario\, Canada
CATEGORIES:Governance
END:VEVENT
BEGIN:VEVENT
DTSTART;TZID=America/Toronto:20271222T190000
DTEND;TZID=America/Toronto:20271222T210000
DTSTAMP:20260423T181426
CREATED:20260311T194316Z
LAST-MODIFIED:20260311T194316Z
UID:10002735-1829502000-1829509200@emmanuelunited.com
SUMMARY:Board Meeting
DESCRIPTION:
URL:https://emmanuelunited.com/event/board-meeting/2027-12-22/
LOCATION:Emmanuel UC\, 420 Balmoral Drive\, Brampton\, Ontario\, Canada
CATEGORIES:Governance
END:VEVENT
BEGIN:VEVENT
DTSTART;TZID=America/Toronto:20280126T190000
DTEND;TZID=America/Toronto:20280126T210000
DTSTAMP:20260423T181426
CREATED:20260311T194316Z
LAST-MODIFIED:20260311T194316Z
UID:10002736-1832526000-1832533200@emmanuelunited.com
SUMMARY:Board Meeting
DESCRIPTION:
URL:https://emmanuelunited.com/event/board-meeting/2028-01-26/
LOCATION:Emmanuel UC\, 420 Balmoral Drive\, Brampton\, Ontario\, Canada
CATEGORIES:Governance
END:VEVENT
BEGIN:VEVENT
DTSTART;TZID=America/Toronto:20280223T190000
DTEND;TZID=America/Toronto:20280223T210000
DTSTAMP:20260423T181426
CREATED:20260311T194316Z
LAST-MODIFIED:20260311T194316Z
UID:10002737-1834945200-1834952400@emmanuelunited.com
SUMMARY:Board Meeting
DESCRIPTION:
URL:https://emmanuelunited.com/event/board-meeting/2028-02-23/
LOCATION:Emmanuel UC\, 420 Balmoral Drive\, Brampton\, Ontario\, Canada
CATEGORIES:Governance
END:VEVENT
BEGIN:VEVENT
DTSTART;TZID=America/Toronto:20280322T190000
DTEND;TZID=America/Toronto:20280322T210000
DTSTAMP:20260423T181426
CREATED:20260311T194316Z
LAST-MODIFIED:20260311T194316Z
UID:10002738-1837364400-1837371600@emmanuelunited.com
SUMMARY:Board Meeting
DESCRIPTION:
URL:https://emmanuelunited.com/event/board-meeting/2028-03-22/
LOCATION:Emmanuel UC\, 420 Balmoral Drive\, Brampton\, Ontario\, Canada
CATEGORIES:Governance
END:VEVENT
BEGIN:VEVENT
DTSTART;TZID=America/Toronto:20280426T190000
DTEND;TZID=America/Toronto:20280426T210000
DTSTAMP:20260423T181426
CREATED:20260311T194316Z
LAST-MODIFIED:20260311T194316Z
UID:10002739-1840388400-1840395600@emmanuelunited.com
SUMMARY:Board Meeting
DESCRIPTION:
URL:https://emmanuelunited.com/event/board-meeting/2028-04-26/
LOCATION:Emmanuel UC\, 420 Balmoral Drive\, Brampton\, Ontario\, Canada
CATEGORIES:Governance
END:VEVENT
BEGIN:VEVENT
DTSTART;TZID=America/Toronto:20280524T190000
DTEND;TZID=America/Toronto:20280524T210000
DTSTAMP:20260423T181426
CREATED:20260311T194316Z
LAST-MODIFIED:20260311T194316Z
UID:10002740-1842807600-1842814800@emmanuelunited.com
SUMMARY:Board Meeting
DESCRIPTION:
URL:https://emmanuelunited.com/event/board-meeting/2028-05-24/
LOCATION:Emmanuel UC\, 420 Balmoral Drive\, Brampton\, Ontario\, Canada
CATEGORIES:Governance
END:VEVENT
BEGIN:VEVENT
DTSTART;TZID=America/Toronto:20280628T190000
DTEND;TZID=America/Toronto:20280628T210000
DTSTAMP:20260423T181426
CREATED:20260311T194316Z
LAST-MODIFIED:20260311T194316Z
UID:10002741-1845831600-1845838800@emmanuelunited.com
SUMMARY:Board Meeting
DESCRIPTION:
URL:https://emmanuelunited.com/event/board-meeting/2028-06-28/
LOCATION:Emmanuel UC\, 420 Balmoral Drive\, Brampton\, Ontario\, Canada
CATEGORIES:Governance
END:VEVENT
BEGIN:VEVENT
DTSTART;TZID=America/Toronto:20280726T190000
DTEND;TZID=America/Toronto:20280726T210000
DTSTAMP:20260423T181426
CREATED:20260311T194316Z
LAST-MODIFIED:20260311T194316Z
UID:10002742-1848250800-1848258000@emmanuelunited.com
SUMMARY:Board Meeting
DESCRIPTION:
URL:https://emmanuelunited.com/event/board-meeting/2028-07-26/
LOCATION:Emmanuel UC\, 420 Balmoral Drive\, Brampton\, Ontario\, Canada
CATEGORIES:Governance
END:VEVENT
BEGIN:VEVENT
DTSTART;TZID=America/Toronto:20280823T190000
DTEND;TZID=America/Toronto:20280823T210000
DTSTAMP:20260423T181426
CREATED:20260311T194316Z
LAST-MODIFIED:20260311T194316Z
UID:10002743-1850670000-1850677200@emmanuelunited.com
SUMMARY:Board Meeting
DESCRIPTION:
URL:https://emmanuelunited.com/event/board-meeting/2028-08-23/
LOCATION:Emmanuel UC\, 420 Balmoral Drive\, Brampton\, Ontario\, Canada
CATEGORIES:Governance
END:VEVENT
BEGIN:VEVENT
DTSTART;TZID=America/Toronto:20280927T190000
DTEND;TZID=America/Toronto:20280927T210000
DTSTAMP:20260423T181426
CREATED:20260311T194316Z
LAST-MODIFIED:20260311T194316Z
UID:10002744-1853694000-1853701200@emmanuelunited.com
SUMMARY:Board Meeting
DESCRIPTION:
URL:https://emmanuelunited.com/event/board-meeting/2028-09-27/
LOCATION:Emmanuel UC\, 420 Balmoral Drive\, Brampton\, Ontario\, Canada
CATEGORIES:Governance
END:VEVENT
BEGIN:VEVENT
DTSTART;TZID=America/Toronto:20281025T190000
DTEND;TZID=America/Toronto:20281025T210000
DTSTAMP:20260423T181426
CREATED:20260311T194316Z
LAST-MODIFIED:20260311T194316Z
UID:10002745-1856113200-1856120400@emmanuelunited.com
SUMMARY:Board Meeting
DESCRIPTION:
URL:https://emmanuelunited.com/event/board-meeting/2028-10-25/
LOCATION:Emmanuel UC\, 420 Balmoral Drive\, Brampton\, Ontario\, Canada
CATEGORIES:Governance
END:VEVENT
BEGIN:VEVENT
DTSTART;TZID=America/Toronto:20281122T190000
DTEND;TZID=America/Toronto:20281122T210000
DTSTAMP:20260423T181426
CREATED:20260311T194316Z
LAST-MODIFIED:20260311T194316Z
UID:10002746-1858532400-1858539600@emmanuelunited.com
SUMMARY:Board Meeting
DESCRIPTION:
URL:https://emmanuelunited.com/event/board-meeting/2028-11-22/
LOCATION:Emmanuel UC\, 420 Balmoral Drive\, Brampton\, Ontario\, Canada
CATEGORIES:Governance
END:VEVENT
BEGIN:VEVENT
DTSTART;TZID=America/Toronto:20281227T190000
DTEND;TZID=America/Toronto:20281227T210000
DTSTAMP:20260423T181426
CREATED:20260311T194316Z
LAST-MODIFIED:20260311T194316Z
UID:10002747-1861556400-1861563600@emmanuelunited.com
SUMMARY:Board Meeting
DESCRIPTION:
URL:https://emmanuelunited.com/event/board-meeting/2028-12-27/
LOCATION:Emmanuel UC\, 420 Balmoral Drive\, Brampton\, Ontario\, Canada
CATEGORIES:Governance
END:VEVENT
BEGIN:VEVENT
DTSTART;TZID=America/Toronto:20290124T190000
DTEND;TZID=America/Toronto:20290124T210000
DTSTAMP:20260423T181426
CREATED:20260311T194316Z
LAST-MODIFIED:20260311T194316Z
UID:10002748-1863975600-1863982800@emmanuelunited.com
SUMMARY:Board Meeting
DESCRIPTION:
URL:https://emmanuelunited.com/event/board-meeting/2029-01-24/
LOCATION:Emmanuel UC\, 420 Balmoral Drive\, Brampton\, Ontario\, Canada
CATEGORIES:Governance
END:VEVENT
BEGIN:VEVENT
DTSTART;TZID=America/Toronto:20290228T190000
DTEND;TZID=America/Toronto:20290228T210000
DTSTAMP:20260423T181426
CREATED:20260311T194316Z
LAST-MODIFIED:20260311T194316Z
UID:10002749-1866999600-1867006800@emmanuelunited.com
SUMMARY:Board Meeting
DESCRIPTION:
URL:https://emmanuelunited.com/event/board-meeting/2029-02-28/
LOCATION:Emmanuel UC\, 420 Balmoral Drive\, Brampton\, Ontario\, Canada
CATEGORIES:Governance
END:VEVENT
BEGIN:VEVENT
DTSTART;TZID=America/Toronto:20290328T190000
DTEND;TZID=America/Toronto:20290328T210000
DTSTAMP:20260423T181426
CREATED:20260311T194316Z
LAST-MODIFIED:20260311T194316Z
UID:10002750-1869418800-1869426000@emmanuelunited.com
SUMMARY:Board Meeting
DESCRIPTION:
URL:https://emmanuelunited.com/event/board-meeting/2029-03-28/
LOCATION:Emmanuel UC\, 420 Balmoral Drive\, Brampton\, Ontario\, Canada
CATEGORIES:Governance
END:VEVENT
BEGIN:VEVENT
DTSTART;TZID=America/Toronto:20290425T190000
DTEND;TZID=America/Toronto:20290425T210000
DTSTAMP:20260423T181426
CREATED:20260311T194316Z
LAST-MODIFIED:20260311T194316Z
UID:10002751-1871838000-1871845200@emmanuelunited.com
SUMMARY:Board Meeting
DESCRIPTION:
URL:https://emmanuelunited.com/event/board-meeting/2029-04-25/
LOCATION:Emmanuel UC\, 420 Balmoral Drive\, Brampton\, Ontario\, Canada
CATEGORIES:Governance
END:VEVENT
BEGIN:VEVENT
DTSTART;TZID=America/Toronto:20290523T190000
DTEND;TZID=America/Toronto:20290523T210000
DTSTAMP:20260423T181426
CREATED:20260311T194316Z
LAST-MODIFIED:20260311T194316Z
UID:10002752-1874257200-1874264400@emmanuelunited.com
SUMMARY:Board Meeting
DESCRIPTION:
URL:https://emmanuelunited.com/event/board-meeting/2029-05-23/
LOCATION:Emmanuel UC\, 420 Balmoral Drive\, Brampton\, Ontario\, Canada
CATEGORIES:Governance
END:VEVENT
BEGIN:VEVENT
DTSTART;TZID=America/Toronto:20290627T190000
DTEND;TZID=America/Toronto:20290627T210000
DTSTAMP:20260423T181426
CREATED:20260311T194316Z
LAST-MODIFIED:20260311T194316Z
UID:10002753-1877281200-1877288400@emmanuelunited.com
SUMMARY:Board Meeting
DESCRIPTION:
URL:https://emmanuelunited.com/event/board-meeting/2029-06-27/
LOCATION:Emmanuel UC\, 420 Balmoral Drive\, Brampton\, Ontario\, Canada
CATEGORIES:Governance
END:VEVENT
BEGIN:VEVENT
DTSTART;TZID=America/Toronto:20290725T190000
DTEND;TZID=America/Toronto:20290725T210000
DTSTAMP:20260423T181426
CREATED:20260311T194316Z
LAST-MODIFIED:20260311T194316Z
UID:10002754-1879700400-1879707600@emmanuelunited.com
SUMMARY:Board Meeting
DESCRIPTION:
URL:https://emmanuelunited.com/event/board-meeting/2029-07-25/
LOCATION:Emmanuel UC\, 420 Balmoral Drive\, Brampton\, Ontario\, Canada
CATEGORIES:Governance
END:VEVENT
BEGIN:VEVENT
DTSTART;TZID=America/Toronto:20290822T190000
DTEND;TZID=America/Toronto:20290822T210000
DTSTAMP:20260423T181426
CREATED:20260311T194316Z
LAST-MODIFIED:20260311T194316Z
UID:10002755-1882119600-1882126800@emmanuelunited.com
SUMMARY:Board Meeting
DESCRIPTION:
URL:https://emmanuelunited.com/event/board-meeting/2029-08-22/
LOCATION:Emmanuel UC\, 420 Balmoral Drive\, Brampton\, Ontario\, Canada
CATEGORIES:Governance
END:VEVENT
BEGIN:VEVENT
DTSTART;TZID=America/Toronto:20290926T190000
DTEND;TZID=America/Toronto:20290926T210000
DTSTAMP:20260423T181426
CREATED:20260311T194316Z
LAST-MODIFIED:20260311T194316Z
UID:10002756-1885143600-1885150800@emmanuelunited.com
SUMMARY:Board Meeting
DESCRIPTION:
URL:https://emmanuelunited.com/event/board-meeting/2029-09-26/
LOCATION:Emmanuel UC\, 420 Balmoral Drive\, Brampton\, Ontario\, Canada
CATEGORIES:Governance
END:VEVENT
BEGIN:VEVENT
DTSTART;TZID=America/Toronto:20291024T190000
DTEND;TZID=America/Toronto:20291024T210000
DTSTAMP:20260423T181426
CREATED:20260311T194316Z
LAST-MODIFIED:20260311T194316Z
UID:10002757-1887562800-1887570000@emmanuelunited.com
SUMMARY:Board Meeting
DESCRIPTION:
URL:https://emmanuelunited.com/event/board-meeting/2029-10-24/
LOCATION:Emmanuel UC\, 420 Balmoral Drive\, Brampton\, Ontario\, Canada
CATEGORIES:Governance
END:VEVENT
BEGIN:VEVENT
DTSTART;TZID=America/Toronto:20291128T190000
DTEND;TZID=America/Toronto:20291128T210000
DTSTAMP:20260423T181426
CREATED:20260311T194316Z
LAST-MODIFIED:20260311T194316Z
UID:10002758-1890586800-1890594000@emmanuelunited.com
SUMMARY:Board Meeting
DESCRIPTION:
URL:https://emmanuelunited.com/event/board-meeting/2029-11-28/
LOCATION:Emmanuel UC\, 420 Balmoral Drive\, Brampton\, Ontario\, Canada
CATEGORIES:Governance
END:VEVENT
END:VCALENDAR