BEGIN:VCALENDAR
VERSION:2.0
PRODID:-//Emmanuel United Church, Brampton - ECPv6.15.20//NONSGML v1.0//EN
CALSCALE:GREGORIAN
METHOD:PUBLISH
X-ORIGINAL-URL:https://emmanuelunited.com
X-WR-CALDESC:Events for Emmanuel United Church, Brampton
REFRESH-INTERVAL;VALUE=DURATION:PT1H
X-Robots-Tag:noindex
X-PUBLISHED-TTL:PT1H
BEGIN:VTIMEZONE
TZID:America/Toronto
BEGIN:DAYLIGHT
TZOFFSETFROM:-0500
TZOFFSETTO:-0400
TZNAME:EDT
DTSTART:20230312T070000
END:DAYLIGHT
BEGIN:STANDARD
TZOFFSETFROM:-0400
TZOFFSETTO:-0500
TZNAME:EST
DTSTART:20231105T060000
END:STANDARD
BEGIN:DAYLIGHT
TZOFFSETFROM:-0500
TZOFFSETTO:-0400
TZNAME:EDT
DTSTART:20240310T070000
END:DAYLIGHT
BEGIN:STANDARD
TZOFFSETFROM:-0400
TZOFFSETTO:-0500
TZNAME:EST
DTSTART:20241103T060000
END:STANDARD
BEGIN:DAYLIGHT
TZOFFSETFROM:-0500
TZOFFSETTO:-0400
TZNAME:EDT
DTSTART:20250309T070000
END:DAYLIGHT
BEGIN:STANDARD
TZOFFSETFROM:-0400
TZOFFSETTO:-0500
TZNAME:EST
DTSTART:20251102T060000
END:STANDARD
BEGIN:DAYLIGHT
TZOFFSETFROM:-0500
TZOFFSETTO:-0400
TZNAME:EDT
DTSTART:20260308T070000
END:DAYLIGHT
BEGIN:STANDARD
TZOFFSETFROM:-0400
TZOFFSETTO:-0500
TZNAME:EST
DTSTART:20261101T060000
END:STANDARD
END:VTIMEZONE
BEGIN:VEVENT
DTSTART;TZID=America/Toronto:20241002T100000
DTEND;TZID=America/Toronto:20241002T150000
DTSTAMP:20260425T123055
CREATED:20240830T180652Z
LAST-MODIFIED:20240830T180652Z
UID:10001205-1727863200-1727881200@emmanuelunited.com
SUMMARY:Togetherness Day
DESCRIPTION:Togetherness Day is coming!\nJoin us Wednesday\, October 2nd 10am to 3pm at the Barrie Legion Hall\, for the social event of the year! \nFor more information and registration forms see the UCW bulletin board in the hall or contact Diane Aikman.\nYou can also contact Stefanie in the office to register – Office @EmmanuelUnited.com \nDeadline for registration: September 23rd 2023\n 
URL:https://emmanuelunited.com/event/togetherness-day/
LOCATION:Barrie Legion Hall\, 410 St Vincent St\, Barrie\, Ontario\, L4M 4A6\, Canada
CATEGORIES:Fellowship
ATTACH;FMTTYPE=image/png:https://emmanuelunited.com/wp-content/uploads/2024/08/church3.png
END:VEVENT
BEGIN:VEVENT
DTSTART;TZID=America/Toronto:20241002T100000
DTEND;TZID=America/Toronto:20241002T150000
DTSTAMP:20260425T123055
CREATED:20240830T180652Z
LAST-MODIFIED:20240830T180652Z
UID:10001713-1727863200-1727881200@emmanuelunited.com
SUMMARY:Togetherness Day
DESCRIPTION:Togetherness Day is coming!\nJoin us Wednesday\, October 2nd 10am to 3pm at the Barrie Legion Hall\, for the social event of the year! \nFor more information and registration forms see the UCW bulletin board in the hall or contact Diane Aikman.\nYou can also contact Stefanie in the office to register – Office @EmmanuelUnited.com \nDeadline for registration: September 23rd 2023\n 
URL:https://emmanuelunited.com/event/togetherness-day-2/
LOCATION:Barrie Legion Hall\, 410 St Vincent St\, Barrie\, Ontario\, L4M 4A6\, Canada
CATEGORIES:Fellowship
ATTACH;FMTTYPE=image/png:https://emmanuelunited.com/wp-content/uploads/2024/08/church3.png
END:VEVENT
BEGIN:VEVENT
DTSTART;TZID=America/Toronto:20241019T083000
DTEND;TZID=America/Toronto:20241019T163000
DTSTAMP:20260425T123055
CREATED:20240927T142241Z
LAST-MODIFIED:20240927T142245Z
UID:10000942-1729326600-1729355400@emmanuelunited.com
SUMMARY:Crazy\, Cozy\, Crafters
DESCRIPTION:  \n \nWe are going to be hosting one Saturday a month to get together and scrapbook with your friends at\nEmmanuel United Church\, 420 Balmoral Drive in Brampton. \nOctober is a Fall-themed\nThis will take place on Saturday\, October 19th\nTime: 8:30 AM to 4:30PM \nCoffee\, Tea\, Pop\, and Water\, and treats will be provided!\n$30 – Hearty Chicken Stew\n$25 – Bring your own lunch  \nTo RSVP or for more information:\nCrazycozycrafters@gmail.com \n** Please RSVP \n  \n 
URL:https://emmanuelunited.com/event/scrapbooking-saturdays-2-2-2/
LOCATION:Emmanuel UC\, 420 Balmoral Drive\, Brampton\, Ontario\, Canada
CATEGORIES:Fellowship
ATTACH;FMTTYPE=image/jpeg:https://emmanuelunited.com/wp-content/uploads/2024/01/arts-and-crafts-supplies.jpg
END:VEVENT
BEGIN:VEVENT
DTSTART;TZID=America/Toronto:20241019T083000
DTEND;TZID=America/Toronto:20241019T163000
DTSTAMP:20260425T123055
CREATED:20240927T142241Z
LAST-MODIFIED:20240927T142241Z
UID:10001717-1729326600-1729355400@emmanuelunited.com
SUMMARY:Crazy\, Cozy\, Crafters
DESCRIPTION:  \n \nWe are going to be hosting one Saturday a month to get together and scrapbook with your friends at\nEmmanuel United Church\, 420 Balmoral Drive in Brampton. \nOctober is a Fall-themed\nThis will take place on Saturday\, October 19th\nTime: 8:30 AM to 4:30PM \nCoffee\, Tea\, Pop\, and Water\, and treats will be provided!\n$30 – Hearty Chicken Stew\n$25 – Bring your own lunch  \nTo RSVP or for more information:\nCrazycozycrafters@gmail.com \n** Please RSVP \n  \n 
URL:https://emmanuelunited.com/event/scrapbooking-saturdays-2-2-2-2/
LOCATION:Emmanuel UC\, 420 Balmoral Drive\, Brampton\, Ontario\, Canada
CATEGORIES:Fellowship
ATTACH;FMTTYPE=image/jpeg:https://emmanuelunited.com/wp-content/uploads/2024/01/arts-and-crafts-supplies.jpg
END:VEVENT
BEGIN:VEVENT
DTSTART;TZID=America/Toronto:20241029T103000
DTEND;TZID=America/Toronto:20241029T120000
DTSTAMP:20260425T123055
CREATED:20241002T181645Z
LAST-MODIFIED:20250507T170851Z
UID:10001263-1730197800-1730203200@emmanuelunited.com
SUMMARY:Mid-Week Sip-N-Talk
DESCRIPTION:Mid-Week Sip-N-Talk \nJoin us for Mid-Week Sip-n-Talk for some monthly social time! Everyone’s invited\, bring a friend or neighbors. \nAlways held on the last Tuesday of each month at 10:30 AM.\nPlease join us for an enjoyable time of fellowship and light refreshment.
URL:https://emmanuelunited.com/event/mid-week-sip-n-talk-3/2024-10-29/
LOCATION:Emmanuel UC\, 420 Balmoral Drive\, Brampton\, Ontario\, Canada
CATEGORIES:Fellowship
ATTACH;FMTTYPE=image/jpeg:https://emmanuelunited.com/wp-content/uploads/2024/02/hot-latte-coffee-with-hearts-Ian-L-CC0-e1746637718193.jpg
END:VEVENT
BEGIN:VEVENT
DTSTART;TZID=America/Toronto:20241116T083000
DTEND;TZID=America/Toronto:20241116T163000
DTSTAMP:20260425T123055
CREATED:20240813T180126Z
LAST-MODIFIED:20240813T180126Z
UID:10001416-1731745800-1731774600@emmanuelunited.com
SUMMARY:Crazy\, Cozy\, Crafters
DESCRIPTION:  \n \nWe are going to be hosting one Saturday a month to get together and scrapbook with your friends at\nEmmanuel United Church\, 420 Balmoral Drive in Brampton. \nSeptember is a Drive-in theme\, bring along your records to jam to! \nThis will take place on August 10th – 8:30am – 4:00pm\nTime: 8:30 AM to 4:30PM \nCoffee\, Tea\, Pop\, and Water\, and treats will be provided!\n$30 – Pulled Pork Sandwiches’\n$25 – Bring your own lunch  \nTo RSVP or for more information:\nCrazycozycrafters@gmail.com \n** Please RSVP \n  \n 
URL:https://emmanuelunited.com/event/scrapbooking-saturdays-2-2-3/2024-11-16/
LOCATION:Emmanuel UC\, 420 Balmoral Drive\, Brampton\, Ontario\, Canada
CATEGORIES:Fellowship
ATTACH;FMTTYPE=image/jpeg:https://emmanuelunited.com/wp-content/uploads/2024/01/arts-and-crafts-supplies.jpg
END:VEVENT
BEGIN:VEVENT
DTSTART;TZID=America/Toronto:20241116T083000
DTEND;TZID=America/Toronto:20241116T163000
DTSTAMP:20260425T123055
CREATED:20240813T180126Z
LAST-MODIFIED:20240813T180130Z
UID:10000943-1731745800-1731774600@emmanuelunited.com
SUMMARY:Crazy\, Cozy\, Crafters
DESCRIPTION:  \n \nWe are going to be hosting one Saturday a month to get together and scrapbook with your friends at\nEmmanuel United Church\, 420 Balmoral Drive in Brampton. \nSeptember is a Drive-in theme\, bring along your records to jam to! \nThis will take place on August 10th – 8:30am – 4:00pm\nTime: 8:30 AM to 4:30PM \nCoffee\, Tea\, Pop\, and Water\, and treats will be provided!\n$30 – Pulled Pork Sandwiches’\n$25 – Bring your own lunch  \nTo RSVP or for more information:\nCrazycozycrafters@gmail.com \n** Please RSVP \n  \n 
URL:https://emmanuelunited.com/event/scrapbooking-saturdays-2-2/2024-11-16/
LOCATION:Emmanuel UC\, 420 Balmoral Drive\, Brampton\, Ontario\, Canada
CATEGORIES:Fellowship
ATTACH;FMTTYPE=image/jpeg:https://emmanuelunited.com/wp-content/uploads/2024/01/arts-and-crafts-supplies.jpg
END:VEVENT
BEGIN:VEVENT
DTSTART;TZID=America/Toronto:20241116T100000
DTEND;TZID=America/Toronto:20241116T130000
DTSTAMP:20260425T123055
CREATED:20240905T170809Z
LAST-MODIFIED:20241116T133409Z
UID:10001207-1731751200-1731762000@emmanuelunited.com
SUMMARY:Christmas Bazar - TODAY!
DESCRIPTION:We will be hosting our annual Christmas Bazar on November 16th 2024\nJoin us today for: \n\nGently used children’s toys\nGames\nBooks\nPuzzles\nGently used decorations\nDishes\nHousehold items\nJewelry\nVisit our county lunch buffet for Soups\, sandwiches and baked treats!
URL:https://emmanuelunited.com/event/christmas-bazar-save-the-date/
LOCATION:Emmanuel UC\, 420 Balmoral Drive\, Brampton\, Ontario\, Canada
CATEGORIES:Fellowship
ATTACH;FMTTYPE=image/jpeg:https://emmanuelunited.com/wp-content/uploads/2024/09/christmas-shop-Vera-Kratochvil-CC0.jpg
END:VEVENT
BEGIN:VEVENT
DTSTART;TZID=America/Toronto:20241116T100000
DTEND;TZID=America/Toronto:20241116T130000
DTSTAMP:20260425T123055
CREATED:20240905T170809Z
LAST-MODIFIED:20240905T170809Z
UID:10001715-1731751200-1731762000@emmanuelunited.com
SUMMARY:Christmas Bazar - TODAY!
DESCRIPTION:We will be hosting our annual Christmas Bazar on November 16th 2024\nJoin us today for: \n\nGently used children’s toys\nGames\nBooks\nPuzzles\nGently used decorations\nDishes\nHousehold items\nJewelry\nVisit our county lunch buffet for Soups\, sandwiches and baked treats!
URL:https://emmanuelunited.com/event/christmas-bazar-save-the-date-2/
LOCATION:Emmanuel UC\, 420 Balmoral Drive\, Brampton\, Ontario\, Canada
CATEGORIES:Fellowship
ATTACH;FMTTYPE=image/jpeg:https://emmanuelunited.com/wp-content/uploads/2024/09/christmas-shop-Vera-Kratochvil-CC0.jpg
END:VEVENT
BEGIN:VEVENT
DTSTART;TZID=America/Toronto:20241126T103000
DTEND;TZID=America/Toronto:20241126T120000
DTSTAMP:20260425T123055
CREATED:20241002T181645Z
LAST-MODIFIED:20250507T170851Z
UID:10001264-1732617000-1732622400@emmanuelunited.com
SUMMARY:Mid-Week Sip-N-Talk
DESCRIPTION:Mid-Week Sip-N-Talk \nJoin us for Mid-Week Sip-n-Talk for some monthly social time! Everyone’s invited\, bring a friend or neighbors. \nAlways held on the last Tuesday of each month at 10:30 AM.\nPlease join us for an enjoyable time of fellowship and light refreshment.
URL:https://emmanuelunited.com/event/mid-week-sip-n-talk-3/2024-11-26/
LOCATION:Emmanuel UC\, 420 Balmoral Drive\, Brampton\, Ontario\, Canada
CATEGORIES:Fellowship
ATTACH;FMTTYPE=image/jpeg:https://emmanuelunited.com/wp-content/uploads/2024/02/hot-latte-coffee-with-hearts-Ian-L-CC0-e1746637718193.jpg
END:VEVENT
BEGIN:VEVENT
DTSTART;TZID=America/Toronto:20241128T100000
DTEND;TZID=America/Toronto:20241128T110000
DTSTAMP:20260425T123055
CREATED:20241121T144822Z
LAST-MODIFIED:20241121T144822Z
UID:10001785-1732788000-1732791600@emmanuelunited.com
SUMMARY:Christmas Decorating
DESCRIPTION:Join us as we decorate the church for our upcoming advent season! Enjoy a day of fellowship as we have fun decorating for the Christmas festivities!
URL:https://emmanuelunited.com/event/christmas-decorating-2/
LOCATION:Emmanuel UC\, 420 Balmoral Drive\, Brampton\, Ontario\, Canada
CATEGORIES:Discipleship,Fellowship
ATTACH;FMTTYPE=image/jpeg:https://emmanuelunited.com/wp-content/uploads/2024/11/when-to-put-up-christmas-tree-1-1665779714.jpg
END:VEVENT
BEGIN:VEVENT
DTSTART;TZID=America/Toronto:20241128T100000
DTEND;TZID=America/Toronto:20241128T110000
DTSTAMP:20260425T123055
CREATED:20241121T144822Z
LAST-MODIFIED:20241121T145118Z
UID:10001323-1732788000-1732791600@emmanuelunited.com
SUMMARY:Christmas Decorating
DESCRIPTION:Join us as we decorate the church for our upcoming advent season! Enjoy a day of fellowship as we have fun decorating for the Christmas festivities!
URL:https://emmanuelunited.com/event/christmas-decorating/
LOCATION:Emmanuel UC\, 420 Balmoral Drive\, Brampton\, Ontario\, Canada
CATEGORIES:Discipleship,Fellowship
ATTACH;FMTTYPE=image/jpeg:https://emmanuelunited.com/wp-content/uploads/2024/11/when-to-put-up-christmas-tree-1-1665779714.jpg
END:VEVENT
BEGIN:VEVENT
DTSTART;TZID=America/Toronto:20241231T103000
DTEND;TZID=America/Toronto:20241231T120000
DTSTAMP:20260425T123055
CREATED:20241002T181645Z
LAST-MODIFIED:20250507T170851Z
UID:10001265-1735641000-1735646400@emmanuelunited.com
SUMMARY:Mid-Week Sip-N-Talk
DESCRIPTION:Mid-Week Sip-N-Talk \nJoin us for Mid-Week Sip-n-Talk for some monthly social time! Everyone’s invited\, bring a friend or neighbors. \nAlways held on the last Tuesday of each month at 10:30 AM.\nPlease join us for an enjoyable time of fellowship and light refreshment.
URL:https://emmanuelunited.com/event/mid-week-sip-n-talk-3/2024-12-31/
LOCATION:Emmanuel UC\, 420 Balmoral Drive\, Brampton\, Ontario\, Canada
CATEGORIES:Fellowship
ATTACH;FMTTYPE=image/jpeg:https://emmanuelunited.com/wp-content/uploads/2024/02/hot-latte-coffee-with-hearts-Ian-L-CC0-e1746637718193.jpg
END:VEVENT
BEGIN:VEVENT
DTSTART;TZID=America/Toronto:20250119T120000
DTEND;TZID=America/Toronto:20250119T150000
DTSTAMP:20260425T123055
CREATED:20250108T181326Z
LAST-MODIFIED:20250108T181326Z
UID:10001787-1737288000-1737298800@emmanuelunited.com
SUMMARY:Annual Soup Luncheon
DESCRIPTION:We’re once again kicking off the year with a nice winter warm-up! Join us for our Soup Luncheon to be held after church on Sunday January 19th.\nPlease mark your calendars and bring some change since this is a free-will offering fundraiser for the general fund.  \nHope to see you there!
URL:https://emmanuelunited.com/event/annual-soup-luncheon-2/
LOCATION:Emmanuel UC\, 420 Balmoral Drive\, Brampton\, Ontario\, Canada
CATEGORIES:Fellowship
ATTACH;FMTTYPE=image/jpeg:https://emmanuelunited.com/wp-content/uploads/2025/01/Chicken-noodle-soup-FT-RECIPE0524-3e7cdb231b024b0b985b151fe0303d46.jpeg
END:VEVENT
BEGIN:VEVENT
DTSTART;TZID=America/Toronto:20250119T120000
DTEND;TZID=America/Toronto:20250119T150000
DTSTAMP:20260425T123055
CREATED:20250108T181326Z
LAST-MODIFIED:20250108T181326Z
UID:10001325-1737288000-1737298800@emmanuelunited.com
SUMMARY:Annual Soup Luncheon
DESCRIPTION:We’re once again kicking off the year with a nice winter warm-up! Join us for our Soup Luncheon to be held after church on Sunday January 19th.\nPlease mark your calendars and bring some change since this is a free-will offering fundraiser for the general fund.  \nHope to see you there!
URL:https://emmanuelunited.com/event/annual-soup-luncheon/
LOCATION:Emmanuel UC\, 420 Balmoral Drive\, Brampton\, Ontario\, Canada
CATEGORIES:Fellowship
ATTACH;FMTTYPE=image/jpeg:https://emmanuelunited.com/wp-content/uploads/2025/01/Chicken-noodle-soup-FT-RECIPE0524-3e7cdb231b024b0b985b151fe0303d46.jpeg
END:VEVENT
BEGIN:VEVENT
DTSTART;TZID=America/Toronto:20250128T103000
DTEND;TZID=America/Toronto:20250128T120000
DTSTAMP:20260425T123055
CREATED:20241002T181645Z
LAST-MODIFIED:20250507T170851Z
UID:10001266-1738060200-1738065600@emmanuelunited.com
SUMMARY:Mid-Week Sip-N-Talk
DESCRIPTION:Mid-Week Sip-N-Talk \nJoin us for Mid-Week Sip-n-Talk for some monthly social time! Everyone’s invited\, bring a friend or neighbors. \nAlways held on the last Tuesday of each month at 10:30 AM.\nPlease join us for an enjoyable time of fellowship and light refreshment.
URL:https://emmanuelunited.com/event/mid-week-sip-n-talk-3/2025-01-28/
LOCATION:Emmanuel UC\, 420 Balmoral Drive\, Brampton\, Ontario\, Canada
CATEGORIES:Fellowship
ATTACH;FMTTYPE=image/jpeg:https://emmanuelunited.com/wp-content/uploads/2024/02/hot-latte-coffee-with-hearts-Ian-L-CC0-e1746637718193.jpg
END:VEVENT
BEGIN:VEVENT
DTSTART;TZID=America/Toronto:20250208T130000
DTEND;TZID=America/Toronto:20250208T150000
DTSTAMP:20260425T123055
CREATED:20250108T182836Z
LAST-MODIFIED:20250108T182836Z
UID:10001326-1739019600-1739026800@emmanuelunited.com
SUMMARY:Annual Valentines Lunch
DESCRIPTION:Our annual Valentines Lunch will take place on February 8th\, presented by the Men’s Club \nJoin us for the perfect valentines date\, a delicious catered lunch\, shared in fellowship with other loving couples. \nTickets are $30.00 and can be purchased through Mario\, or from Stefanie in the office.
URL:https://emmanuelunited.com/event/annual-valentines-lunch/
LOCATION:Emmanuel UC\, 420 Balmoral Drive\, Brampton\, Ontario\, Canada
CATEGORIES:Fellowship
ATTACH;FMTTYPE=image/jpeg:https://emmanuelunited.com/wp-content/uploads/2025/01/get.jpg
END:VEVENT
BEGIN:VEVENT
DTSTART;TZID=America/Toronto:20250208T130000
DTEND;TZID=America/Toronto:20250208T150000
DTSTAMP:20260425T123055
CREATED:20250108T182836Z
LAST-MODIFIED:20250108T182836Z
UID:10001788-1739019600-1739026800@emmanuelunited.com
SUMMARY:Annual Valentines Lunch
DESCRIPTION:Our annual Valentines Lunch will take place on February 8th\, presented by the Men’s Club \nJoin us for the perfect valentines date\, a delicious catered lunch\, shared in fellowship with other loving couples. \nTickets are $30.00 and can be purchased through Mario\, or from Stefanie in the office.
URL:https://emmanuelunited.com/event/annual-valentines-lunch-2/
LOCATION:Emmanuel UC\, 420 Balmoral Drive\, Brampton\, Ontario\, Canada
CATEGORIES:Fellowship
ATTACH;FMTTYPE=image/jpeg:https://emmanuelunited.com/wp-content/uploads/2025/01/get.jpg
END:VEVENT
BEGIN:VEVENT
DTSTART;TZID=America/Toronto:20250215T083000
DTEND;TZID=America/Toronto:20250215T163000
DTSTAMP:20260425T123055
CREATED:20250128T190815Z
LAST-MODIFIED:20250128T190815Z
UID:10001793-1739608200-1739637000@emmanuelunited.com
SUMMARY:Crazy\, Cozy\, Crafters
DESCRIPTION:Breast Cancer Crop\nJoin our ever growing Scrapbooking Club!\nThis month is our “Breast Cancer Crop” as we will commence our second annual fundraising event. Join us for a silent auction\, as well as our craft supplies sale.\nTickets with Chicken Penne lunch: $30.00Tickets without lunch option: $25.00\nPlease email Crazycozycrafters@gmail.com for tickets and more information
URL:https://emmanuelunited.com/event/crazy-cozy-crafters-2/
LOCATION:Emmanuel UC\, 420 Balmoral Drive\, Brampton\, Ontario\, Canada
CATEGORIES:Fellowship
ATTACH;FMTTYPE=image/png:https://emmanuelunited.com/wp-content/uploads/2025/01/Screenshot-2025-01-23-114030.png
END:VEVENT
BEGIN:VEVENT
DTSTART;TZID=America/Toronto:20250215T083000
DTEND;TZID=America/Toronto:20250215T163000
DTSTAMP:20260425T123055
CREATED:20250128T190815Z
LAST-MODIFIED:20250128T190815Z
UID:10001331-1739608200-1739637000@emmanuelunited.com
SUMMARY:Crazy\, Cozy\, Crafters
DESCRIPTION:Breast Cancer Crop\nJoin our ever growing Scrapbooking Club!\nThis month is our “Breast Cancer Crop” as we will commence our second annual fundraising event. Join us for a silent auction\, as well as our craft supplies sale.\nTickets with Chicken Penne lunch: $30.00Tickets without lunch option: $25.00\nPlease email Crazycozycrafters@gmail.com for tickets and more information
URL:https://emmanuelunited.com/event/crazy-cozy-crafters/
LOCATION:Emmanuel UC\, 420 Balmoral Drive\, Brampton\, Ontario\, Canada
CATEGORIES:Fellowship
ATTACH;FMTTYPE=image/png:https://emmanuelunited.com/wp-content/uploads/2025/01/Screenshot-2025-01-23-114030.png
END:VEVENT
BEGIN:VEVENT
DTSTART;TZID=America/Toronto:20250225T103000
DTEND;TZID=America/Toronto:20250225T120000
DTSTAMP:20260425T123055
CREATED:20241002T181645Z
LAST-MODIFIED:20250507T170851Z
UID:10001267-1740479400-1740484800@emmanuelunited.com
SUMMARY:Mid-Week Sip-N-Talk
DESCRIPTION:Mid-Week Sip-N-Talk \nJoin us for Mid-Week Sip-n-Talk for some monthly social time! Everyone’s invited\, bring a friend or neighbors. \nAlways held on the last Tuesday of each month at 10:30 AM.\nPlease join us for an enjoyable time of fellowship and light refreshment.
URL:https://emmanuelunited.com/event/mid-week-sip-n-talk-3/2025-02-25/
LOCATION:Emmanuel UC\, 420 Balmoral Drive\, Brampton\, Ontario\, Canada
CATEGORIES:Fellowship
ATTACH;FMTTYPE=image/jpeg:https://emmanuelunited.com/wp-content/uploads/2024/02/hot-latte-coffee-with-hearts-Ian-L-CC0-e1746637718193.jpg
END:VEVENT
BEGIN:VEVENT
DTSTART;TZID=America/Toronto:20250302T120000
DTEND;TZID=America/Toronto:20250302T140000
DTSTAMP:20260425T123055
CREATED:20250128T190439Z
LAST-MODIFIED:20250128T190439Z
UID:10001792-1740916800-1740924000@emmanuelunited.com
SUMMARY:Pancake Lunch
DESCRIPTION:March 2nd – 12:00pm \nJoin us for our annual Pancake Lunch following service on March 2nd 2025 \nTickets will be:\nAdult – $10.00\nChild – $5.00
URL:https://emmanuelunited.com/event/pancake-lunch-2-2/
LOCATION:Emmanuel UC\, 420 Balmoral Drive\, Brampton\, Ontario\, Canada
CATEGORIES:Fellowship
ATTACH;FMTTYPE=image/jpeg:https://emmanuelunited.com/wp-content/uploads/2024/08/heart-shaped-pancake-Maria-Alvedro-CC0.jpg
END:VEVENT
BEGIN:VEVENT
DTSTART;TZID=America/Toronto:20250302T120000
DTEND;TZID=America/Toronto:20250302T140000
DTSTAMP:20260425T123055
CREATED:20250128T190439Z
LAST-MODIFIED:20250128T190439Z
UID:10001330-1740916800-1740924000@emmanuelunited.com
SUMMARY:Pancake Lunch
DESCRIPTION:March 2nd – 12:00pm \nJoin us for our annual Pancake Lunch following service on March 2nd 2025 \nTickets will be:\nAdult – $10.00\nChild – $5.00
URL:https://emmanuelunited.com/event/pancake-lunch-2/
LOCATION:Emmanuel UC\, 420 Balmoral Drive\, Brampton\, Ontario\, Canada
CATEGORIES:Fellowship
ATTACH;FMTTYPE=image/jpeg:https://emmanuelunited.com/wp-content/uploads/2024/08/heart-shaped-pancake-Maria-Alvedro-CC0.jpg
END:VEVENT
BEGIN:VEVENT
DTSTART;TZID=America/Toronto:20250325T103000
DTEND;TZID=America/Toronto:20250325T120000
DTSTAMP:20260425T123055
CREATED:20241002T181645Z
LAST-MODIFIED:20250507T170851Z
UID:10001268-1742898600-1742904000@emmanuelunited.com
SUMMARY:Mid-Week Sip-N-Talk
DESCRIPTION:Mid-Week Sip-N-Talk \nJoin us for Mid-Week Sip-n-Talk for some monthly social time! Everyone’s invited\, bring a friend or neighbors. \nAlways held on the last Tuesday of each month at 10:30 AM.\nPlease join us for an enjoyable time of fellowship and light refreshment.
URL:https://emmanuelunited.com/event/mid-week-sip-n-talk-3/2025-03-25/
LOCATION:Emmanuel UC\, 420 Balmoral Drive\, Brampton\, Ontario\, Canada
CATEGORIES:Fellowship
ATTACH;FMTTYPE=image/jpeg:https://emmanuelunited.com/wp-content/uploads/2024/02/hot-latte-coffee-with-hearts-Ian-L-CC0-e1746637718193.jpg
END:VEVENT
BEGIN:VEVENT
DTSTART;TZID=America/Toronto:20250429T103000
DTEND;TZID=America/Toronto:20250429T120000
DTSTAMP:20260425T123055
CREATED:20241002T181645Z
LAST-MODIFIED:20250507T170851Z
UID:10001269-1745922600-1745928000@emmanuelunited.com
SUMMARY:Mid-Week Sip-N-Talk
DESCRIPTION:Mid-Week Sip-N-Talk \nJoin us for Mid-Week Sip-n-Talk for some monthly social time! Everyone’s invited\, bring a friend or neighbors. \nAlways held on the last Tuesday of each month at 10:30 AM.\nPlease join us for an enjoyable time of fellowship and light refreshment.
URL:https://emmanuelunited.com/event/mid-week-sip-n-talk-3/2025-04-29/
LOCATION:Emmanuel UC\, 420 Balmoral Drive\, Brampton\, Ontario\, Canada
CATEGORIES:Fellowship
ATTACH;FMTTYPE=image/jpeg:https://emmanuelunited.com/wp-content/uploads/2024/02/hot-latte-coffee-with-hearts-Ian-L-CC0-e1746637718193.jpg
END:VEVENT
BEGIN:VEVENT
DTSTART;TZID=America/Toronto:20250511T120000
DTEND;TZID=America/Toronto:20250511T130000
DTSTAMP:20260425T123055
CREATED:20250506T193013Z
LAST-MODIFIED:20260311T183953Z
UID:10002059-1746964800-1746968400@emmanuelunited.com
SUMMARY:Sip-n-Talk
DESCRIPTION:Join us for coffee and fellowship after worship each week. Meet new friends\, catch up with old\, and enjoy some snacks.
URL:https://emmanuelunited.com/event/sip-n-talk/2025-05-11/
LOCATION:Emmanuel UC\, 420 Balmoral Drive\, Brampton\, Ontario\, Canada
CATEGORIES:Fellowship
ATTACH;FMTTYPE=image/jpeg:https://emmanuelunited.com/wp-content/uploads/2025/05/coffee-cup-and-beans-George-Hodan-CC0-e1746638839684.jpg
END:VEVENT
BEGIN:VEVENT
DTSTART;TZID=America/Toronto:20250518T120000
DTEND;TZID=America/Toronto:20250518T130000
DTSTAMP:20260425T123055
CREATED:20250506T193013Z
LAST-MODIFIED:20260311T183953Z
UID:10002060-1747569600-1747573200@emmanuelunited.com
SUMMARY:Sip-n-Talk
DESCRIPTION:Join us for coffee and fellowship after worship each week. Meet new friends\, catch up with old\, and enjoy some snacks.
URL:https://emmanuelunited.com/event/sip-n-talk/2025-05-18/
LOCATION:Emmanuel UC\, 420 Balmoral Drive\, Brampton\, Ontario\, Canada
CATEGORIES:Fellowship
ATTACH;FMTTYPE=image/jpeg:https://emmanuelunited.com/wp-content/uploads/2025/05/coffee-cup-and-beans-George-Hodan-CC0-e1746638839684.jpg
END:VEVENT
BEGIN:VEVENT
DTSTART;TZID=America/Toronto:20250525T120000
DTEND;TZID=America/Toronto:20250525T130000
DTSTAMP:20260425T123055
CREATED:20250506T193013Z
LAST-MODIFIED:20260311T183953Z
UID:10002061-1748174400-1748178000@emmanuelunited.com
SUMMARY:Sip-n-Talk
DESCRIPTION:Join us for coffee and fellowship after worship each week. Meet new friends\, catch up with old\, and enjoy some snacks.
URL:https://emmanuelunited.com/event/sip-n-talk/2025-05-25/
LOCATION:Emmanuel UC\, 420 Balmoral Drive\, Brampton\, Ontario\, Canada
CATEGORIES:Fellowship
ATTACH;FMTTYPE=image/jpeg:https://emmanuelunited.com/wp-content/uploads/2025/05/coffee-cup-and-beans-George-Hodan-CC0-e1746638839684.jpg
END:VEVENT
BEGIN:VEVENT
DTSTART;TZID=America/Toronto:20250527T103000
DTEND;TZID=America/Toronto:20250527T120000
DTSTAMP:20260425T123055
CREATED:20241002T181645Z
LAST-MODIFIED:20250507T170851Z
UID:10001270-1748341800-1748347200@emmanuelunited.com
SUMMARY:Mid-Week Sip-N-Talk
DESCRIPTION:Mid-Week Sip-N-Talk \nJoin us for Mid-Week Sip-n-Talk for some monthly social time! Everyone’s invited\, bring a friend or neighbors. \nAlways held on the last Tuesday of each month at 10:30 AM.\nPlease join us for an enjoyable time of fellowship and light refreshment.
URL:https://emmanuelunited.com/event/mid-week-sip-n-talk-3/2025-05-27/
LOCATION:Emmanuel UC\, 420 Balmoral Drive\, Brampton\, Ontario\, Canada
CATEGORIES:Fellowship
ATTACH;FMTTYPE=image/jpeg:https://emmanuelunited.com/wp-content/uploads/2024/02/hot-latte-coffee-with-hearts-Ian-L-CC0-e1746637718193.jpg
END:VEVENT
BEGIN:VEVENT
DTSTART;TZID=America/Toronto:20250531T140000
DTEND;TZID=America/Toronto:20250531T170000
DTSTAMP:20260425T123055
CREATED:20250507T170644Z
LAST-MODIFIED:20250529T134928Z
UID:10002356-1748700000-1748710800@emmanuelunited.com
SUMMARY:PCS Singers Present: Time and Again... Moment in Songs
DESCRIPTION:Join the PCS Singers for their production: Time and Again… Moments in Song.\nA musical production for all ages!\n\nTickets priced at:Adults – $35.00Children – $15.00\n\nContact office to pre-order tickets at Office@emmanuelunited.com\n\nMay 31st – 2:00pmEmmanuel United Church420 Balmoral Dr.Brampton\, ON
URL:https://emmanuelunited.com/event/pcs-singers-present-time-and-again-moment-in-songs/
LOCATION:Emmanuel UC\, 420 Balmoral Drive\, Brampton\, Ontario\, Canada
CATEGORIES:Fellowship,Worship
ATTACH;FMTTYPE=image/jpeg:https://emmanuelunited.com/wp-content/uploads/2025/05/PCS-Spring-2025-poster-1920x1080-1-e1746637648111.jpg
END:VEVENT
END:VCALENDAR