BEGIN:VCALENDAR
VERSION:2.0
PRODID:-//Emmanuel United Church, Brampton - ECPv6.15.20//NONSGML v1.0//EN
CALSCALE:GREGORIAN
METHOD:PUBLISH
X-WR-CALNAME:Emmanuel United Church, Brampton
X-ORIGINAL-URL:https://emmanuelunited.com
X-WR-CALDESC:Events for Emmanuel United Church, Brampton
REFRESH-INTERVAL;VALUE=DURATION:PT1H
X-Robots-Tag:noindex
X-PUBLISHED-TTL:PT1H
BEGIN:VTIMEZONE
TZID:America/Toronto
BEGIN:DAYLIGHT
TZOFFSETFROM:-0500
TZOFFSETTO:-0400
TZNAME:EDT
DTSTART:20250309T070000
END:DAYLIGHT
BEGIN:STANDARD
TZOFFSETFROM:-0400
TZOFFSETTO:-0500
TZNAME:EST
DTSTART:20251102T060000
END:STANDARD
BEGIN:DAYLIGHT
TZOFFSETFROM:-0500
TZOFFSETTO:-0400
TZNAME:EDT
DTSTART:20260308T070000
END:DAYLIGHT
BEGIN:STANDARD
TZOFFSETFROM:-0400
TZOFFSETTO:-0500
TZNAME:EST
DTSTART:20261101T060000
END:STANDARD
BEGIN:DAYLIGHT
TZOFFSETFROM:-0500
TZOFFSETTO:-0400
TZNAME:EDT
DTSTART:20270314T070000
END:DAYLIGHT
BEGIN:STANDARD
TZOFFSETFROM:-0400
TZOFFSETTO:-0500
TZNAME:EST
DTSTART:20271107T060000
END:STANDARD
END:VTIMEZONE
BEGIN:VEVENT
DTSTART;TZID=America/Toronto:20260425T113000
DTEND;TZID=America/Toronto:20260425T153000
DTSTAMP:20260423T201117
CREATED:20260304T151514Z
LAST-MODIFIED:20260320T163442Z
UID:10002448-1777116600-1777131000@emmanuelunited.com
SUMMARY:Bridge and Euchre Luncheon
DESCRIPTION:The Bridge/Euchre party returns this year\, brought to you by the UCW!\nAll are invited\, reserve a table while you can! \nPrice will be $20.00 per ticket as this is a fundraising event. \nFor more information or to purchase see Linda Harris or inquire at Office@emmanuelunited.com
URL:https://emmanuelunited.com/event/bridge-and-euchre-luncheon/
LOCATION:Emmanuel UC\, 420 Balmoral Drive\, Brampton\, Ontario\, Canada
CATEGORIES:Community,Fellowship
ATTACH;FMTTYPE=image/jpeg:https://emmanuelunited.com/wp-content/uploads/2026/03/cartas-no-fundo-branco-CC0.jpg
END:VEVENT
BEGIN:VEVENT
DTSTART;TZID=America/Toronto:20260426T120000
DTEND;TZID=America/Toronto:20260426T130000
DTSTAMP:20260423T201117
CREATED:20260402T191917Z
LAST-MODIFIED:20260402T191917Z
UID:10002109-1777204800-1777208400@emmanuelunited.com
SUMMARY:Sip-n-Talk
DESCRIPTION:Join us for coffee and fellowship after worship each week. Meet new friends\, catch up with old\, and enjoy some snacks.
URL:https://emmanuelunited.com/event/sip-n-talk-2/2026-04-26/
LOCATION:Emmanuel UC\, 420 Balmoral Drive\, Brampton\, Ontario\, Canada
CATEGORIES:Fellowship
ATTACH;FMTTYPE=image/jpeg:https://emmanuelunited.com/wp-content/uploads/2025/05/coffee-cup-and-beans-George-Hodan-CC0-e1746638839684.jpg
END:VEVENT
BEGIN:VEVENT
DTSTART;TZID=America/Toronto:20260428T103000
DTEND;TZID=America/Toronto:20260428T120000
DTSTAMP:20260423T201117
CREATED:20241002T181645Z
LAST-MODIFIED:20250507T170851Z
UID:10001281-1777372200-1777377600@emmanuelunited.com
SUMMARY:Mid-Week Sip-N-Talk
DESCRIPTION:Mid-Week Sip-N-Talk \nJoin us for Mid-Week Sip-n-Talk for some monthly social time! Everyone’s invited\, bring a friend or neighbors. \nAlways held on the last Tuesday of each month at 10:30 AM.\nPlease join us for an enjoyable time of fellowship and light refreshment.
URL:https://emmanuelunited.com/event/mid-week-sip-n-talk-3/2026-04-28/
LOCATION:Emmanuel UC\, 420 Balmoral Drive\, Brampton\, Ontario\, Canada
CATEGORIES:Fellowship
ATTACH;FMTTYPE=image/jpeg:https://emmanuelunited.com/wp-content/uploads/2024/02/hot-latte-coffee-with-hearts-Ian-L-CC0-e1746637718193.jpg
END:VEVENT
BEGIN:VEVENT
DTSTART;TZID=America/Toronto:20260428T130000
DTEND;TZID=America/Toronto:20260428T150000
DTSTAMP:20260423T201117
CREATED:20260311T194353Z
LAST-MODIFIED:20260311T194353Z
UID:10002623-1777381200-1777388400@emmanuelunited.com
SUMMARY:Sunshine UCW
DESCRIPTION:
URL:https://emmanuelunited.com/event/sunshine-ucw/2026-04-28/
LOCATION:Emmanuel UC\, 420 Balmoral Drive\, Brampton\, Ontario\, Canada
CATEGORIES:Fellowship,Service
END:VEVENT
BEGIN:VEVENT
DTSTART;TZID=America/Toronto:20260503T120000
DTEND;TZID=America/Toronto:20260503T130000
DTSTAMP:20260423T201117
CREATED:20260402T191917Z
LAST-MODIFIED:20260402T191917Z
UID:10002110-1777809600-1777813200@emmanuelunited.com
SUMMARY:Sip-n-Talk
DESCRIPTION:Join us for coffee and fellowship after worship each week. Meet new friends\, catch up with old\, and enjoy some snacks.
URL:https://emmanuelunited.com/event/sip-n-talk-2/2026-05-03/
LOCATION:Emmanuel UC\, 420 Balmoral Drive\, Brampton\, Ontario\, Canada
CATEGORIES:Fellowship
ATTACH;FMTTYPE=image/jpeg:https://emmanuelunited.com/wp-content/uploads/2025/05/coffee-cup-and-beans-George-Hodan-CC0-e1746638839684.jpg
END:VEVENT
BEGIN:VEVENT
DTSTART;TZID=America/Toronto:20260509T090000
DTEND;TZID=America/Toronto:20260509T110000
DTSTAMP:20260423T201117
CREATED:20260310T133113Z
LAST-MODIFIED:20260310T133147Z
UID:10002561-1778317200-1778324400@emmanuelunited.com
SUMMARY:Men's Club
DESCRIPTION:
URL:https://emmanuelunited.com/event/mens-club/2026-05-09/
LOCATION:Emmanuel UC\, 420 Balmoral Drive\, Brampton\, Ontario\, Canada
CATEGORIES:Community,Fellowship
END:VEVENT
BEGIN:VEVENT
DTSTART;TZID=America/Toronto:20260510T120000
DTEND;TZID=America/Toronto:20260510T130000
DTSTAMP:20260423T201117
CREATED:20260402T191917Z
LAST-MODIFIED:20260402T191917Z
UID:10002111-1778414400-1778418000@emmanuelunited.com
SUMMARY:Sip-n-Talk
DESCRIPTION:Join us for coffee and fellowship after worship each week. Meet new friends\, catch up with old\, and enjoy some snacks.
URL:https://emmanuelunited.com/event/sip-n-talk-2/2026-05-10/
LOCATION:Emmanuel UC\, 420 Balmoral Drive\, Brampton\, Ontario\, Canada
CATEGORIES:Fellowship
ATTACH;FMTTYPE=image/jpeg:https://emmanuelunited.com/wp-content/uploads/2025/05/coffee-cup-and-beans-George-Hodan-CC0-e1746638839684.jpg
END:VEVENT
BEGIN:VEVENT
DTSTART;TZID=America/Toronto:20260513T190000
DTEND;TZID=America/Toronto:20260513T210000
DTSTAMP:20260423T201117
CREATED:20260304T152657Z
LAST-MODIFIED:20260311T145640Z
UID:10002451-1778698800-1778706000@emmanuelunited.com
SUMMARY:WOW UCW Meeting
DESCRIPTION:
URL:https://emmanuelunited.com/event/wow-ucw-meeting/2026-05-13/
LOCATION:Emmanuel UC\, 420 Balmoral Drive\, Brampton\, Ontario\, Canada
CATEGORIES:Fellowship
END:VEVENT
BEGIN:VEVENT
DTSTART;TZID=America/Toronto:20260516T083000
DTEND;TZID=America/Toronto:20260516T163000
DTSTAMP:20260423T201117
CREATED:20260311T143530Z
LAST-MODIFIED:20260311T194620Z
UID:10002659-1778920200-1778949000@emmanuelunited.com
SUMMARY:Scrapbooking
DESCRIPTION:
URL:https://emmanuelunited.com/event/scrapbooking/2026-05-16/
LOCATION:Emmanuel UC\, 420 Balmoral Drive\, Brampton\, Ontario\, Canada
CATEGORIES:Community,Fellowship
END:VEVENT
BEGIN:VEVENT
DTSTART;TZID=America/Toronto:20260517T120000
DTEND;TZID=America/Toronto:20260517T133000
DTSTAMP:20260423T201117
CREATED:20250910T151150Z
LAST-MODIFIED:20260402T192031Z
UID:10002393-1779019200-1779024600@emmanuelunited.com
SUMMARY:Soup-N-Sip
DESCRIPTION:We are introducing Soup-N-Sip\, a monthly social event to meet for hot soup and warm conversation.  \nWe will meet once a month. Everyone is invited\, bring any friends interested! \nWe hope to make this a social – success\, please invite anyone interested!
URL:https://emmanuelunited.com/event/soup-n-sip/2026-05-17/
LOCATION:Emmanuel UC\, 420 Balmoral Drive\, Brampton\, Ontario\, Canada
CATEGORIES:Community,Fellowship
ATTACH;FMTTYPE=image/jpeg:https://emmanuelunited.com/wp-content/uploads/2025/09/image-1621072803o8c-1-e1757517195618.jpg
END:VEVENT
BEGIN:VEVENT
DTSTART;TZID=America/Toronto:20260519T103000
DTEND;TZID=America/Toronto:20260519T103000
DTSTAMP:20260423T201117
CREATED:20260311T194449Z
LAST-MODIFIED:20260311T194449Z
UID:10002644-1779186600-1779186600@emmanuelunited.com
SUMMARY:Happy Hearts UCW
DESCRIPTION:
URL:https://emmanuelunited.com/event/happy-hearts-ucw/2026-05-19/
LOCATION:Emmanuel UC\, 420 Balmoral Drive\, Brampton\, Ontario\, Canada
CATEGORIES:Fellowship,Service
END:VEVENT
BEGIN:VEVENT
DTSTART;TZID=America/Toronto:20260523T090000
DTEND;TZID=America/Toronto:20260523T130000
DTSTAMP:20260423T201117
CREATED:20260311T193840Z
LAST-MODIFIED:20260311T193840Z
UID:10002775-1779526800-1779541200@emmanuelunited.com
SUMMARY:Trunk and Plant Sale
DESCRIPTION:
URL:https://emmanuelunited.com/event/trunk-and-plant-sale/
LOCATION:Emmanuel UC\, 420 Balmoral Drive\, Brampton\, Ontario\, Canada
CATEGORIES:Community,Fellowship
END:VEVENT
BEGIN:VEVENT
DTSTART;TZID=America/Toronto:20260524T120000
DTEND;TZID=America/Toronto:20260524T130000
DTSTAMP:20260423T201117
CREATED:20260402T191917Z
LAST-MODIFIED:20260402T191917Z
UID:10002113-1779624000-1779627600@emmanuelunited.com
SUMMARY:Sip-n-Talk
DESCRIPTION:Join us for coffee and fellowship after worship each week. Meet new friends\, catch up with old\, and enjoy some snacks.
URL:https://emmanuelunited.com/event/sip-n-talk-2/2026-05-24/
LOCATION:Emmanuel UC\, 420 Balmoral Drive\, Brampton\, Ontario\, Canada
CATEGORIES:Fellowship
ATTACH;FMTTYPE=image/jpeg:https://emmanuelunited.com/wp-content/uploads/2025/05/coffee-cup-and-beans-George-Hodan-CC0-e1746638839684.jpg
END:VEVENT
BEGIN:VEVENT
DTSTART;TZID=America/Toronto:20260526T103000
DTEND;TZID=America/Toronto:20260526T120000
DTSTAMP:20260423T201117
CREATED:20241002T181645Z
LAST-MODIFIED:20250507T170851Z
UID:10001282-1779791400-1779796800@emmanuelunited.com
SUMMARY:Mid-Week Sip-N-Talk
DESCRIPTION:Mid-Week Sip-N-Talk \nJoin us for Mid-Week Sip-n-Talk for some monthly social time! Everyone’s invited\, bring a friend or neighbors. \nAlways held on the last Tuesday of each month at 10:30 AM.\nPlease join us for an enjoyable time of fellowship and light refreshment.
URL:https://emmanuelunited.com/event/mid-week-sip-n-talk-3/2026-05-26/
LOCATION:Emmanuel UC\, 420 Balmoral Drive\, Brampton\, Ontario\, Canada
CATEGORIES:Fellowship
ATTACH;FMTTYPE=image/jpeg:https://emmanuelunited.com/wp-content/uploads/2024/02/hot-latte-coffee-with-hearts-Ian-L-CC0-e1746637718193.jpg
END:VEVENT
BEGIN:VEVENT
DTSTART;TZID=America/Toronto:20260526T130000
DTEND;TZID=America/Toronto:20260526T150000
DTSTAMP:20260423T201117
CREATED:20260311T194353Z
LAST-MODIFIED:20260311T194353Z
UID:10002624-1779800400-1779807600@emmanuelunited.com
SUMMARY:Sunshine UCW
DESCRIPTION:
URL:https://emmanuelunited.com/event/sunshine-ucw/2026-05-26/
LOCATION:Emmanuel UC\, 420 Balmoral Drive\, Brampton\, Ontario\, Canada
CATEGORIES:Fellowship,Service
END:VEVENT
BEGIN:VEVENT
DTSTART;TZID=America/Toronto:20260531T120000
DTEND;TZID=America/Toronto:20260531T130000
DTSTAMP:20260423T201117
CREATED:20260402T191917Z
LAST-MODIFIED:20260402T191917Z
UID:10002114-1780228800-1780232400@emmanuelunited.com
SUMMARY:Sip-n-Talk
DESCRIPTION:Join us for coffee and fellowship after worship each week. Meet new friends\, catch up with old\, and enjoy some snacks.
URL:https://emmanuelunited.com/event/sip-n-talk-2/2026-05-31/
LOCATION:Emmanuel UC\, 420 Balmoral Drive\, Brampton\, Ontario\, Canada
CATEGORIES:Fellowship
ATTACH;FMTTYPE=image/jpeg:https://emmanuelunited.com/wp-content/uploads/2025/05/coffee-cup-and-beans-George-Hodan-CC0-e1746638839684.jpg
END:VEVENT
BEGIN:VEVENT
DTSTART;TZID=America/Toronto:20260607T120000
DTEND;TZID=America/Toronto:20260607T130000
DTSTAMP:20260423T201117
CREATED:20260402T191917Z
LAST-MODIFIED:20260402T191917Z
UID:10002115-1780833600-1780837200@emmanuelunited.com
SUMMARY:Sip-n-Talk
DESCRIPTION:Join us for coffee and fellowship after worship each week. Meet new friends\, catch up with old\, and enjoy some snacks.
URL:https://emmanuelunited.com/event/sip-n-talk-2/2026-06-07/
LOCATION:Emmanuel UC\, 420 Balmoral Drive\, Brampton\, Ontario\, Canada
CATEGORIES:Fellowship
ATTACH;FMTTYPE=image/jpeg:https://emmanuelunited.com/wp-content/uploads/2025/05/coffee-cup-and-beans-George-Hodan-CC0-e1746638839684.jpg
END:VEVENT
BEGIN:VEVENT
DTSTART;TZID=America/Toronto:20260610T190000
DTEND;TZID=America/Toronto:20260610T210000
DTSTAMP:20260423T201117
CREATED:20260304T152657Z
LAST-MODIFIED:20260311T145640Z
UID:10002452-1781118000-1781125200@emmanuelunited.com
SUMMARY:WOW UCW Meeting
DESCRIPTION:
URL:https://emmanuelunited.com/event/wow-ucw-meeting/2026-06-10/
LOCATION:Emmanuel UC\, 420 Balmoral Drive\, Brampton\, Ontario\, Canada
CATEGORIES:Fellowship
END:VEVENT
BEGIN:VEVENT
DTSTART;TZID=America/Toronto:20260613T090000
DTEND;TZID=America/Toronto:20260613T110000
DTSTAMP:20260423T201117
CREATED:20260310T133113Z
LAST-MODIFIED:20260310T133147Z
UID:10002562-1781341200-1781348400@emmanuelunited.com
SUMMARY:Men's Club
DESCRIPTION:
URL:https://emmanuelunited.com/event/mens-club/2026-06-13/
LOCATION:Emmanuel UC\, 420 Balmoral Drive\, Brampton\, Ontario\, Canada
CATEGORIES:Community,Fellowship
END:VEVENT
BEGIN:VEVENT
DTSTART;TZID=America/Toronto:20260613T113000
DTEND;TZID=America/Toronto:20260613T143000
DTSTAMP:20260423T201117
CREATED:20260311T193630Z
LAST-MODIFIED:20260311T193630Z
UID:10002777-1781350200-1781361000@emmanuelunited.com
SUMMARY:UCW Women's Day
DESCRIPTION:
URL:https://emmanuelunited.com/event/ucw-womens-day/
LOCATION:Emmanuel UC\, 420 Balmoral Drive\, Brampton\, Ontario\, Canada
CATEGORIES:Community,Fellowship
END:VEVENT
BEGIN:VEVENT
DTSTART;TZID=America/Toronto:20260614T120000
DTEND;TZID=America/Toronto:20260614T130000
DTSTAMP:20260423T201117
CREATED:20260402T191917Z
LAST-MODIFIED:20260402T191917Z
UID:10002116-1781438400-1781442000@emmanuelunited.com
SUMMARY:Sip-n-Talk
DESCRIPTION:Join us for coffee and fellowship after worship each week. Meet new friends\, catch up with old\, and enjoy some snacks.
URL:https://emmanuelunited.com/event/sip-n-talk-2/2026-06-14/
LOCATION:Emmanuel UC\, 420 Balmoral Drive\, Brampton\, Ontario\, Canada
CATEGORIES:Fellowship
ATTACH;FMTTYPE=image/jpeg:https://emmanuelunited.com/wp-content/uploads/2025/05/coffee-cup-and-beans-George-Hodan-CC0-e1746638839684.jpg
END:VEVENT
BEGIN:VEVENT
DTSTART;TZID=America/Toronto:20260616T103000
DTEND;TZID=America/Toronto:20260616T103000
DTSTAMP:20260423T201117
CREATED:20260311T194449Z
LAST-MODIFIED:20260311T194449Z
UID:10002645-1781605800-1781605800@emmanuelunited.com
SUMMARY:Happy Hearts UCW
DESCRIPTION:
URL:https://emmanuelunited.com/event/happy-hearts-ucw/2026-06-16/
LOCATION:Emmanuel UC\, 420 Balmoral Drive\, Brampton\, Ontario\, Canada
CATEGORIES:Fellowship,Service
END:VEVENT
BEGIN:VEVENT
DTSTART;TZID=America/Toronto:20260620T083000
DTEND;TZID=America/Toronto:20260620T163000
DTSTAMP:20260423T201117
CREATED:20260311T143530Z
LAST-MODIFIED:20260311T194620Z
UID:10002660-1781944200-1781973000@emmanuelunited.com
SUMMARY:Scrapbooking
DESCRIPTION:
URL:https://emmanuelunited.com/event/scrapbooking/2026-06-20/
LOCATION:Emmanuel UC\, 420 Balmoral Drive\, Brampton\, Ontario\, Canada
CATEGORIES:Community,Fellowship
END:VEVENT
BEGIN:VEVENT
DTSTART;TZID=America/Toronto:20260621T120000
DTEND;TZID=America/Toronto:20260621T133000
DTSTAMP:20260423T201117
CREATED:20250910T151150Z
LAST-MODIFIED:20260402T192031Z
UID:10002394-1782043200-1782048600@emmanuelunited.com
SUMMARY:Soup-N-Sip
DESCRIPTION:We are introducing Soup-N-Sip\, a monthly social event to meet for hot soup and warm conversation.  \nWe will meet once a month. Everyone is invited\, bring any friends interested! \nWe hope to make this a social – success\, please invite anyone interested!
URL:https://emmanuelunited.com/event/soup-n-sip/2026-06-21/
LOCATION:Emmanuel UC\, 420 Balmoral Drive\, Brampton\, Ontario\, Canada
CATEGORIES:Community,Fellowship
ATTACH;FMTTYPE=image/jpeg:https://emmanuelunited.com/wp-content/uploads/2025/09/image-1621072803o8c-1-e1757517195618.jpg
END:VEVENT
BEGIN:VEVENT
DTSTART;TZID=America/Toronto:20260623T130000
DTEND;TZID=America/Toronto:20260623T150000
DTSTAMP:20260423T201117
CREATED:20260311T194353Z
LAST-MODIFIED:20260311T194353Z
UID:10002625-1782219600-1782226800@emmanuelunited.com
SUMMARY:Sunshine UCW
DESCRIPTION:
URL:https://emmanuelunited.com/event/sunshine-ucw/2026-06-23/
LOCATION:Emmanuel UC\, 420 Balmoral Drive\, Brampton\, Ontario\, Canada
CATEGORIES:Fellowship,Service
END:VEVENT
BEGIN:VEVENT
DTSTART;TZID=America/Toronto:20260628T120000
DTEND;TZID=America/Toronto:20260628T130000
DTSTAMP:20260423T201117
CREATED:20260402T191917Z
LAST-MODIFIED:20260402T191917Z
UID:10002118-1782648000-1782651600@emmanuelunited.com
SUMMARY:Sip-n-Talk
DESCRIPTION:Join us for coffee and fellowship after worship each week. Meet new friends\, catch up with old\, and enjoy some snacks.
URL:https://emmanuelunited.com/event/sip-n-talk-2/2026-06-28/
LOCATION:Emmanuel UC\, 420 Balmoral Drive\, Brampton\, Ontario\, Canada
CATEGORIES:Fellowship
ATTACH;FMTTYPE=image/jpeg:https://emmanuelunited.com/wp-content/uploads/2025/05/coffee-cup-and-beans-George-Hodan-CC0-e1746638839684.jpg
END:VEVENT
BEGIN:VEVENT
DTSTART;TZID=America/Toronto:20260630T103000
DTEND;TZID=America/Toronto:20260630T120000
DTSTAMP:20260423T201117
CREATED:20241002T181645Z
LAST-MODIFIED:20250507T170851Z
UID:10001283-1782815400-1782820800@emmanuelunited.com
SUMMARY:Mid-Week Sip-N-Talk
DESCRIPTION:Mid-Week Sip-N-Talk \nJoin us for Mid-Week Sip-n-Talk for some monthly social time! Everyone’s invited\, bring a friend or neighbors. \nAlways held on the last Tuesday of each month at 10:30 AM.\nPlease join us for an enjoyable time of fellowship and light refreshment.
URL:https://emmanuelunited.com/event/mid-week-sip-n-talk-3/2026-06-30/
LOCATION:Emmanuel UC\, 420 Balmoral Drive\, Brampton\, Ontario\, Canada
CATEGORIES:Fellowship
ATTACH;FMTTYPE=image/jpeg:https://emmanuelunited.com/wp-content/uploads/2024/02/hot-latte-coffee-with-hearts-Ian-L-CC0-e1746637718193.jpg
END:VEVENT
BEGIN:VEVENT
DTSTART;TZID=America/Toronto:20260705T120000
DTEND;TZID=America/Toronto:20260705T130000
DTSTAMP:20260423T201117
CREATED:20260402T191917Z
LAST-MODIFIED:20260402T191917Z
UID:10002119-1783252800-1783256400@emmanuelunited.com
SUMMARY:Sip-n-Talk
DESCRIPTION:Join us for coffee and fellowship after worship each week. Meet new friends\, catch up with old\, and enjoy some snacks.
URL:https://emmanuelunited.com/event/sip-n-talk-2/2026-07-05/
LOCATION:Emmanuel UC\, 420 Balmoral Drive\, Brampton\, Ontario\, Canada
CATEGORIES:Fellowship
ATTACH;FMTTYPE=image/jpeg:https://emmanuelunited.com/wp-content/uploads/2025/05/coffee-cup-and-beans-George-Hodan-CC0-e1746638839684.jpg
END:VEVENT
BEGIN:VEVENT
DTSTART;TZID=America/Toronto:20260711T090000
DTEND;TZID=America/Toronto:20260711T110000
DTSTAMP:20260423T201117
CREATED:20260310T133113Z
LAST-MODIFIED:20260310T133147Z
UID:10002563-1783760400-1783767600@emmanuelunited.com
SUMMARY:Men's Club
DESCRIPTION:
URL:https://emmanuelunited.com/event/mens-club/2026-07-11/
LOCATION:Emmanuel UC\, 420 Balmoral Drive\, Brampton\, Ontario\, Canada
CATEGORIES:Community,Fellowship
END:VEVENT
BEGIN:VEVENT
DTSTART;TZID=America/Toronto:20260712T120000
DTEND;TZID=America/Toronto:20260712T130000
DTSTAMP:20260423T201117
CREATED:20260311T193548Z
LAST-MODIFIED:20260311T193548Z
UID:10002779-1783857600-1783861200@emmanuelunited.com
SUMMARY:Ice Cream Sunday
DESCRIPTION:
URL:https://emmanuelunited.com/event/ice-cream-sunday/
LOCATION:Emmanuel UC\, 420 Balmoral Drive\, Brampton\, Ontario\, Canada
CATEGORIES:Fellowship
END:VEVENT
END:VCALENDAR