BEGIN:VCALENDAR
VERSION:2.0
PRODID:-//Emmanuel United Church, Brampton - ECPv6.15.20//NONSGML v1.0//EN
CALSCALE:GREGORIAN
METHOD:PUBLISH
X-ORIGINAL-URL:https://emmanuelunited.com
X-WR-CALDESC:Events for Emmanuel United Church, Brampton
REFRESH-INTERVAL;VALUE=DURATION:PT1H
X-Robots-Tag:noindex
X-PUBLISHED-TTL:PT1H
BEGIN:VTIMEZONE
TZID:America/Toronto
BEGIN:DAYLIGHT
TZOFFSETFROM:-0500
TZOFFSETTO:-0400
TZNAME:EDT
DTSTART:20250309T070000
END:DAYLIGHT
BEGIN:STANDARD
TZOFFSETFROM:-0400
TZOFFSETTO:-0500
TZNAME:EST
DTSTART:20251102T060000
END:STANDARD
BEGIN:DAYLIGHT
TZOFFSETFROM:-0500
TZOFFSETTO:-0400
TZNAME:EDT
DTSTART:20260308T070000
END:DAYLIGHT
BEGIN:STANDARD
TZOFFSETFROM:-0400
TZOFFSETTO:-0500
TZNAME:EST
DTSTART:20261101T060000
END:STANDARD
BEGIN:DAYLIGHT
TZOFFSETFROM:-0500
TZOFFSETTO:-0400
TZNAME:EDT
DTSTART:20270314T070000
END:DAYLIGHT
BEGIN:STANDARD
TZOFFSETFROM:-0400
TZOFFSETTO:-0500
TZNAME:EST
DTSTART:20271107T060000
END:STANDARD
END:VTIMEZONE
BEGIN:VEVENT
DTSTART;TZID=America/Toronto:20260331T103000
DTEND;TZID=America/Toronto:20260331T120000
DTSTAMP:20260423T165235
CREATED:20241002T181645Z
LAST-MODIFIED:20250507T170851Z
UID:10001280-1774953000-1774958400@emmanuelunited.com
SUMMARY:Mid-Week Sip-N-Talk
DESCRIPTION:Mid-Week Sip-N-Talk \nJoin us for Mid-Week Sip-n-Talk for some monthly social time! Everyone’s invited\, bring a friend or neighbors. \nAlways held on the last Tuesday of each month at 10:30 AM.\nPlease join us for an enjoyable time of fellowship and light refreshment.
URL:https://emmanuelunited.com/event/mid-week-sip-n-talk-3/2026-03-31/
LOCATION:Emmanuel UC\, 420 Balmoral Drive\, Brampton\, Ontario\, Canada
CATEGORIES:Fellowship
ATTACH;FMTTYPE=image/jpeg:https://emmanuelunited.com/wp-content/uploads/2024/02/hot-latte-coffee-with-hearts-Ian-L-CC0-e1746637718193.jpg
END:VEVENT
END:VCALENDAR