BEGIN:VCALENDAR
VERSION:2.0
PRODID:-//Emmanuel United Church, Brampton - ECPv6.15.20//NONSGML v1.0//EN
CALSCALE:GREGORIAN
METHOD:PUBLISH
X-ORIGINAL-URL:https://emmanuelunited.com
X-WR-CALDESC:Events for Emmanuel United Church, Brampton
REFRESH-INTERVAL;VALUE=DURATION:PT1H
X-Robots-Tag:noindex
X-PUBLISHED-TTL:PT1H
BEGIN:VTIMEZONE
TZID:America/Toronto
BEGIN:DAYLIGHT
TZOFFSETFROM:-0500
TZOFFSETTO:-0400
TZNAME:EDT
DTSTART:20230312T070000
END:DAYLIGHT
BEGIN:STANDARD
TZOFFSETFROM:-0400
TZOFFSETTO:-0500
TZNAME:EST
DTSTART:20231105T060000
END:STANDARD
BEGIN:DAYLIGHT
TZOFFSETFROM:-0500
TZOFFSETTO:-0400
TZNAME:EDT
DTSTART:20240310T070000
END:DAYLIGHT
BEGIN:STANDARD
TZOFFSETFROM:-0400
TZOFFSETTO:-0500
TZNAME:EST
DTSTART:20241103T060000
END:STANDARD
BEGIN:DAYLIGHT
TZOFFSETFROM:-0500
TZOFFSETTO:-0400
TZNAME:EDT
DTSTART:20250309T070000
END:DAYLIGHT
BEGIN:STANDARD
TZOFFSETFROM:-0400
TZOFFSETTO:-0500
TZNAME:EST
DTSTART:20251102T060000
END:STANDARD
END:VTIMEZONE
BEGIN:VEVENT
DTSTART;TZID=America/Toronto:20240526T080000
DTEND;TZID=America/Toronto:20240526T170000
DTSTAMP:20260425T085711
CREATED:20240502T151652Z
LAST-MODIFIED:20240508T144358Z
UID:10000576-1716710400-1716742800@emmanuelunited.com
SUMMARY:Hope Box Brampton
DESCRIPTION:A free faith-based grief resource given in the event of experiencing loss of pregnancy or infant loss. \nWe are raising funds for supplies for the Brampton Hope Box. Each box includes a bible\, inspirational books\, personal care items and a hand knitted blanket. \nSponsor a Hope Box\n(or donate through)\nEnvelopes\,\nEUC Website\nTin Bucket \n  \nMore information with Angela MacNeil\, or in office \n  \n 
URL:https://emmanuelunited.com/event/hope-box-brampton/2024-05-26/
LOCATION:Emmanuel UC\, 420 Balmoral Drive\, Brampton\, Ontario\, Canada
CATEGORIES:Discipleship,Fellowship
ATTACH;FMTTYPE=image/png:https://emmanuelunited.com/wp-content/uploads/2024/05/Screenshot-2024-05-02-111504.png
END:VEVENT
BEGIN:VEVENT
DTSTART;TZID=America/Toronto:20240526T080000
DTEND;TZID=America/Toronto:20240526T170000
DTSTAMP:20260425T085711
CREATED:20240502T151652Z
LAST-MODIFIED:20240502T151652Z
UID:10001403-1716710400-1716742800@emmanuelunited.com
SUMMARY:Hope Box Brampton
DESCRIPTION:A free faith-based grief resource given in the event of experiencing loss of pregnancy or infant loss. \nWe are raising funds for supplies for the Brampton Hope Box. Each box includes a bible\, inspirational books\, personal care items and a hand knitted blanket. \nSponsor a Hope Box\n(or donate through)\nEnvelopes\,\nEUC Website\nTin Bucket \n  \nMore information with Angela MacNeil\, or in office \n  \n 
URL:https://emmanuelunited.com/event/hope-box-brampton-2/2024-05-26/
LOCATION:Emmanuel UC\, 420 Balmoral Drive\, Brampton\, Ontario\, Canada
CATEGORIES:Discipleship,Fellowship
ATTACH;FMTTYPE=image/png:https://emmanuelunited.com/wp-content/uploads/2024/05/Screenshot-2024-05-02-111504.png
END:VEVENT
BEGIN:VEVENT
DTSTART;TZID=America/Toronto:20240526T120000
DTEND;TZID=America/Toronto:20240526T133000
DTSTAMP:20260425T085711
CREATED:20240508T143443Z
LAST-MODIFIED:20240508T143443Z
UID:10000502-1716724800-1716730200@emmanuelunited.com
SUMMARY:We Are Called to Be the Church...
DESCRIPTION:Faith was never meant to be practiced alone. Jesus tells us that “where two or three gather together as My followers\, I am there among them” (Matthew 18:20\, NLT). But\, there are 168 hours in a week\, and we gather as a worshipping community for only one of those. What is it to be part of the full life of the church? \nJoin us as we explore what God is calling us to be as part of Emmanuel United Church. \nWe are called to be the Church:\n    to celebrate God’s presence\,\n    to live with respect in Creation\,\n    to love and serve others\,\n    to seek justice and resist evil\,\n    to proclaim Jesus\, crucified and risen\,\n       our judge and our hope. \n(from The New Creed of the United Church of Canada) \nPhoto by Dylan Gillis on Unsplash.
URL:https://emmanuelunited.com/event/we-are-called-to-be-the-church/
LOCATION:Emmanuel UC\, 420 Balmoral Drive\, Brampton\, Ontario\, Canada
CATEGORIES:Discipleship,Fellowship
ATTACH;FMTTYPE=image/jpeg:https://emmanuelunited.com/wp-content/uploads/2024/05/dylan-gillis-KdeqA3aTnBY-unsplash-2.jpg
END:VEVENT
BEGIN:VEVENT
DTSTART;TZID=America/Toronto:20240526T120000
DTEND;TZID=America/Toronto:20240526T133000
DTSTAMP:20260425T085711
CREATED:20240508T143443Z
LAST-MODIFIED:20240508T143443Z
UID:10001390-1716724800-1716730200@emmanuelunited.com
SUMMARY:We Are Called to Be the Church...
DESCRIPTION:Faith was never meant to be practiced alone. Jesus tells us that “where two or three gather together as My followers\, I am there among them” (Matthew 18:20\, NLT). But\, there are 168 hours in a week\, and we gather as a worshipping community for only one of those. What is it to be part of the full life of the church? \nJoin us as we explore what God is calling us to be as part of Emmanuel United Church. \nWe are called to be the Church:\n    to celebrate God’s presence\,\n    to live with respect in Creation\,\n    to love and serve others\,\n    to seek justice and resist evil\,\n    to proclaim Jesus\, crucified and risen\,\n       our judge and our hope. \n(from The New Creed of the United Church of Canada) \nPhoto by Dylan Gillis on Unsplash.
URL:https://emmanuelunited.com/event/we-are-called-to-be-the-church-2/
LOCATION:Emmanuel UC\, 420 Balmoral Drive\, Brampton\, Ontario\, Canada
CATEGORIES:Discipleship,Fellowship
ATTACH;FMTTYPE=image/jpeg:https://emmanuelunited.com/wp-content/uploads/2024/05/dylan-gillis-KdeqA3aTnBY-unsplash-2.jpg
END:VEVENT
END:VCALENDAR