BEGIN:VCALENDAR
VERSION:2.0
PRODID:-//Emmanuel United Church, Brampton - ECPv6.15.20//NONSGML v1.0//EN
CALSCALE:GREGORIAN
METHOD:PUBLISH
X-ORIGINAL-URL:https://emmanuelunited.com
X-WR-CALDESC:Events for Emmanuel United Church, Brampton
REFRESH-INTERVAL;VALUE=DURATION:PT1H
X-Robots-Tag:noindex
X-PUBLISHED-TTL:PT1H
BEGIN:VTIMEZONE
TZID:America/Toronto
BEGIN:DAYLIGHT
TZOFFSETFROM:-0500
TZOFFSETTO:-0400
TZNAME:EDT
DTSTART:20230312T070000
END:DAYLIGHT
BEGIN:STANDARD
TZOFFSETFROM:-0400
TZOFFSETTO:-0500
TZNAME:EST
DTSTART:20231105T060000
END:STANDARD
BEGIN:DAYLIGHT
TZOFFSETFROM:-0500
TZOFFSETTO:-0400
TZNAME:EDT
DTSTART:20240310T070000
END:DAYLIGHT
BEGIN:STANDARD
TZOFFSETFROM:-0400
TZOFFSETTO:-0500
TZNAME:EST
DTSTART:20241103T060000
END:STANDARD
BEGIN:DAYLIGHT
TZOFFSETFROM:-0500
TZOFFSETTO:-0400
TZNAME:EDT
DTSTART:20250309T070000
END:DAYLIGHT
BEGIN:STANDARD
TZOFFSETFROM:-0400
TZOFFSETTO:-0500
TZNAME:EST
DTSTART:20251102T060000
END:STANDARD
END:VTIMEZONE
BEGIN:VEVENT
DTSTART;TZID=America/Toronto:20240225T120000
DTEND;TZID=America/Toronto:20240225T140000
DTSTAMP:20260425T140947
CREATED:20240130T180835Z
LAST-MODIFIED:20240130T180835Z
UID:10000425-1708862400-1708869600@emmanuelunited.com
SUMMARY:Pancake Luncheon
DESCRIPTION:Come join us for this wonderful social event complete with tasty treats and great company! \nGuests are welcomed\, and encouraged! \nTickets are available immediately please see Nancy Huntley\, or inquire in office. \nTickets prices are as follows:\nAdults: $10.00\nChildren: $5.00 \n  \n 
URL:https://emmanuelunited.com/event/pancake-luncheon/
LOCATION:Emmanuel UC\, 420 Balmoral Drive\, Brampton\, Ontario\, Canada
CATEGORIES:Fellowship
ATTACH;FMTTYPE=image/jpeg:https://emmanuelunited.com/wp-content/uploads/2024/01/pancakes-Ekaterina-Sysoeva-CC0.jpg
END:VEVENT
BEGIN:VEVENT
DTSTART;TZID=America/Toronto:20240225T120000
DTEND;TZID=America/Toronto:20240225T140000
DTSTAMP:20260425T140947
CREATED:20240130T180835Z
LAST-MODIFIED:20240130T180835Z
UID:10001360-1708862400-1708869600@emmanuelunited.com
SUMMARY:Pancake Luncheon
DESCRIPTION:Come join us for this wonderful social event complete with tasty treats and great company! \nGuests are welcomed\, and encouraged! \nTickets are available immediately please see Nancy Huntley\, or inquire in office. \nTickets prices are as follows:\nAdults: $10.00\nChildren: $5.00 \n  \n 
URL:https://emmanuelunited.com/event/pancake-luncheon-2/
LOCATION:Emmanuel UC\, 420 Balmoral Drive\, Brampton\, Ontario\, Canada
CATEGORIES:Fellowship
ATTACH;FMTTYPE=image/jpeg:https://emmanuelunited.com/wp-content/uploads/2024/01/pancakes-Ekaterina-Sysoeva-CC0.jpg
END:VEVENT
END:VCALENDAR