BEGIN:VCALENDAR
VERSION:2.0
PRODID:-//Emmanuel United Church, Brampton - ECPv6.15.20//NONSGML v1.0//EN
CALSCALE:GREGORIAN
METHOD:PUBLISH
X-WR-CALNAME:Emmanuel United Church, Brampton
X-ORIGINAL-URL:https://emmanuelunited.com
X-WR-CALDESC:Events for Emmanuel United Church, Brampton
REFRESH-INTERVAL;VALUE=DURATION:PT1H
X-Robots-Tag:noindex
X-PUBLISHED-TTL:PT1H
BEGIN:VTIMEZONE
TZID:America/Toronto
BEGIN:DAYLIGHT
TZOFFSETFROM:-0500
TZOFFSETTO:-0400
TZNAME:EDT
DTSTART:20220313T070000
END:DAYLIGHT
BEGIN:STANDARD
TZOFFSETFROM:-0400
TZOFFSETTO:-0500
TZNAME:EST
DTSTART:20221106T060000
END:STANDARD
BEGIN:DAYLIGHT
TZOFFSETFROM:-0500
TZOFFSETTO:-0400
TZNAME:EDT
DTSTART:20230312T070000
END:DAYLIGHT
BEGIN:STANDARD
TZOFFSETFROM:-0400
TZOFFSETTO:-0500
TZNAME:EST
DTSTART:20231105T060000
END:STANDARD
BEGIN:DAYLIGHT
TZOFFSETFROM:-0500
TZOFFSETTO:-0400
TZNAME:EDT
DTSTART:20240310T070000
END:DAYLIGHT
BEGIN:STANDARD
TZOFFSETFROM:-0400
TZOFFSETTO:-0500
TZNAME:EST
DTSTART:20241103T060000
END:STANDARD
END:VTIMEZONE
BEGIN:VEVENT
DTSTART;TZID=America/Toronto:20231219T130000
DTEND;TZID=America/Toronto:20231219T150000
DTSTAMP:20260425T185508
CREATED:20231213T150027Z
LAST-MODIFIED:20231213T150840Z
UID:10000390-1702990800-1702998000@emmanuelunited.com
SUMMARY:UCW Happy Hearts Christmas Lunch
DESCRIPTION:Christmas Lunch this Tuesday\, December 19th at 1PM.  We’ll meet at Nancy’s Trattoria at 2023 Williams Parkway for a lovely hot lunch.  Please bring a small item for the women at the Salvation Army’s Family centre.   Please let Janice or Vilia know if you’re coming.
URL:https://emmanuelunited.com/event/ucw-happy-hearts-christmas-lunch/
LOCATION:2023 Wiliiams Parkway\, 2023 Williams Parkway\, Brampton\, Ontario\, L6S 6E7\, Canada
CATEGORIES:Fellowship
ATTACH;FMTTYPE=image/jpeg:https://emmanuelunited.com/wp-content/uploads/2023/12/christmas-dinner-table-1443707899pCE.jpg
END:VEVENT
BEGIN:VEVENT
DTSTART;TZID=America/Toronto:20231219T130000
DTEND;TZID=America/Toronto:20231219T150000
DTSTAMP:20260425T185508
CREATED:20231213T150027Z
LAST-MODIFIED:20231213T150027Z
UID:10001338-1702990800-1702998000@emmanuelunited.com
SUMMARY:UCW Happy Hearts Christmas Lunch
DESCRIPTION:Christmas Lunch this Tuesday\, December 19th at 1PM.  We’ll meet at Nancy’s Trattoria at 2023 Williams Parkway for a lovely hot lunch.  Please bring a small item for the women at the Salvation Army’s Family centre.   Please let Janice or Vilia know if you’re coming.
URL:https://emmanuelunited.com/event/ucw-happy-hearts-christmas-lunch-2/
LOCATION:2023 Wiliiams Parkway\, 2023 Williams Parkway\, Brampton\, Ontario\, L6S 6E7\, Canada
CATEGORIES:Fellowship
ATTACH;FMTTYPE=image/jpeg:https://emmanuelunited.com/wp-content/uploads/2023/12/christmas-dinner-table-1443707899pCE.jpg
END:VEVENT
END:VCALENDAR