BEGIN:VCALENDAR
VERSION:2.0
PRODID:-//Emmanuel United Church, Brampton - ECPv6.15.20//NONSGML v1.0//EN
CALSCALE:GREGORIAN
METHOD:PUBLISH
X-ORIGINAL-URL:https://emmanuelunited.com
X-WR-CALDESC:Events for Emmanuel United Church, Brampton
REFRESH-INTERVAL;VALUE=DURATION:PT1H
X-Robots-Tag:noindex
X-PUBLISHED-TTL:PT1H
BEGIN:VTIMEZONE
TZID:America/Toronto
BEGIN:DAYLIGHT
TZOFFSETFROM:-0500
TZOFFSETTO:-0400
TZNAME:EDT
DTSTART:20220313T070000
END:DAYLIGHT
BEGIN:STANDARD
TZOFFSETFROM:-0400
TZOFFSETTO:-0500
TZNAME:EST
DTSTART:20221106T060000
END:STANDARD
BEGIN:DAYLIGHT
TZOFFSETFROM:-0500
TZOFFSETTO:-0400
TZNAME:EDT
DTSTART:20230312T070000
END:DAYLIGHT
BEGIN:STANDARD
TZOFFSETFROM:-0400
TZOFFSETTO:-0500
TZNAME:EST
DTSTART:20231105T060000
END:STANDARD
BEGIN:DAYLIGHT
TZOFFSETFROM:-0500
TZOFFSETTO:-0400
TZNAME:EDT
DTSTART:20240310T070000
END:DAYLIGHT
BEGIN:STANDARD
TZOFFSETFROM:-0400
TZOFFSETTO:-0500
TZNAME:EST
DTSTART:20241103T060000
END:STANDARD
END:VTIMEZONE
BEGIN:VEVENT
DTSTART;TZID=America/Toronto:20231216T100000
DTEND;TZID=America/Toronto:20231216T120000
DTSTAMP:20260425T185540
CREATED:20231207T153347Z
LAST-MODIFIED:20231207T155706Z
UID:10000002-1702720800-1702728000@emmanuelunited.com
SUMMARY:Children's Christmas Celebration
DESCRIPTION:Are you looking for something fun to do with children this Christmas season?\nWe would like to invite you to our very first community wide Children’s Christmas Celebration \nWe are hosting our very first Children’s Community Christmas Party \nWe offer an open invitation for all children to come in\, decorate Christmas cookies\, Christmas crafts\, and other activities including a Christmas Cookie Decorating contest to enjoy\, with prizes per age group. Your child can get into the holiday spirit with Christmas crafts\, treats\, and games while the parents can enjoy a friendly social setting\, over refreshments. \nThere is absolutely no cost to attend this event\, we only ask that parents do stay at the party to lend your child assistance with the Cookie-Contest\, and hopefully join in the festivities themselves. This event will run from 10:00am until 12:00pm with the winners being announced at 11:45am \nPlease feel free to invite lots of guests! \n 
URL:https://emmanuelunited.com/event/childrens-christmas-celebration/
LOCATION:Emmanuel UC\, 420 Balmoral Drive\, Brampton\, Ontario\, Canada
CATEGORIES:Fellowship
ATTACH;FMTTYPE=image/jpeg:https://emmanuelunited.com/wp-content/uploads/2023/12/401813747_717662710398316_9189134602238733903_n.jpg
END:VEVENT
BEGIN:VEVENT
DTSTART;TZID=America/Toronto:20231216T100000
DTEND;TZID=America/Toronto:20231216T120000
DTSTAMP:20260425T185540
CREATED:20231207T153347Z
LAST-MODIFIED:20231207T153347Z
UID:10001333-1702720800-1702728000@emmanuelunited.com
SUMMARY:Children's Christmas Celebration
DESCRIPTION:Are you looking for something fun to do with children this Christmas season?\nWe would like to invite you to our very first community wide Children’s Christmas Celebration \nWe are hosting our very first Children’s Community Christmas Party \nWe offer an open invitation for all children to come in\, decorate Christmas cookies\, Christmas crafts\, and other activities including a Christmas Cookie Decorating contest to enjoy\, with prizes per age group. Your child can get into the holiday spirit with Christmas crafts\, treats\, and games while the parents can enjoy a friendly social setting\, over refreshments. \nThere is absolutely no cost to attend this event\, we only ask that parents do stay at the party to lend your child assistance with the Cookie-Contest\, and hopefully join in the festivities themselves. This event will run from 10:00am until 12:00pm with the winners being announced at 11:45am \nPlease feel free to invite lots of guests! \n 
URL:https://emmanuelunited.com/event/childrens-christmas-celebration-2/
LOCATION:Emmanuel UC\, 420 Balmoral Drive\, Brampton\, Ontario\, Canada
CATEGORIES:Fellowship
ATTACH;FMTTYPE=image/jpeg:https://emmanuelunited.com/wp-content/uploads/2023/12/401813747_717662710398316_9189134602238733903_n.jpg
END:VEVENT
BEGIN:VEVENT
DTSTART;TZID=America/Toronto:20231216T190000
DTEND;TZID=America/Toronto:20231216T200000
DTSTAMP:20260425T185540
CREATED:20231207T153512Z
LAST-MODIFIED:20231207T161542Z
UID:10000003-1702753200-1702756800@emmanuelunited.com
SUMMARY:Cocoa and Carols
DESCRIPTION:Let’s sing in the season with all your favourite carols! Haul out that ugly Christmas sweater\, bring the kids\, the grandkids\, friends and neighbours.\nEnjoy some cocoa and cookies as you sing your favorite’s.\nSong sheets and refreshments provided.
URL:https://emmanuelunited.com/event/cocoa-and-carols/
LOCATION:Emmanuel UC\, 420 Balmoral Drive\, Brampton\, Ontario\, Canada
CATEGORIES:Fellowship
ATTACH;FMTTYPE=image/jpeg:https://emmanuelunited.com/wp-content/uploads/2023/12/music-sheet-7590059_1280.jpg
END:VEVENT
BEGIN:VEVENT
DTSTART;TZID=America/Toronto:20231216T190000
DTEND;TZID=America/Toronto:20231216T200000
DTSTAMP:20260425T185540
CREATED:20231207T153512Z
LAST-MODIFIED:20231207T153512Z
UID:10001334-1702753200-1702756800@emmanuelunited.com
SUMMARY:Cocoa and Carols
DESCRIPTION:Let’s sing in the season with all your favourite carols! Haul out that ugly Christmas sweater\, bring the kids\, the grandkids\, friends and neighbours.\nEnjoy some cocoa and cookies as you sing your favorite’s.\nSong sheets and refreshments provided.
URL:https://emmanuelunited.com/event/cocoa-and-carols-2/
LOCATION:Emmanuel UC\, 420 Balmoral Drive\, Brampton\, Ontario\, Canada
CATEGORIES:Fellowship
ATTACH;FMTTYPE=image/jpeg:https://emmanuelunited.com/wp-content/uploads/2023/12/music-sheet-7590059_1280.jpg
END:VEVENT
END:VCALENDAR