BEGIN:VCALENDAR
VERSION:2.0
PRODID:-//Emmanuel United Church, Brampton - ECPv6.15.20//NONSGML v1.0//EN
CALSCALE:GREGORIAN
METHOD:PUBLISH
X-WR-CALNAME:Emmanuel United Church, Brampton
X-ORIGINAL-URL:https://emmanuelunited.com
X-WR-CALDESC:Events for Emmanuel United Church, Brampton
REFRESH-INTERVAL;VALUE=DURATION:PT1H
X-Robots-Tag:noindex
X-PUBLISHED-TTL:PT1H
BEGIN:VTIMEZONE
TZID:America/Toronto
BEGIN:DAYLIGHT
TZOFFSETFROM:-0500
TZOFFSETTO:-0400
TZNAME:EDT
DTSTART:20220313T070000
END:DAYLIGHT
BEGIN:STANDARD
TZOFFSETFROM:-0400
TZOFFSETTO:-0500
TZNAME:EST
DTSTART:20221106T060000
END:STANDARD
BEGIN:DAYLIGHT
TZOFFSETFROM:-0500
TZOFFSETTO:-0400
TZNAME:EDT
DTSTART:20230312T070000
END:DAYLIGHT
BEGIN:STANDARD
TZOFFSETFROM:-0400
TZOFFSETTO:-0500
TZNAME:EST
DTSTART:20231105T060000
END:STANDARD
BEGIN:DAYLIGHT
TZOFFSETFROM:-0500
TZOFFSETTO:-0400
TZNAME:EDT
DTSTART:20240310T070000
END:DAYLIGHT
BEGIN:STANDARD
TZOFFSETFROM:-0400
TZOFFSETTO:-0500
TZNAME:EST
DTSTART:20241103T060000
END:STANDARD
END:VTIMEZONE
BEGIN:VEVENT
DTSTART;TZID=America/Toronto:20231209T090000
DTEND;TZID=America/Toronto:20231209T113000
DTSTAMP:20260425T185506
CREATED:20231209T140044Z
LAST-MODIFIED:20231207T223226Z
UID:10000006-1702112400-1702121400@emmanuelunited.com
SUMMARY:Men's Club Pancake Breakfast
DESCRIPTION:The men’s club will have an end of the year pancake and sausage breakfast on Saturday Dec. 9th at 9 am in the church hall .\nThis meeting is open to all men and your welcome to bring a friend .\nI still have plenty of coffee for sale ( Regular\, Decaf and Hazelnut ) so stock up for the Holidays. \nMario Finoro
URL:https://emmanuelunited.com/event/mens-club-pancake-breakfast/
LOCATION:Emmanuel UC\, 420 Balmoral Drive\, Brampton\, Ontario\, Canada
CATEGORIES:Fellowship
END:VEVENT
BEGIN:VEVENT
DTSTART;TZID=America/Toronto:20231209T090000
DTEND;TZID=America/Toronto:20231209T113000
DTSTAMP:20260425T185506
CREATED:20231209T140044Z
LAST-MODIFIED:20231209T140044Z
UID:10001337-1702112400-1702121400@emmanuelunited.com
SUMMARY:Men's Club Pancake Breakfast
DESCRIPTION:The men’s club will have an end of the year pancake and sausage breakfast on Saturday Dec. 9th at 9 am in the church hall .\nThis meeting is open to all men and your welcome to bring a friend .\nI still have plenty of coffee for sale ( Regular\, Decaf and Hazelnut ) so stock up for the Holidays. \nMario Finoro
URL:https://emmanuelunited.com/event/mens-club-pancake-breakfast-2/
LOCATION:Emmanuel UC\, 420 Balmoral Drive\, Brampton\, Ontario\, Canada
CATEGORIES:Fellowship
END:VEVENT
BEGIN:VEVENT
DTSTART;TZID=America/Toronto:20231209T120000
DTEND;TZID=America/Toronto:20231209T140000
DTSTAMP:20260425T185506
CREATED:20231207T155535Z
LAST-MODIFIED:20231207T155730Z
UID:10000005-1702123200-1702130400@emmanuelunited.com
SUMMARY:UCW Christmas Luncheon
DESCRIPTION:UCW Christmas lunch.\nThis year our annual Christmas lunch and budget meeting will be held at noon on December 9th in the Fellowship Hall.\nA generous gift from Irene Spencer is providing the Ham\, Turkey and fixings.\nAll Women of the church are invited for fellowship\, a short devotion and lots of Christmas cheer!
URL:https://emmanuelunited.com/event/ucw-christmas-luncheon/
LOCATION:Emmanuel UC\, 420 Balmoral Drive\, Brampton\, Ontario\, Canada
CATEGORIES:Fellowship
END:VEVENT
BEGIN:VEVENT
DTSTART;TZID=America/Toronto:20231209T120000
DTEND;TZID=America/Toronto:20231209T140000
DTSTAMP:20260425T185506
CREATED:20231207T155535Z
LAST-MODIFIED:20231207T155535Z
UID:10001336-1702123200-1702130400@emmanuelunited.com
SUMMARY:UCW Christmas Luncheon
DESCRIPTION:UCW Christmas lunch.\nThis year our annual Christmas lunch and budget meeting will be held at noon on December 9th in the Fellowship Hall.\nA generous gift from Irene Spencer is providing the Ham\, Turkey and fixings.\nAll Women of the church are invited for fellowship\, a short devotion and lots of Christmas cheer!
URL:https://emmanuelunited.com/event/ucw-christmas-luncheon-2/
LOCATION:Emmanuel UC\, 420 Balmoral Drive\, Brampton\, Ontario\, Canada
CATEGORIES:Fellowship
END:VEVENT
END:VCALENDAR