BEGIN:VCALENDAR
VERSION:2.0
PRODID:-//Emmanuel United Church, Brampton - ECPv6.15.20//NONSGML v1.0//EN
CALSCALE:GREGORIAN
METHOD:PUBLISH
X-WR-CALNAME:Emmanuel United Church, Brampton
X-ORIGINAL-URL:https://emmanuelunited.com
X-WR-CALDESC:Events for Emmanuel United Church, Brampton
REFRESH-INTERVAL;VALUE=DURATION:PT1H
X-Robots-Tag:noindex
X-PUBLISHED-TTL:PT1H
BEGIN:VTIMEZONE
TZID:America/Toronto
BEGIN:DAYLIGHT
TZOFFSETFROM:-0500
TZOFFSETTO:-0400
TZNAME:EDT
DTSTART:20230312T070000
END:DAYLIGHT
BEGIN:STANDARD
TZOFFSETFROM:-0400
TZOFFSETTO:-0500
TZNAME:EST
DTSTART:20231105T060000
END:STANDARD
BEGIN:DAYLIGHT
TZOFFSETFROM:-0500
TZOFFSETTO:-0400
TZNAME:EDT
DTSTART:20240310T070000
END:DAYLIGHT
BEGIN:STANDARD
TZOFFSETFROM:-0400
TZOFFSETTO:-0500
TZNAME:EST
DTSTART:20241103T060000
END:STANDARD
BEGIN:DAYLIGHT
TZOFFSETFROM:-0500
TZOFFSETTO:-0400
TZNAME:EDT
DTSTART:20250309T070000
END:DAYLIGHT
BEGIN:STANDARD
TZOFFSETFROM:-0400
TZOFFSETTO:-0500
TZNAME:EST
DTSTART:20251102T060000
END:STANDARD
END:VTIMEZONE
BEGIN:VEVENT
DTSTART;TZID=America/Toronto:20240602T120000
DTEND;TZID=America/Toronto:20240602T133000
DTSTAMP:20260425T072358
CREATED:20240508T143504Z
LAST-MODIFIED:20240508T143504Z
UID:10001391-1717329600-1717335000@emmanuelunited.com
SUMMARY:Welcome to Emmanuel
DESCRIPTION:We’ve spent a couple of weeks looking at what it is to be a follower of Jesus and a member of the United Church of Canada. But every United Church congregation is different. What makes Emmanuel UC unique? How are we structured\, and what is it that we do? \nJoin us as we look at the history of our congregation\, and where we seek to go in the future. \nPhoto by Dylan Gillis on Unsplash.
URL:https://emmanuelunited.com/event/welcome-to-emmanuel-2/
LOCATION:Emmanuel UC\, 420 Balmoral Drive\, Brampton\, Ontario\, Canada
CATEGORIES:Discipleship,Fellowship
ATTACH;FMTTYPE=image/jpeg:https://emmanuelunited.com/wp-content/uploads/2024/05/dylan-gillis-KdeqA3aTnBY-unsplash-2.jpg
END:VEVENT
BEGIN:VEVENT
DTSTART;TZID=America/Toronto:20240602T120000
DTEND;TZID=America/Toronto:20240602T133000
DTSTAMP:20260425T072358
CREATED:20240508T143504Z
LAST-MODIFIED:20240508T143504Z
UID:10000503-1717329600-1717335000@emmanuelunited.com
SUMMARY:Welcome to Emmanuel
DESCRIPTION:We’ve spent a couple of weeks looking at what it is to be a follower of Jesus and a member of the United Church of Canada. But every United Church congregation is different. What makes Emmanuel UC unique? How are we structured\, and what is it that we do? \nJoin us as we look at the history of our congregation\, and where we seek to go in the future. \nPhoto by Dylan Gillis on Unsplash.
URL:https://emmanuelunited.com/event/welcome-to-emmanuel/
LOCATION:Emmanuel UC\, 420 Balmoral Drive\, Brampton\, Ontario\, Canada
CATEGORIES:Discipleship,Fellowship
ATTACH;FMTTYPE=image/jpeg:https://emmanuelunited.com/wp-content/uploads/2024/05/dylan-gillis-KdeqA3aTnBY-unsplash-2.jpg
END:VEVENT
BEGIN:VEVENT
DTSTART;TZID=America/Toronto:20240608T113000
DTEND;TZID=America/Toronto:20240608T150000
DTSTAMP:20260425T072358
CREATED:20240530T152437Z
LAST-MODIFIED:20240530T152437Z
UID:10001405-1717846200-1717858800@emmanuelunited.com
SUMMARY:UCW - June Luncheon
DESCRIPTION:UCW June Luncheon\n\nOur spring luncheon will be on Saturday\, June 8th beginning at 11:30 am.\nThe cost is $10. . All women of the church are welcome to attend. You do not need to be part of a UCW unit. Come out and enjoy a time of fun and fellowship!\nPlease contact Diane Aikman to reserve a spot or see her Sunday where she will be collecting money after church at Sip-n-Talk
URL:https://emmanuelunited.com/event/ucw-june-luncheon-2/
LOCATION:Emmanuel UC\, 420 Balmoral Drive\, Brampton\, Ontario\, Canada
CATEGORIES:Fellowship
ATTACH;FMTTYPE=image/jpeg:https://emmanuelunited.com/wp-content/uploads/2024/05/public-domain-pictures-CC0-Community.jpg
END:VEVENT
BEGIN:VEVENT
DTSTART;TZID=America/Toronto:20240608T113000
DTEND;TZID=America/Toronto:20240608T150000
DTSTAMP:20260425T072358
CREATED:20240530T152437Z
LAST-MODIFIED:20240530T152437Z
UID:10000913-1717846200-1717858800@emmanuelunited.com
SUMMARY:UCW - June Luncheon
DESCRIPTION:UCW June Luncheon\n\nOur spring luncheon will be on Saturday\, June 8th beginning at 11:30 am.\nThe cost is $10. . All women of the church are welcome to attend. You do not need to be part of a UCW unit. Come out and enjoy a time of fun and fellowship!\nPlease contact Diane Aikman to reserve a spot or see her Sunday where she will be collecting money after church at Sip-n-Talk
URL:https://emmanuelunited.com/event/ucw-june-luncheon/
LOCATION:Emmanuel UC\, 420 Balmoral Drive\, Brampton\, Ontario\, Canada
CATEGORIES:Fellowship
ATTACH;FMTTYPE=image/jpeg:https://emmanuelunited.com/wp-content/uploads/2024/05/public-domain-pictures-CC0-Community.jpg
END:VEVENT
BEGIN:VEVENT
DTSTART;TZID=America/Toronto:20240615T083000
DTEND;TZID=America/Toronto:20240615T163000
DTSTAMP:20260425T072358
CREATED:20240104T164940Z
LAST-MODIFIED:20240514T150933Z
UID:10000903-1718440200-1718469000@emmanuelunited.com
SUMMARY:Crazy\, Cozy\, Crafters
DESCRIPTION:We are going to be hosting one Saturday a month to get together and scrapbook with your friends at\nEmmanuel United Church\, 420 Balmoral Drive in Brampton. \nThis will take place the 3rd Saturday of the month\nTime: 8:30 AM to 4:30PM \nCost: $30.00/day – Chicken Pasta Lunch\n$25.00/day – Bring your own Lunch \nCoffee\, Tea\, Pop\, and Water will be provided!\n** PRIZES TO BE WON! **\nMake and Take with Monica!! \nBring-a-friend discount: Bring a guest who has never attended a crafting event\, and save $10.00 on your crop! \nTo RSVP or for more information:\nCrazycozycrafters@gmail.com
URL:https://emmanuelunited.com/event/scrapbooking-saturdays/2024-06-15/
LOCATION:Emmanuel UC\, 420 Balmoral Drive\, Brampton\, Ontario\, Canada
CATEGORIES:Fellowship
ATTACH;FMTTYPE=image/jpeg:https://emmanuelunited.com/wp-content/uploads/2024/01/arts-and-crafts-supplies.jpg
END:VEVENT
BEGIN:VEVENT
DTSTART;TZID=America/Toronto:20240615T083000
DTEND;TZID=America/Toronto:20240615T163000
DTSTAMP:20260425T072358
CREATED:20240104T164940Z
LAST-MODIFIED:20240104T164940Z
UID:10001353-1718440200-1718469000@emmanuelunited.com
SUMMARY:Crazy\, Cozy\, Crafters
DESCRIPTION:We are going to be hosting one Saturday a month to get together and scrapbook with your friends at\nEmmanuel United Church\, 420 Balmoral Drive in Brampton. \nThis will take place the 3rd Saturday of the month\nTime: 8:30 AM to 4:30PM \nCost: $30.00/day – Chicken Pasta Lunch\n$25.00/day – Bring your own Lunch \nCoffee\, Tea\, Pop\, and Water will be provided!\n** PRIZES TO BE WON! **\nMake and Take with Monica!! \nBring-a-friend discount: Bring a guest who has never attended a crafting event\, and save $10.00 on your crop! \nTo RSVP or for more information:\nCrazycozycrafters@gmail.com
URL:https://emmanuelunited.com/event/scrapbooking-saturdays-3/2024-06-15/
LOCATION:Emmanuel UC\, 420 Balmoral Drive\, Brampton\, Ontario\, Canada
CATEGORIES:Fellowship
ATTACH;FMTTYPE=image/jpeg:https://emmanuelunited.com/wp-content/uploads/2024/01/arts-and-crafts-supplies.jpg
END:VEVENT
BEGIN:VEVENT
DTSTART;TZID=America/Toronto:20240615T090000
DTEND;TZID=America/Toronto:20240615T130000
DTSTAMP:20260425T072358
CREATED:20240605T170847Z
LAST-MODIFIED:20240605T170847Z
UID:10001406-1718442000-1718456400@emmanuelunited.com
SUMMARY:Planning For Your Future
DESCRIPTION:This event is open invitation\, and guests are both welcomed and encouraged.  \nSaturday June 15th at 9 am The Men’s Club has invited Debbie Wilding to speak to us.\nThe title for her talk is  “Planning for the Future”. It is geared toward seniors currently living in their own homes and their families.\nIf you are thinking about downsizing or moving to a retirement village this is for you.\nThis meeting will be open to all members and friends of the congregation . \nThe tea\, coffee and treats will be ready for 9 am\, and Debbie’s talk will start about 9:15 in the sanctuary. \nMario Finoro
URL:https://emmanuelunited.com/event/planning-for-your-future-2/
LOCATION:Emmanuel UC\, 420 Balmoral Drive\, Brampton\, Ontario\, Canada
CATEGORIES:Discipleship,Fellowship
ATTACH;FMTTYPE=image/jpeg:https://emmanuelunited.com/wp-content/uploads/2024/06/man-speaking-to-audience-Circe-Denyer-CC0.jpg
END:VEVENT
BEGIN:VEVENT
DTSTART;TZID=America/Toronto:20240615T090000
DTEND;TZID=America/Toronto:20240615T130000
DTSTAMP:20260425T072358
CREATED:20240605T170847Z
LAST-MODIFIED:20240605T170847Z
UID:10000914-1718442000-1718456400@emmanuelunited.com
SUMMARY:Planning For Your Future
DESCRIPTION:This event is open invitation\, and guests are both welcomed and encouraged.  \nSaturday June 15th at 9 am The Men’s Club has invited Debbie Wilding to speak to us.\nThe title for her talk is  “Planning for the Future”. It is geared toward seniors currently living in their own homes and their families.\nIf you are thinking about downsizing or moving to a retirement village this is for you.\nThis meeting will be open to all members and friends of the congregation . \nThe tea\, coffee and treats will be ready for 9 am\, and Debbie’s talk will start about 9:15 in the sanctuary. \nMario Finoro
URL:https://emmanuelunited.com/event/planning-for-your-future/
LOCATION:Emmanuel UC\, 420 Balmoral Drive\, Brampton\, Ontario\, Canada
CATEGORIES:Discipleship,Fellowship
ATTACH;FMTTYPE=image/jpeg:https://emmanuelunited.com/wp-content/uploads/2024/06/man-speaking-to-audience-Circe-Denyer-CC0.jpg
END:VEVENT
BEGIN:VEVENT
DTSTART;TZID=America/Toronto:20240625T103000
DTEND;TZID=America/Toronto:20240625T120000
DTSTAMP:20260425T072358
CREATED:20240411T153637Z
LAST-MODIFIED:20240910T134830Z
UID:10000910-1719311400-1719316800@emmanuelunited.com
SUMMARY:Mid-Week Sip-N-Talk
DESCRIPTION:Mid Week Sip And Talk is starting up once again! \nAlways held on the last Tuesday of each month at 10:30 AM. \nPlease join us for an enjoyable time of fellowship and light refreshment. \nGuests are welcome and encouraged!
URL:https://emmanuelunited.com/event/mid-week-sip-n-talk-2/2024-06-25/
LOCATION:Emmanuel UC\, 420 Balmoral Drive\, Brampton\, Ontario\, Canada
CATEGORIES:Fellowship
ATTACH;FMTTYPE=image/jpeg:https://emmanuelunited.com/wp-content/uploads/2024/04/coffee-cup-and-beans-George-Hodan-CC0.jpg
END:VEVENT
BEGIN:VEVENT
DTSTART;TZID=America/Toronto:20240625T103000
DTEND;TZID=America/Toronto:20240625T120000
DTSTAMP:20260425T072358
CREATED:20240411T153637Z
LAST-MODIFIED:20240411T153637Z
UID:10001370-1719311400-1719316800@emmanuelunited.com
SUMMARY:Mid-Week Sip-N-Talk
DESCRIPTION:Mid Week Sip And Talk is starting up once again! \nAlways held on the last Tuesday of each month at 10:30 AM. \nPlease join us for an enjoyable time of fellowship and light refreshment. \nGuests are welcome and encouraged!
URL:https://emmanuelunited.com/event/mid-week-sip-n-talk-2-2/2024-06-25/
LOCATION:Emmanuel UC\, 420 Balmoral Drive\, Brampton\, Ontario\, Canada
CATEGORIES:Fellowship
ATTACH;FMTTYPE=image/jpeg:https://emmanuelunited.com/wp-content/uploads/2024/04/coffee-cup-and-beans-George-Hodan-CC0.jpg
END:VEVENT
END:VCALENDAR