BEGIN:VCALENDAR
VERSION:2.0
PRODID:-//Emmanuel United Church, Brampton - ECPv6.15.20//NONSGML v1.0//EN
CALSCALE:GREGORIAN
METHOD:PUBLISH
X-ORIGINAL-URL:https://emmanuelunited.com
X-WR-CALDESC:Events for Emmanuel United Church, Brampton
REFRESH-INTERVAL;VALUE=DURATION:PT1H
X-Robots-Tag:noindex
X-PUBLISHED-TTL:PT1H
BEGIN:VTIMEZONE
TZID:America/Toronto
BEGIN:DAYLIGHT
TZOFFSETFROM:-0500
TZOFFSETTO:-0400
TZNAME:EDT
DTSTART:20230312T070000
END:DAYLIGHT
BEGIN:STANDARD
TZOFFSETFROM:-0400
TZOFFSETTO:-0500
TZNAME:EST
DTSTART:20231105T060000
END:STANDARD
BEGIN:DAYLIGHT
TZOFFSETFROM:-0500
TZOFFSETTO:-0400
TZNAME:EDT
DTSTART:20240310T070000
END:DAYLIGHT
BEGIN:STANDARD
TZOFFSETFROM:-0400
TZOFFSETTO:-0500
TZNAME:EST
DTSTART:20241103T060000
END:STANDARD
BEGIN:DAYLIGHT
TZOFFSETFROM:-0500
TZOFFSETTO:-0400
TZNAME:EDT
DTSTART:20250309T070000
END:DAYLIGHT
BEGIN:STANDARD
TZOFFSETFROM:-0400
TZOFFSETTO:-0500
TZNAME:EST
DTSTART:20251102T060000
END:STANDARD
END:VTIMEZONE
BEGIN:VEVENT
DTSTART;TZID=America/Toronto:20240406T113000
DTEND;TZID=America/Toronto:20240406T150000
DTSTAMP:20260425T103244
CREATED:20240229T180957Z
LAST-MODIFIED:20240229T180957Z
UID:10000431-1712403000-1712415600@emmanuelunited.com
SUMMARY:UCW Presents - Bridge/Euchre Luncheon
DESCRIPTION:Join us Saturday\, April 6th from 11:30am to 3:30pm for afternoon of fun and games! \nTickets are priced at $20.00\nGroups of 4 will be required for a bridge table. \nTickets are available from Vilia Fera and Diane Aikman\nPick up a poster and share it with friends\, guests are highly encouraged !
URL:https://emmanuelunited.com/event/ucw-presents-bridge-euchre-luncheon/
LOCATION:Emmanuel UC\, 420 Balmoral Drive\, Brampton\, Ontario\, Canada
CATEGORIES:Fellowship
ATTACH;FMTTYPE=image/jpeg:https://emmanuelunited.com/wp-content/uploads/2024/02/four-aces-Marina-Shemesh-CC0.jpg
END:VEVENT
BEGIN:VEVENT
DTSTART;TZID=America/Toronto:20240406T113000
DTEND;TZID=America/Toronto:20240406T150000
DTSTAMP:20260425T103244
CREATED:20240229T180957Z
LAST-MODIFIED:20240229T180957Z
UID:10001363-1712403000-1712415600@emmanuelunited.com
SUMMARY:UCW Presents - Bridge/Euchre Luncheon
DESCRIPTION:Join us Saturday\, April 6th from 11:30am to 3:30pm for afternoon of fun and games! \nTickets are priced at $20.00\nGroups of 4 will be required for a bridge table. \nTickets are available from Vilia Fera and Diane Aikman\nPick up a poster and share it with friends\, guests are highly encouraged !
URL:https://emmanuelunited.com/event/ucw-presents-bridge-euchre-luncheon-2/
LOCATION:Emmanuel UC\, 420 Balmoral Drive\, Brampton\, Ontario\, Canada
CATEGORIES:Fellowship
ATTACH;FMTTYPE=image/jpeg:https://emmanuelunited.com/wp-content/uploads/2024/02/four-aces-Marina-Shemesh-CC0.jpg
END:VEVENT
BEGIN:VEVENT
DTSTART;TZID=America/Toronto:20240420T083000
DTEND;TZID=America/Toronto:20240420T163000
DTSTAMP:20260425T103244
CREATED:20240104T164940Z
LAST-MODIFIED:20240514T150933Z
UID:10000901-1713601800-1713630600@emmanuelunited.com
SUMMARY:Crazy\, Cozy\, Crafters
DESCRIPTION:We are going to be hosting one Saturday a month to get together and scrapbook with your friends at\nEmmanuel United Church\, 420 Balmoral Drive in Brampton. \nThis will take place the 3rd Saturday of the month\nTime: 8:30 AM to 4:30PM \nCost: $30.00/day – Chicken Pasta Lunch\n$25.00/day – Bring your own Lunch \nCoffee\, Tea\, Pop\, and Water will be provided!\n** PRIZES TO BE WON! **\nMake and Take with Monica!! \nBring-a-friend discount: Bring a guest who has never attended a crafting event\, and save $10.00 on your crop! \nTo RSVP or for more information:\nCrazycozycrafters@gmail.com
URL:https://emmanuelunited.com/event/scrapbooking-saturdays/2024-04-20/
LOCATION:Emmanuel UC\, 420 Balmoral Drive\, Brampton\, Ontario\, Canada
CATEGORIES:Fellowship
ATTACH;FMTTYPE=image/jpeg:https://emmanuelunited.com/wp-content/uploads/2024/01/arts-and-crafts-supplies.jpg
END:VEVENT
BEGIN:VEVENT
DTSTART;TZID=America/Toronto:20240420T083000
DTEND;TZID=America/Toronto:20240420T163000
DTSTAMP:20260425T103244
CREATED:20240104T164940Z
LAST-MODIFIED:20240104T164940Z
UID:10001351-1713601800-1713630600@emmanuelunited.com
SUMMARY:Crazy\, Cozy\, Crafters
DESCRIPTION:We are going to be hosting one Saturday a month to get together and scrapbook with your friends at\nEmmanuel United Church\, 420 Balmoral Drive in Brampton. \nThis will take place the 3rd Saturday of the month\nTime: 8:30 AM to 4:30PM \nCost: $30.00/day – Chicken Pasta Lunch\n$25.00/day – Bring your own Lunch \nCoffee\, Tea\, Pop\, and Water will be provided!\n** PRIZES TO BE WON! **\nMake and Take with Monica!! \nBring-a-friend discount: Bring a guest who has never attended a crafting event\, and save $10.00 on your crop! \nTo RSVP or for more information:\nCrazycozycrafters@gmail.com
URL:https://emmanuelunited.com/event/scrapbooking-saturdays-3/2024-04-20/
LOCATION:Emmanuel UC\, 420 Balmoral Drive\, Brampton\, Ontario\, Canada
CATEGORIES:Fellowship
ATTACH;FMTTYPE=image/jpeg:https://emmanuelunited.com/wp-content/uploads/2024/01/arts-and-crafts-supplies.jpg
END:VEVENT
BEGIN:VEVENT
DTSTART;TZID=America/Toronto:20240430T103000
DTEND;TZID=America/Toronto:20240430T120000
DTSTAMP:20260425T103244
CREATED:20240411T153637Z
LAST-MODIFIED:20240910T134830Z
UID:10000428-1714473000-1714478400@emmanuelunited.com
SUMMARY:Mid-Week Sip-N-Talk
DESCRIPTION:Mid Week Sip And Talk is starting up once again! \nAlways held on the last Tuesday of each month at 10:30 AM. \nPlease join us for an enjoyable time of fellowship and light refreshment. \nGuests are welcome and encouraged!
URL:https://emmanuelunited.com/event/mid-week-sip-n-talk-2/2024-04-30/
LOCATION:Emmanuel UC\, 420 Balmoral Drive\, Brampton\, Ontario\, Canada
CATEGORIES:Fellowship
ATTACH;FMTTYPE=image/jpeg:https://emmanuelunited.com/wp-content/uploads/2024/04/coffee-cup-and-beans-George-Hodan-CC0.jpg
END:VEVENT
BEGIN:VEVENT
DTSTART;TZID=America/Toronto:20240430T103000
DTEND;TZID=America/Toronto:20240430T120000
DTSTAMP:20260425T103244
CREATED:20240411T153637Z
LAST-MODIFIED:20240411T153637Z
UID:10001368-1714473000-1714478400@emmanuelunited.com
SUMMARY:Mid-Week Sip-N-Talk
DESCRIPTION:Mid Week Sip And Talk is starting up once again! \nAlways held on the last Tuesday of each month at 10:30 AM. \nPlease join us for an enjoyable time of fellowship and light refreshment. \nGuests are welcome and encouraged!
URL:https://emmanuelunited.com/event/mid-week-sip-n-talk-2-2/2024-04-30/
LOCATION:Emmanuel UC\, 420 Balmoral Drive\, Brampton\, Ontario\, Canada
CATEGORIES:Fellowship
ATTACH;FMTTYPE=image/jpeg:https://emmanuelunited.com/wp-content/uploads/2024/04/coffee-cup-and-beans-George-Hodan-CC0.jpg
END:VEVENT
END:VCALENDAR