BEGIN:VCALENDAR
VERSION:2.0
PRODID:-//Emmanuel United Church, Brampton - ECPv6.15.20//NONSGML v1.0//EN
CALSCALE:GREGORIAN
METHOD:PUBLISH
X-ORIGINAL-URL:https://emmanuelunited.com
X-WR-CALDESC:Events for Emmanuel United Church, Brampton
REFRESH-INTERVAL;VALUE=DURATION:PT1H
X-Robots-Tag:noindex
X-PUBLISHED-TTL:PT1H
BEGIN:VTIMEZONE
TZID:America/Toronto
BEGIN:DAYLIGHT
TZOFFSETFROM:-0500
TZOFFSETTO:-0400
TZNAME:EDT
DTSTART:20230312T070000
END:DAYLIGHT
BEGIN:STANDARD
TZOFFSETFROM:-0400
TZOFFSETTO:-0500
TZNAME:EST
DTSTART:20231105T060000
END:STANDARD
BEGIN:DAYLIGHT
TZOFFSETFROM:-0500
TZOFFSETTO:-0400
TZNAME:EDT
DTSTART:20240310T070000
END:DAYLIGHT
BEGIN:STANDARD
TZOFFSETFROM:-0400
TZOFFSETTO:-0500
TZNAME:EST
DTSTART:20241103T060000
END:STANDARD
BEGIN:DAYLIGHT
TZOFFSETFROM:-0500
TZOFFSETTO:-0400
TZNAME:EDT
DTSTART:20250309T070000
END:DAYLIGHT
BEGIN:STANDARD
TZOFFSETFROM:-0400
TZOFFSETTO:-0500
TZNAME:EST
DTSTART:20251102T060000
END:STANDARD
END:VTIMEZONE
BEGIN:VEVENT
DTSTART;TZID=America/Toronto:20240310T080000
DTEND;TZID=America/Toronto:20240310T170000
DTSTAMP:20260425T122705
CREATED:20240229T181935Z
LAST-MODIFIED:20240229T181935Z
UID:10000432-1710057600-1710090000@emmanuelunited.com
SUMMARY:Easter Food Drive for Re-Gen
DESCRIPTION:Easter Food Drive Campaign 2024\nNow that spring is around the corner the annual Easter Food Drive for the Regen Marketplace Food Bank has begun.\nYour donations can be dropped off before Sunday services on March 10th \,17th and 24th at Emmanuel United Church. \nHow to Donate: \n\nYou can donate either by dropping off food items (see list below) or by giving a financial donation.\nRegen is able to purchase groceries in bulk at discounted costs\, so you may want to consider giving a monetary donation in place of purchasing grocery items yourself. We are calling this the Power of Purchase. The list of food items below purchased at a lower end store would cost you about $85. Regen could use the same $85 to purchase many more items.\nFinancial donations can also be used to support the Food Recovery Program which picks up donations from grocery stores\, bakeries and other food processing businesses. See Outreach presentation board in hall during Sip-N-Talk for more details.\n\nIf you wish to make a financial contribution you can do so by envelope or on-line indicating it is toward Regen Food Drive. \nThe foods most in need at the food bank are: \n\nPasta Sauce\nCan Veggies & Fruits\nHot & Cold Cereal\nCooking Oil\nPancake Batter / Flour & Syrup\nCanned Meat – Tuna\, Salmon\, Ham & Chix\nTea Bags\nPeanut Butter\nJelly\nAdult & Child diapers – All sizes\n\nThank you for helping those in need in our community. Your support is very much appreciated.
URL:https://emmanuelunited.com/event/easter-food-drive-for-re-gen/2024-03-10/
LOCATION:Emmanuel UC\, 420 Balmoral Drive\, Brampton\, Ontario\, Canada
CATEGORIES:Discipleship,Fellowship
ATTACH;FMTTYPE=image/jpeg:https://emmanuelunited.com/wp-content/uploads/2024/02/istockphoto-498405596-612x612-1.jpg
END:VEVENT
BEGIN:VEVENT
DTSTART;TZID=America/Toronto:20240310T080000
DTEND;TZID=America/Toronto:20240310T170000
DTSTAMP:20260425T122705
CREATED:20240229T181935Z
LAST-MODIFIED:20240229T181935Z
UID:10001364-1710057600-1710090000@emmanuelunited.com
SUMMARY:Easter Food Drive for Re-Gen
DESCRIPTION:Easter Food Drive Campaign 2024\nNow that spring is around the corner the annual Easter Food Drive for the Regen Marketplace Food Bank has begun.\nYour donations can be dropped off before Sunday services on March 10th \,17th and 24th at Emmanuel United Church. \nHow to Donate: \n\nYou can donate either by dropping off food items (see list below) or by giving a financial donation.\nRegen is able to purchase groceries in bulk at discounted costs\, so you may want to consider giving a monetary donation in place of purchasing grocery items yourself. We are calling this the Power of Purchase. The list of food items below purchased at a lower end store would cost you about $85. Regen could use the same $85 to purchase many more items.\nFinancial donations can also be used to support the Food Recovery Program which picks up donations from grocery stores\, bakeries and other food processing businesses. See Outreach presentation board in hall during Sip-N-Talk for more details.\n\nIf you wish to make a financial contribution you can do so by envelope or on-line indicating it is toward Regen Food Drive. \nThe foods most in need at the food bank are: \n\nPasta Sauce\nCan Veggies & Fruits\nHot & Cold Cereal\nCooking Oil\nPancake Batter / Flour & Syrup\nCanned Meat – Tuna\, Salmon\, Ham & Chix\nTea Bags\nPeanut Butter\nJelly\nAdult & Child diapers – All sizes\n\nThank you for helping those in need in our community. Your support is very much appreciated.
URL:https://emmanuelunited.com/event/easter-food-drive-for-re-gen-2/2024-03-10/
LOCATION:Emmanuel UC\, 420 Balmoral Drive\, Brampton\, Ontario\, Canada
CATEGORIES:Discipleship,Fellowship
ATTACH;FMTTYPE=image/jpeg:https://emmanuelunited.com/wp-content/uploads/2024/02/istockphoto-498405596-612x612-1.jpg
END:VEVENT
BEGIN:VEVENT
DTSTART;TZID=America/Toronto:20240316T083000
DTEND;TZID=America/Toronto:20240316T163000
DTSTAMP:20260425T122705
CREATED:20240104T164940Z
LAST-MODIFIED:20240514T150933Z
UID:10000900-1710577800-1710606600@emmanuelunited.com
SUMMARY:Crazy\, Cozy\, Crafters
DESCRIPTION:We are going to be hosting one Saturday a month to get together and scrapbook with your friends at\nEmmanuel United Church\, 420 Balmoral Drive in Brampton. \nThis will take place the 3rd Saturday of the month\nTime: 8:30 AM to 4:30PM \nCost: $30.00/day – Chicken Pasta Lunch\n$25.00/day – Bring your own Lunch \nCoffee\, Tea\, Pop\, and Water will be provided!\n** PRIZES TO BE WON! **\nMake and Take with Monica!! \nBring-a-friend discount: Bring a guest who has never attended a crafting event\, and save $10.00 on your crop! \nTo RSVP or for more information:\nCrazycozycrafters@gmail.com
URL:https://emmanuelunited.com/event/scrapbooking-saturdays/2024-03-16/
LOCATION:Emmanuel UC\, 420 Balmoral Drive\, Brampton\, Ontario\, Canada
CATEGORIES:Fellowship
ATTACH;FMTTYPE=image/jpeg:https://emmanuelunited.com/wp-content/uploads/2024/01/arts-and-crafts-supplies.jpg
END:VEVENT
BEGIN:VEVENT
DTSTART;TZID=America/Toronto:20240316T083000
DTEND;TZID=America/Toronto:20240316T163000
DTSTAMP:20260425T122705
CREATED:20240104T164940Z
LAST-MODIFIED:20240104T164940Z
UID:10001350-1710577800-1710606600@emmanuelunited.com
SUMMARY:Crazy\, Cozy\, Crafters
DESCRIPTION:We are going to be hosting one Saturday a month to get together and scrapbook with your friends at\nEmmanuel United Church\, 420 Balmoral Drive in Brampton. \nThis will take place the 3rd Saturday of the month\nTime: 8:30 AM to 4:30PM \nCost: $30.00/day – Chicken Pasta Lunch\n$25.00/day – Bring your own Lunch \nCoffee\, Tea\, Pop\, and Water will be provided!\n** PRIZES TO BE WON! **\nMake and Take with Monica!! \nBring-a-friend discount: Bring a guest who has never attended a crafting event\, and save $10.00 on your crop! \nTo RSVP or for more information:\nCrazycozycrafters@gmail.com
URL:https://emmanuelunited.com/event/scrapbooking-saturdays-3/2024-03-16/
LOCATION:Emmanuel UC\, 420 Balmoral Drive\, Brampton\, Ontario\, Canada
CATEGORIES:Fellowship
ATTACH;FMTTYPE=image/jpeg:https://emmanuelunited.com/wp-content/uploads/2024/01/arts-and-crafts-supplies.jpg
END:VEVENT
BEGIN:VEVENT
DTSTART;TZID=America/Toronto:20240324T190000
DTEND;TZID=America/Toronto:20240324T210000
DTSTAMP:20260425T122705
CREATED:20240229T184334Z
LAST-MODIFIED:20240229T184334Z
UID:10001365-1711306800-1711314000@emmanuelunited.com
SUMMARY:Come Walk With Me- An Easter Week Cantata
DESCRIPTION:The choirs of  Emmanuel United and Grace present\n\nCome Walk With Me – An Easter Week Cantata\nCome join us Sunday March 24th at 7pm at Emmanuel United Church for our annual Easter Cantata and celebrate in song.\nEveryone is welcome\, and guests are highly encouraged.
URL:https://emmanuelunited.com/event/come-walk-with-me-an-easter-week-cantata-2/
LOCATION:Emmanuel UC\, 420 Balmoral Drive\, Brampton\, Ontario\, Canada
CATEGORIES:Discipleship,Fellowship,Worship
ATTACH;FMTTYPE=image/jpeg:https://emmanuelunited.com/wp-content/uploads/2024/02/ComeWalkWithMecropped.jpg
END:VEVENT
BEGIN:VEVENT
DTSTART;TZID=America/Toronto:20240324T190000
DTEND;TZID=America/Toronto:20240324T210000
DTSTAMP:20260425T122705
CREATED:20240229T184334Z
LAST-MODIFIED:20240229T184334Z
UID:10000433-1711306800-1711314000@emmanuelunited.com
SUMMARY:Come Walk With Me- An Easter Week Cantata
DESCRIPTION:The choirs of  Emmanuel United and Grace present\n\nCome Walk With Me – An Easter Week Cantata\nCome join us Sunday March 24th at 7pm at Emmanuel United Church for our annual Easter Cantata and celebrate in song.\nEveryone is welcome\, and guests are highly encouraged.
URL:https://emmanuelunited.com/event/come-walk-with-me-an-easter-week-cantata/
LOCATION:Emmanuel UC\, 420 Balmoral Drive\, Brampton\, Ontario\, Canada
CATEGORIES:Discipleship,Fellowship,Worship
ATTACH;FMTTYPE=image/jpeg:https://emmanuelunited.com/wp-content/uploads/2024/02/ComeWalkWithMecropped.jpg
END:VEVENT
BEGIN:VEVENT
DTSTART;TZID=America/Toronto:20240326T103000
DTEND;TZID=America/Toronto:20240326T120000
DTSTAMP:20260425T122705
CREATED:20240222T161300Z
LAST-MODIFIED:20240222T161356Z
UID:10000427-1711449000-1711454400@emmanuelunited.com
SUMMARY:Mid-Week Sip-N-Talk
DESCRIPTION:Hosting Mid-Week Sip and Talk resumes for the New Year! \nHeld on the last Tuesday of each month at 10:30 AM. \nPlease join us and bring your friends for a time of fun and fellowship\, guests are highly encouraged! \nRefreshments provided!
URL:https://emmanuelunited.com/event/mid-week-sip-n-talk/2024-03-26/
LOCATION:Emmanuel UC\, 420 Balmoral Drive\, Brampton\, Ontario\, Canada
CATEGORIES:Fellowship
ATTACH;FMTTYPE=image/jpeg:https://emmanuelunited.com/wp-content/uploads/2024/02/hot-latte-coffee-with-hearts-Ian-L-CC0-e1746637718193.jpg
END:VEVENT
BEGIN:VEVENT
DTSTART;TZID=America/Toronto:20240326T103000
DTEND;TZID=America/Toronto:20240326T120000
DTSTAMP:20260425T122705
CREATED:20240222T161300Z
LAST-MODIFIED:20240222T161300Z
UID:10001362-1711449000-1711454400@emmanuelunited.com
SUMMARY:Mid-Week Sip-N-Talk
DESCRIPTION:Hosting Mid-Week Sip and Talk resumes for the New Year! \nHeld on the last Tuesday of each month at 10:30 AM. \nPlease join us and bring your friends for a time of fun and fellowship\, guests are highly encouraged! \nRefreshments provided!
URL:https://emmanuelunited.com/event/mid-week-sip-n-talk-4/2024-03-26/
LOCATION:Emmanuel UC\, 420 Balmoral Drive\, Brampton\, Ontario\, Canada
CATEGORIES:Fellowship
ATTACH;FMTTYPE=image/jpeg:https://emmanuelunited.com/wp-content/uploads/2024/02/hot-latte-coffee-with-hearts-Ian-L-CC0-e1746637718193.jpg
END:VEVENT
END:VCALENDAR