BEGIN:VCALENDAR
VERSION:2.0
PRODID:-//Emmanuel United Church, Brampton - ECPv6.15.20//NONSGML v1.0//EN
CALSCALE:GREGORIAN
METHOD:PUBLISH
X-ORIGINAL-URL:https://emmanuelunited.com
X-WR-CALDESC:Events for Emmanuel United Church, Brampton
REFRESH-INTERVAL;VALUE=DURATION:PT1H
X-Robots-Tag:noindex
X-PUBLISHED-TTL:PT1H
BEGIN:VTIMEZONE
TZID:America/Toronto
BEGIN:DAYLIGHT
TZOFFSETFROM:-0500
TZOFFSETTO:-0400
TZNAME:EDT
DTSTART:20230312T070000
END:DAYLIGHT
BEGIN:STANDARD
TZOFFSETFROM:-0400
TZOFFSETTO:-0500
TZNAME:EST
DTSTART:20231105T060000
END:STANDARD
BEGIN:DAYLIGHT
TZOFFSETFROM:-0500
TZOFFSETTO:-0400
TZNAME:EDT
DTSTART:20240310T070000
END:DAYLIGHT
BEGIN:STANDARD
TZOFFSETFROM:-0400
TZOFFSETTO:-0500
TZNAME:EST
DTSTART:20241103T060000
END:STANDARD
BEGIN:DAYLIGHT
TZOFFSETFROM:-0500
TZOFFSETTO:-0400
TZNAME:EDT
DTSTART:20250309T070000
END:DAYLIGHT
BEGIN:STANDARD
TZOFFSETFROM:-0400
TZOFFSETTO:-0500
TZNAME:EST
DTSTART:20251102T060000
END:STANDARD
END:VTIMEZONE
BEGIN:VEVENT
DTSTART;TZID=America/Toronto:20240113T090000
DTEND;TZID=America/Toronto:20240113T110000
DTSTAMP:20260425T154304
CREATED:20240111T170522Z
LAST-MODIFIED:20240111T170522Z
UID:10001357-1705136400-1705143600@emmanuelunited.com
SUMMARY:Men's Club Meeting
DESCRIPTION:EUC Men’s club next meeting is Saturday January 13th. \nOur guest speaker will be Nick ( Tony Smith’s grandson) he will be talking to us about his 10-month adventure in Japan. \nGuest are welcome\, and refreshments will be provided.
URL:https://emmanuelunited.com/event/mens-club-meeting-2/
LOCATION:Emmanuel UC\, 420 Balmoral Drive\, Brampton\, Ontario\, Canada
CATEGORIES:Fellowship
ATTACH;FMTTYPE=image/jpeg:https://emmanuelunited.com/wp-content/uploads/2024/01/japan-santa-delux-CC0.jpg
END:VEVENT
BEGIN:VEVENT
DTSTART;TZID=America/Toronto:20240113T090000
DTEND;TZID=America/Toronto:20240113T110000
DTSTAMP:20260425T154304
CREATED:20240111T170522Z
LAST-MODIFIED:20240111T170522Z
UID:10000424-1705136400-1705143600@emmanuelunited.com
SUMMARY:Men's Club Meeting
DESCRIPTION:EUC Men’s club next meeting is Saturday January 13th. \nOur guest speaker will be Nick ( Tony Smith’s grandson) he will be talking to us about his 10-month adventure in Japan. \nGuest are welcome\, and refreshments will be provided.
URL:https://emmanuelunited.com/event/mens-club-meeting/
LOCATION:Emmanuel UC\, 420 Balmoral Drive\, Brampton\, Ontario\, Canada
CATEGORIES:Fellowship
ATTACH;FMTTYPE=image/jpeg:https://emmanuelunited.com/wp-content/uploads/2024/01/japan-santa-delux-CC0.jpg
END:VEVENT
BEGIN:VEVENT
DTSTART;TZID=America/Toronto:20240114T120000
DTEND;TZID=America/Toronto:20240114T140000
DTSTAMP:20260425T154304
CREATED:20240102T174357Z
LAST-MODIFIED:20240103T195353Z
UID:10000398-1705233600-1705240800@emmanuelunited.com
SUMMARY:Soup Luncheon
DESCRIPTION:Sunday January 14th at 12:00pm – onwards \nCome and kick off the New Year with our first social of the year!Our after-church —“SOUP and  HOMEMADE BREAD LUNCHEON”This will certainly warm you up on a cold winter’s day! \nA variety of soups will be offered! Open to all so invite your friends!
URL:https://emmanuelunited.com/event/soup-luncheon/
LOCATION:Emmanuel UC\, 420 Balmoral Drive\, Brampton\, Ontario\, Canada
CATEGORIES:Fellowship
ATTACH;FMTTYPE=image/jpeg:https://emmanuelunited.com/wp-content/uploads/2024/01/various-fresh-bread-1695646820YFZ.jpg
END:VEVENT
BEGIN:VEVENT
DTSTART;TZID=America/Toronto:20240114T120000
DTEND;TZID=America/Toronto:20240114T140000
DTSTAMP:20260425T154304
CREATED:20240102T174357Z
LAST-MODIFIED:20240102T174357Z
UID:10001342-1705233600-1705240800@emmanuelunited.com
SUMMARY:Soup Luncheon
DESCRIPTION:Sunday January 14th at 12:00pm – onwards \nCome and kick off the New Year with our first social of the year!Our after-church —“SOUP and  HOMEMADE BREAD LUNCHEON”This will certainly warm you up on a cold winter’s day! \nA variety of soups will be offered! Open to all so invite your friends!
URL:https://emmanuelunited.com/event/soup-luncheon-3/
LOCATION:Emmanuel UC\, 420 Balmoral Drive\, Brampton\, Ontario\, Canada
CATEGORIES:Fellowship
ATTACH;FMTTYPE=image/jpeg:https://emmanuelunited.com/wp-content/uploads/2024/01/various-fresh-bread-1695646820YFZ.jpg
END:VEVENT
BEGIN:VEVENT
DTSTART;TZID=America/Toronto:20240116T103000
DTEND;TZID=America/Toronto:20240116T120000
DTSTAMP:20260425T154304
CREATED:20240111T164428Z
LAST-MODIFIED:20240111T164441Z
UID:10000423-1705401000-1705406400@emmanuelunited.com
SUMMARY:UCW - Happy Hearts Meeting
DESCRIPTION:Happy Hearts will meet in the Friendship room. \nThis month Shirley Campbell will lead devotions and Janice Ireland will provide the refreshments.\nThanks\, Vilia
URL:https://emmanuelunited.com/event/ucw-happy-hearts-meeting/
LOCATION:Emmanuel UC\, 420 Balmoral Drive\, Brampton\, Ontario\, Canada
CATEGORIES:Fellowship
ATTACH;FMTTYPE=image/jpeg:https://emmanuelunited.com/wp-content/uploads/2024/01/Heartsun-axelle-b-CC0.jpg
END:VEVENT
BEGIN:VEVENT
DTSTART;TZID=America/Toronto:20240116T103000
DTEND;TZID=America/Toronto:20240116T120000
DTSTAMP:20260425T154304
CREATED:20240111T164428Z
LAST-MODIFIED:20240111T164428Z
UID:10001356-1705401000-1705406400@emmanuelunited.com
SUMMARY:UCW - Happy Hearts Meeting
DESCRIPTION:Happy Hearts will meet in the Friendship room. \nThis month Shirley Campbell will lead devotions and Janice Ireland will provide the refreshments.\nThanks\, Vilia
URL:https://emmanuelunited.com/event/ucw-happy-hearts-meeting-2/
LOCATION:Emmanuel UC\, 420 Balmoral Drive\, Brampton\, Ontario\, Canada
CATEGORIES:Fellowship
ATTACH;FMTTYPE=image/jpeg:https://emmanuelunited.com/wp-content/uploads/2024/01/Heartsun-axelle-b-CC0.jpg
END:VEVENT
BEGIN:VEVENT
DTSTART;TZID=America/Toronto:20240120T083000
DTEND;TZID=America/Toronto:20240120T163000
DTSTAMP:20260425T154304
CREATED:20240104T164940Z
LAST-MODIFIED:20240514T150933Z
UID:10000898-1705739400-1705768200@emmanuelunited.com
SUMMARY:Crazy\, Cozy\, Crafters
DESCRIPTION:We are going to be hosting one Saturday a month to get together and scrapbook with your friends at\nEmmanuel United Church\, 420 Balmoral Drive in Brampton. \nThis will take place the 3rd Saturday of the month\nTime: 8:30 AM to 4:30PM \nCost: $30.00/day – Chicken Pasta Lunch\n$25.00/day – Bring your own Lunch \nCoffee\, Tea\, Pop\, and Water will be provided!\n** PRIZES TO BE WON! **\nMake and Take with Monica!! \nBring-a-friend discount: Bring a guest who has never attended a crafting event\, and save $10.00 on your crop! \nTo RSVP or for more information:\nCrazycozycrafters@gmail.com
URL:https://emmanuelunited.com/event/scrapbooking-saturdays/2024-01-20/
LOCATION:Emmanuel UC\, 420 Balmoral Drive\, Brampton\, Ontario\, Canada
CATEGORIES:Fellowship
ATTACH;FMTTYPE=image/jpeg:https://emmanuelunited.com/wp-content/uploads/2024/01/arts-and-crafts-supplies.jpg
END:VEVENT
BEGIN:VEVENT
DTSTART;TZID=America/Toronto:20240120T083000
DTEND;TZID=America/Toronto:20240120T163000
DTSTAMP:20260425T154304
CREATED:20240104T164940Z
LAST-MODIFIED:20240104T164940Z
UID:10001348-1705739400-1705768200@emmanuelunited.com
SUMMARY:Crazy\, Cozy\, Crafters
DESCRIPTION:We are going to be hosting one Saturday a month to get together and scrapbook with your friends at\nEmmanuel United Church\, 420 Balmoral Drive in Brampton. \nThis will take place the 3rd Saturday of the month\nTime: 8:30 AM to 4:30PM \nCost: $30.00/day – Chicken Pasta Lunch\n$25.00/day – Bring your own Lunch \nCoffee\, Tea\, Pop\, and Water will be provided!\n** PRIZES TO BE WON! **\nMake and Take with Monica!! \nBring-a-friend discount: Bring a guest who has never attended a crafting event\, and save $10.00 on your crop! \nTo RSVP or for more information:\nCrazycozycrafters@gmail.com
URL:https://emmanuelunited.com/event/scrapbooking-saturdays-3/2024-01-20/
LOCATION:Emmanuel UC\, 420 Balmoral Drive\, Brampton\, Ontario\, Canada
CATEGORIES:Fellowship
ATTACH;FMTTYPE=image/jpeg:https://emmanuelunited.com/wp-content/uploads/2024/01/arts-and-crafts-supplies.jpg
END:VEVENT
END:VCALENDAR