BEGIN:VCALENDAR
VERSION:2.0
PRODID:-//Emmanuel United Church, Brampton - ECPv6.15.20//NONSGML v1.0//EN
CALSCALE:GREGORIAN
METHOD:PUBLISH
X-ORIGINAL-URL:https://emmanuelunited.com
X-WR-CALDESC:Events for Emmanuel United Church, Brampton
REFRESH-INTERVAL;VALUE=DURATION:PT1H
X-Robots-Tag:noindex
X-PUBLISHED-TTL:PT1H
BEGIN:VTIMEZONE
TZID:America/Toronto
BEGIN:DAYLIGHT
TZOFFSETFROM:-0500
TZOFFSETTO:-0400
TZNAME:EDT
DTSTART:20230312T070000
END:DAYLIGHT
BEGIN:STANDARD
TZOFFSETFROM:-0400
TZOFFSETTO:-0500
TZNAME:EST
DTSTART:20231105T060000
END:STANDARD
BEGIN:DAYLIGHT
TZOFFSETFROM:-0500
TZOFFSETTO:-0400
TZNAME:EDT
DTSTART:20240310T070000
END:DAYLIGHT
BEGIN:STANDARD
TZOFFSETFROM:-0400
TZOFFSETTO:-0500
TZNAME:EST
DTSTART:20241103T060000
END:STANDARD
BEGIN:DAYLIGHT
TZOFFSETFROM:-0500
TZOFFSETTO:-0400
TZNAME:EDT
DTSTART:20250309T070000
END:DAYLIGHT
BEGIN:STANDARD
TZOFFSETFROM:-0400
TZOFFSETTO:-0500
TZNAME:EST
DTSTART:20251102T060000
END:STANDARD
END:VTIMEZONE
BEGIN:VEVENT
DTSTART;TZID=America/Toronto:20241204T133000
DTEND;TZID=America/Toronto:20241204T143000
DTSTAMP:20260424T035502
CREATED:20240830T174957Z
LAST-MODIFIED:20250506T194226Z
UID:10000957-1733319000-1733322600@emmanuelunited.com
SUMMARY:Deeper Dive
DESCRIPTION:Join Rev’d Tom on for an opportunity to look a little deeper at the weekly message. ​ \nAll are welcome.
URL:https://emmanuelunited.com/event/deeper-dive-3/2024-12-04/
LOCATION:Emmanuel UC\, 420 Balmoral Drive\, Brampton\, Ontario\, Canada
CATEGORIES:Discipleship
ATTACH;FMTTYPE=image/jpeg:https://emmanuelunited.com/wp-content/uploads/2024/04/book-wisdom-mohamed-mahmoud-hassan-CC0-e1746560078172.jpg
END:VEVENT
BEGIN:VEVENT
DTSTART;TZID=America/Toronto:20241128T100000
DTEND;TZID=America/Toronto:20241128T110000
DTSTAMP:20260424T035502
CREATED:20241121T144822Z
LAST-MODIFIED:20241121T144822Z
UID:10001785-1732788000-1732791600@emmanuelunited.com
SUMMARY:Christmas Decorating
DESCRIPTION:Join us as we decorate the church for our upcoming advent season! Enjoy a day of fellowship as we have fun decorating for the Christmas festivities!
URL:https://emmanuelunited.com/event/christmas-decorating-2/
LOCATION:Emmanuel UC\, 420 Balmoral Drive\, Brampton\, Ontario\, Canada
CATEGORIES:Discipleship,Fellowship
ATTACH;FMTTYPE=image/jpeg:https://emmanuelunited.com/wp-content/uploads/2024/11/when-to-put-up-christmas-tree-1-1665779714.jpg
END:VEVENT
BEGIN:VEVENT
DTSTART;TZID=America/Toronto:20241128T100000
DTEND;TZID=America/Toronto:20241128T110000
DTSTAMP:20260424T035502
CREATED:20241121T144822Z
LAST-MODIFIED:20241121T145118Z
UID:10001323-1732788000-1732791600@emmanuelunited.com
SUMMARY:Christmas Decorating
DESCRIPTION:Join us as we decorate the church for our upcoming advent season! Enjoy a day of fellowship as we have fun decorating for the Christmas festivities!
URL:https://emmanuelunited.com/event/christmas-decorating/
LOCATION:Emmanuel UC\, 420 Balmoral Drive\, Brampton\, Ontario\, Canada
CATEGORIES:Discipleship,Fellowship
ATTACH;FMTTYPE=image/jpeg:https://emmanuelunited.com/wp-content/uploads/2024/11/when-to-put-up-christmas-tree-1-1665779714.jpg
END:VEVENT
BEGIN:VEVENT
DTSTART;TZID=America/Toronto:20241127T133000
DTEND;TZID=America/Toronto:20241127T143000
DTSTAMP:20260424T035502
CREATED:20240830T174957Z
LAST-MODIFIED:20250506T194226Z
UID:10000956-1732714200-1732717800@emmanuelunited.com
SUMMARY:Deeper Dive
DESCRIPTION:Join Rev’d Tom on for an opportunity to look a little deeper at the weekly message. ​ \nAll are welcome.
URL:https://emmanuelunited.com/event/deeper-dive-3/2024-11-27/
LOCATION:Emmanuel UC\, 420 Balmoral Drive\, Brampton\, Ontario\, Canada
CATEGORIES:Discipleship
ATTACH;FMTTYPE=image/jpeg:https://emmanuelunited.com/wp-content/uploads/2024/04/book-wisdom-mohamed-mahmoud-hassan-CC0-e1746560078172.jpg
END:VEVENT
BEGIN:VEVENT
DTSTART;TZID=America/Toronto:20241120T133000
DTEND;TZID=America/Toronto:20241120T143000
DTSTAMP:20260424T035502
CREATED:20240830T174957Z
LAST-MODIFIED:20250506T194226Z
UID:10000955-1732109400-1732113000@emmanuelunited.com
SUMMARY:Deeper Dive
DESCRIPTION:Join Rev’d Tom on for an opportunity to look a little deeper at the weekly message. ​ \nAll are welcome.
URL:https://emmanuelunited.com/event/deeper-dive-3/2024-11-20/
LOCATION:Emmanuel UC\, 420 Balmoral Drive\, Brampton\, Ontario\, Canada
CATEGORIES:Discipleship
ATTACH;FMTTYPE=image/jpeg:https://emmanuelunited.com/wp-content/uploads/2024/04/book-wisdom-mohamed-mahmoud-hassan-CC0-e1746560078172.jpg
END:VEVENT
BEGIN:VEVENT
DTSTART;TZID=America/Toronto:20241113T133000
DTEND;TZID=America/Toronto:20241113T143000
DTSTAMP:20260424T035502
CREATED:20240830T174957Z
LAST-MODIFIED:20250506T194226Z
UID:10000954-1731504600-1731508200@emmanuelunited.com
SUMMARY:Deeper Dive
DESCRIPTION:Join Rev’d Tom on for an opportunity to look a little deeper at the weekly message. ​ \nAll are welcome.
URL:https://emmanuelunited.com/event/deeper-dive-3/2024-11-13/
LOCATION:Emmanuel UC\, 420 Balmoral Drive\, Brampton\, Ontario\, Canada
CATEGORIES:Discipleship
ATTACH;FMTTYPE=image/jpeg:https://emmanuelunited.com/wp-content/uploads/2024/04/book-wisdom-mohamed-mahmoud-hassan-CC0-e1746560078172.jpg
END:VEVENT
BEGIN:VEVENT
DTSTART;TZID=America/Toronto:20241106T133000
DTEND;TZID=America/Toronto:20241106T143000
DTSTAMP:20260424T035502
CREATED:20240830T174957Z
LAST-MODIFIED:20250506T194226Z
UID:10000953-1730899800-1730903400@emmanuelunited.com
SUMMARY:Deeper Dive
DESCRIPTION:Join Rev’d Tom on for an opportunity to look a little deeper at the weekly message. ​ \nAll are welcome.
URL:https://emmanuelunited.com/event/deeper-dive-3/2024-11-06/
LOCATION:Emmanuel UC\, 420 Balmoral Drive\, Brampton\, Ontario\, Canada
CATEGORIES:Discipleship
ATTACH;FMTTYPE=image/jpeg:https://emmanuelunited.com/wp-content/uploads/2024/04/book-wisdom-mohamed-mahmoud-hassan-CC0-e1746560078172.jpg
END:VEVENT
BEGIN:VEVENT
DTSTART;TZID=America/Toronto:20241030T133000
DTEND;TZID=America/Toronto:20241030T143000
DTSTAMP:20260424T035502
CREATED:20240830T174957Z
LAST-MODIFIED:20250506T194226Z
UID:10000952-1730295000-1730298600@emmanuelunited.com
SUMMARY:Deeper Dive
DESCRIPTION:Join Rev’d Tom on for an opportunity to look a little deeper at the weekly message. ​ \nAll are welcome.
URL:https://emmanuelunited.com/event/deeper-dive-3/2024-10-30/
LOCATION:Emmanuel UC\, 420 Balmoral Drive\, Brampton\, Ontario\, Canada
CATEGORIES:Discipleship
ATTACH;FMTTYPE=image/jpeg:https://emmanuelunited.com/wp-content/uploads/2024/04/book-wisdom-mohamed-mahmoud-hassan-CC0-e1746560078172.jpg
END:VEVENT
BEGIN:VEVENT
DTSTART;TZID=America/Toronto:20241023T133000
DTEND;TZID=America/Toronto:20241023T143000
DTSTAMP:20260424T035502
CREATED:20240830T174957Z
LAST-MODIFIED:20250506T194226Z
UID:10000951-1729690200-1729693800@emmanuelunited.com
SUMMARY:Deeper Dive
DESCRIPTION:Join Rev’d Tom on for an opportunity to look a little deeper at the weekly message. ​ \nAll are welcome.
URL:https://emmanuelunited.com/event/deeper-dive-3/2024-10-23/
LOCATION:Emmanuel UC\, 420 Balmoral Drive\, Brampton\, Ontario\, Canada
CATEGORIES:Discipleship
ATTACH;FMTTYPE=image/jpeg:https://emmanuelunited.com/wp-content/uploads/2024/04/book-wisdom-mohamed-mahmoud-hassan-CC0-e1746560078172.jpg
END:VEVENT
BEGIN:VEVENT
DTSTART;TZID=America/Toronto:20241016T133000
DTEND;TZID=America/Toronto:20241016T143000
DTSTAMP:20260424T035502
CREATED:20240830T174957Z
LAST-MODIFIED:20250506T194226Z
UID:10000950-1729085400-1729089000@emmanuelunited.com
SUMMARY:Deeper Dive
DESCRIPTION:Join Rev’d Tom on for an opportunity to look a little deeper at the weekly message. ​ \nAll are welcome.
URL:https://emmanuelunited.com/event/deeper-dive-3/2024-10-16/
LOCATION:Emmanuel UC\, 420 Balmoral Drive\, Brampton\, Ontario\, Canada
CATEGORIES:Discipleship
ATTACH;FMTTYPE=image/jpeg:https://emmanuelunited.com/wp-content/uploads/2024/04/book-wisdom-mohamed-mahmoud-hassan-CC0-e1746560078172.jpg
END:VEVENT
BEGIN:VEVENT
DTSTART;TZID=America/Toronto:20241009T133000
DTEND;TZID=America/Toronto:20241009T143000
DTSTAMP:20260424T035502
CREATED:20240830T174957Z
LAST-MODIFIED:20250506T194226Z
UID:10000949-1728480600-1728484200@emmanuelunited.com
SUMMARY:Deeper Dive
DESCRIPTION:Join Rev’d Tom on for an opportunity to look a little deeper at the weekly message. ​ \nAll are welcome.
URL:https://emmanuelunited.com/event/deeper-dive-3/2024-10-09/
LOCATION:Emmanuel UC\, 420 Balmoral Drive\, Brampton\, Ontario\, Canada
CATEGORIES:Discipleship
ATTACH;FMTTYPE=image/jpeg:https://emmanuelunited.com/wp-content/uploads/2024/04/book-wisdom-mohamed-mahmoud-hassan-CC0-e1746560078172.jpg
END:VEVENT
BEGIN:VEVENT
DTSTART;TZID=America/Toronto:20241008T190000
DTEND;TZID=America/Toronto:20241008T203000
DTSTAMP:20260424T035502
CREATED:20240718T131138Z
LAST-MODIFIED:20240718T132617Z
UID:10000924-1728414000-1728419400@emmanuelunited.com
SUMMARY:"Difference" Learning Circle
DESCRIPTION:Navigating a divided and complex world can be hard. We encounter this our relationships\, in our communities and in our wider systems and structures. Many of us long to make a difference\, but often we don’t know how to respond or where to start. This is why Archbishop Justin Welby has brought together leading practitioners and thinkers to create Difference\, equipping you to cross divides\, navigate disagreement and pursue a just and flourishing world. \nPlease register at office@emmanuelunited.com to receive the participant’s guide. \nfrom the vision of the Difference course
URL:https://emmanuelunited.com/event/difference-learning-circle/2024-10-08/
LOCATION:Emmanuel UC\, 420 Balmoral Drive\, Brampton\, Ontario\, Canada
CATEGORIES:Discipleship
ATTACH;FMTTYPE=image/png:https://emmanuelunited.com/wp-content/uploads/2024/07/Session-1-Gods-Call-e1721308221459.png
END:VEVENT
BEGIN:VEVENT
DTSTART;TZID=America/Toronto:20241008T190000
DTEND;TZID=America/Toronto:20241008T203000
DTSTAMP:20260424T035502
CREATED:20240718T131138Z
LAST-MODIFIED:20240718T131138Z
UID:10001411-1728414000-1728419400@emmanuelunited.com
SUMMARY:"Difference" Learning Circle
DESCRIPTION:Navigating a divided and complex world can be hard. We encounter this our relationships\, in our communities and in our wider systems and structures. Many of us long to make a difference\, but often we don’t know how to respond or where to start. This is why Archbishop Justin Welby has brought together leading practitioners and thinkers to create Difference\, equipping you to cross divides\, navigate disagreement and pursue a just and flourishing world. \nPlease register at office@emmanuelunited.com to receive the participant’s guide. \nfrom the vision of the Difference course
URL:https://emmanuelunited.com/event/difference-learning-circle-2/2024-10-08/
LOCATION:Emmanuel UC\, 420 Balmoral Drive\, Brampton\, Ontario\, Canada
CATEGORIES:Discipleship
ATTACH;FMTTYPE=image/png:https://emmanuelunited.com/wp-content/uploads/2024/07/Session-1-Gods-Call-e1721308221459.png
END:VEVENT
BEGIN:VEVENT
DTSTART;TZID=America/Toronto:20241002T133000
DTEND;TZID=America/Toronto:20241002T143000
DTSTAMP:20260424T035502
CREATED:20240830T174957Z
LAST-MODIFIED:20250506T194226Z
UID:10000948-1727875800-1727879400@emmanuelunited.com
SUMMARY:Deeper Dive
DESCRIPTION:Join Rev’d Tom on for an opportunity to look a little deeper at the weekly message. ​ \nAll are welcome.
URL:https://emmanuelunited.com/event/deeper-dive-3/2024-10-02/
LOCATION:Emmanuel UC\, 420 Balmoral Drive\, Brampton\, Ontario\, Canada
CATEGORIES:Discipleship
ATTACH;FMTTYPE=image/jpeg:https://emmanuelunited.com/wp-content/uploads/2024/04/book-wisdom-mohamed-mahmoud-hassan-CC0-e1746560078172.jpg
END:VEVENT
BEGIN:VEVENT
DTSTART;TZID=America/Toronto:20241001T190000
DTEND;TZID=America/Toronto:20241001T203000
DTSTAMP:20260424T035502
CREATED:20240718T131138Z
LAST-MODIFIED:20240718T131138Z
UID:10001410-1727809200-1727814600@emmanuelunited.com
SUMMARY:"Difference" Learning Circle
DESCRIPTION:Navigating a divided and complex world can be hard. We encounter this our relationships\, in our communities and in our wider systems and structures. Many of us long to make a difference\, but often we don’t know how to respond or where to start. This is why Archbishop Justin Welby has brought together leading practitioners and thinkers to create Difference\, equipping you to cross divides\, navigate disagreement and pursue a just and flourishing world. \nPlease register at office@emmanuelunited.com to receive the participant’s guide. \nfrom the vision of the Difference course
URL:https://emmanuelunited.com/event/difference-learning-circle-2/2024-10-01/
LOCATION:Emmanuel UC\, 420 Balmoral Drive\, Brampton\, Ontario\, Canada
CATEGORIES:Discipleship
ATTACH;FMTTYPE=image/png:https://emmanuelunited.com/wp-content/uploads/2024/07/Session-1-Gods-Call-e1721308221459.png
END:VEVENT
BEGIN:VEVENT
DTSTART;TZID=America/Toronto:20241001T190000
DTEND;TZID=America/Toronto:20241001T203000
DTSTAMP:20260424T035502
CREATED:20240718T131138Z
LAST-MODIFIED:20240718T132617Z
UID:10000923-1727809200-1727814600@emmanuelunited.com
SUMMARY:"Difference" Learning Circle
DESCRIPTION:Navigating a divided and complex world can be hard. We encounter this our relationships\, in our communities and in our wider systems and structures. Many of us long to make a difference\, but often we don’t know how to respond or where to start. This is why Archbishop Justin Welby has brought together leading practitioners and thinkers to create Difference\, equipping you to cross divides\, navigate disagreement and pursue a just and flourishing world. \nPlease register at office@emmanuelunited.com to receive the participant’s guide. \nfrom the vision of the Difference course
URL:https://emmanuelunited.com/event/difference-learning-circle/2024-10-01/
LOCATION:Emmanuel UC\, 420 Balmoral Drive\, Brampton\, Ontario\, Canada
CATEGORIES:Discipleship
ATTACH;FMTTYPE=image/png:https://emmanuelunited.com/wp-content/uploads/2024/07/Session-1-Gods-Call-e1721308221459.png
END:VEVENT
BEGIN:VEVENT
DTSTART;TZID=America/Toronto:20240925T133000
DTEND;TZID=America/Toronto:20240925T143000
DTSTAMP:20260424T035502
CREATED:20240830T174957Z
LAST-MODIFIED:20250506T194226Z
UID:10000947-1727271000-1727274600@emmanuelunited.com
SUMMARY:Deeper Dive
DESCRIPTION:Join Rev’d Tom on for an opportunity to look a little deeper at the weekly message. ​ \nAll are welcome.
URL:https://emmanuelunited.com/event/deeper-dive-3/2024-09-25/
LOCATION:Emmanuel UC\, 420 Balmoral Drive\, Brampton\, Ontario\, Canada
CATEGORIES:Discipleship
ATTACH;FMTTYPE=image/jpeg:https://emmanuelunited.com/wp-content/uploads/2024/04/book-wisdom-mohamed-mahmoud-hassan-CC0-e1746560078172.jpg
END:VEVENT
BEGIN:VEVENT
DTSTART;TZID=America/Toronto:20240924T190000
DTEND;TZID=America/Toronto:20240924T203000
DTSTAMP:20260424T035502
CREATED:20240718T131138Z
LAST-MODIFIED:20240718T131138Z
UID:10001409-1727204400-1727209800@emmanuelunited.com
SUMMARY:"Difference" Learning Circle
DESCRIPTION:Navigating a divided and complex world can be hard. We encounter this our relationships\, in our communities and in our wider systems and structures. Many of us long to make a difference\, but often we don’t know how to respond or where to start. This is why Archbishop Justin Welby has brought together leading practitioners and thinkers to create Difference\, equipping you to cross divides\, navigate disagreement and pursue a just and flourishing world. \nPlease register at office@emmanuelunited.com to receive the participant’s guide. \nfrom the vision of the Difference course
URL:https://emmanuelunited.com/event/difference-learning-circle-2/2024-09-24/
LOCATION:Emmanuel UC\, 420 Balmoral Drive\, Brampton\, Ontario\, Canada
CATEGORIES:Discipleship
ATTACH;FMTTYPE=image/png:https://emmanuelunited.com/wp-content/uploads/2024/07/Session-1-Gods-Call-e1721308221459.png
END:VEVENT
BEGIN:VEVENT
DTSTART;TZID=America/Toronto:20240924T190000
DTEND;TZID=America/Toronto:20240924T203000
DTSTAMP:20260424T035502
CREATED:20240718T131138Z
LAST-MODIFIED:20240718T132617Z
UID:10000922-1727204400-1727209800@emmanuelunited.com
SUMMARY:"Difference" Learning Circle
DESCRIPTION:Navigating a divided and complex world can be hard. We encounter this our relationships\, in our communities and in our wider systems and structures. Many of us long to make a difference\, but often we don’t know how to respond or where to start. This is why Archbishop Justin Welby has brought together leading practitioners and thinkers to create Difference\, equipping you to cross divides\, navigate disagreement and pursue a just and flourishing world. \nPlease register at office@emmanuelunited.com to receive the participant’s guide. \nfrom the vision of the Difference course
URL:https://emmanuelunited.com/event/difference-learning-circle/2024-09-24/
LOCATION:Emmanuel UC\, 420 Balmoral Drive\, Brampton\, Ontario\, Canada
CATEGORIES:Discipleship
ATTACH;FMTTYPE=image/png:https://emmanuelunited.com/wp-content/uploads/2024/07/Session-1-Gods-Call-e1721308221459.png
END:VEVENT
BEGIN:VEVENT
DTSTART;TZID=America/Toronto:20240918T133000
DTEND;TZID=America/Toronto:20240918T143000
DTSTAMP:20260424T035502
CREATED:20240830T174957Z
LAST-MODIFIED:20250506T194226Z
UID:10000946-1726666200-1726669800@emmanuelunited.com
SUMMARY:Deeper Dive
DESCRIPTION:Join Rev’d Tom on for an opportunity to look a little deeper at the weekly message. ​ \nAll are welcome.
URL:https://emmanuelunited.com/event/deeper-dive-3/2024-09-18/
LOCATION:Emmanuel UC\, 420 Balmoral Drive\, Brampton\, Ontario\, Canada
CATEGORIES:Discipleship
ATTACH;FMTTYPE=image/jpeg:https://emmanuelunited.com/wp-content/uploads/2024/04/book-wisdom-mohamed-mahmoud-hassan-CC0-e1746560078172.jpg
END:VEVENT
BEGIN:VEVENT
DTSTART;TZID=America/Toronto:20240917T190000
DTEND;TZID=America/Toronto:20240917T203000
DTSTAMP:20260424T035502
CREATED:20240718T131138Z
LAST-MODIFIED:20240718T131138Z
UID:10001408-1726599600-1726605000@emmanuelunited.com
SUMMARY:"Difference" Learning Circle
DESCRIPTION:Navigating a divided and complex world can be hard. We encounter this our relationships\, in our communities and in our wider systems and structures. Many of us long to make a difference\, but often we don’t know how to respond or where to start. This is why Archbishop Justin Welby has brought together leading practitioners and thinkers to create Difference\, equipping you to cross divides\, navigate disagreement and pursue a just and flourishing world. \nPlease register at office@emmanuelunited.com to receive the participant’s guide. \nfrom the vision of the Difference course
URL:https://emmanuelunited.com/event/difference-learning-circle-2/2024-09-17/
LOCATION:Emmanuel UC\, 420 Balmoral Drive\, Brampton\, Ontario\, Canada
CATEGORIES:Discipleship
ATTACH;FMTTYPE=image/png:https://emmanuelunited.com/wp-content/uploads/2024/07/Session-1-Gods-Call-e1721308221459.png
END:VEVENT
BEGIN:VEVENT
DTSTART;TZID=America/Toronto:20240917T190000
DTEND;TZID=America/Toronto:20240917T203000
DTSTAMP:20260424T035502
CREATED:20240718T131138Z
LAST-MODIFIED:20240718T132617Z
UID:10000921-1726599600-1726605000@emmanuelunited.com
SUMMARY:"Difference" Learning Circle
DESCRIPTION:Navigating a divided and complex world can be hard. We encounter this our relationships\, in our communities and in our wider systems and structures. Many of us long to make a difference\, but often we don’t know how to respond or where to start. This is why Archbishop Justin Welby has brought together leading practitioners and thinkers to create Difference\, equipping you to cross divides\, navigate disagreement and pursue a just and flourishing world. \nPlease register at office@emmanuelunited.com to receive the participant’s guide. \nfrom the vision of the Difference course
URL:https://emmanuelunited.com/event/difference-learning-circle/2024-09-17/
LOCATION:Emmanuel UC\, 420 Balmoral Drive\, Brampton\, Ontario\, Canada
CATEGORIES:Discipleship
ATTACH;FMTTYPE=image/png:https://emmanuelunited.com/wp-content/uploads/2024/07/Session-1-Gods-Call-e1721308221459.png
END:VEVENT
BEGIN:VEVENT
DTSTART;TZID=America/Toronto:20240911T133000
DTEND;TZID=America/Toronto:20240911T143000
DTSTAMP:20260424T035502
CREATED:20240830T174957Z
LAST-MODIFIED:20250506T194226Z
UID:10000945-1726061400-1726065000@emmanuelunited.com
SUMMARY:Deeper Dive
DESCRIPTION:Join Rev’d Tom on for an opportunity to look a little deeper at the weekly message. ​ \nAll are welcome.
URL:https://emmanuelunited.com/event/deeper-dive-3/2024-09-11/
LOCATION:Emmanuel UC\, 420 Balmoral Drive\, Brampton\, Ontario\, Canada
CATEGORIES:Discipleship
ATTACH;FMTTYPE=image/jpeg:https://emmanuelunited.com/wp-content/uploads/2024/04/book-wisdom-mohamed-mahmoud-hassan-CC0-e1746560078172.jpg
END:VEVENT
BEGIN:VEVENT
DTSTART;TZID=America/Toronto:20240910T190000
DTEND;TZID=America/Toronto:20240910T203000
DTSTAMP:20260424T035502
CREATED:20240718T131138Z
LAST-MODIFIED:20240718T131138Z
UID:10001407-1725994800-1726000200@emmanuelunited.com
SUMMARY:"Difference" Learning Circle
DESCRIPTION:Navigating a divided and complex world can be hard. We encounter this our relationships\, in our communities and in our wider systems and structures. Many of us long to make a difference\, but often we don’t know how to respond or where to start. This is why Archbishop Justin Welby has brought together leading practitioners and thinkers to create Difference\, equipping you to cross divides\, navigate disagreement and pursue a just and flourishing world. \nPlease register at office@emmanuelunited.com to receive the participant’s guide. \nfrom the vision of the Difference course
URL:https://emmanuelunited.com/event/difference-learning-circle-2/2024-09-10/
LOCATION:Emmanuel UC\, 420 Balmoral Drive\, Brampton\, Ontario\, Canada
CATEGORIES:Discipleship
ATTACH;FMTTYPE=image/png:https://emmanuelunited.com/wp-content/uploads/2024/07/Session-1-Gods-Call-e1721308221459.png
END:VEVENT
BEGIN:VEVENT
DTSTART;TZID=America/Toronto:20240910T190000
DTEND;TZID=America/Toronto:20240910T203000
DTSTAMP:20260424T035502
CREATED:20240718T131138Z
LAST-MODIFIED:20240718T132617Z
UID:10000920-1725994800-1726000200@emmanuelunited.com
SUMMARY:"Difference" Learning Circle
DESCRIPTION:Navigating a divided and complex world can be hard. We encounter this our relationships\, in our communities and in our wider systems and structures. Many of us long to make a difference\, but often we don’t know how to respond or where to start. This is why Archbishop Justin Welby has brought together leading practitioners and thinkers to create Difference\, equipping you to cross divides\, navigate disagreement and pursue a just and flourishing world. \nPlease register at office@emmanuelunited.com to receive the participant’s guide. \nfrom the vision of the Difference course
URL:https://emmanuelunited.com/event/difference-learning-circle/2024-09-10/
LOCATION:Emmanuel UC\, 420 Balmoral Drive\, Brampton\, Ontario\, Canada
CATEGORIES:Discipleship
ATTACH;FMTTYPE=image/png:https://emmanuelunited.com/wp-content/uploads/2024/07/Session-1-Gods-Call-e1721308221459.png
END:VEVENT
BEGIN:VEVENT
DTSTART;TZID=America/Toronto:20240904T133000
DTEND;TZID=America/Toronto:20240904T143000
DTSTAMP:20260424T035502
CREATED:20240830T174957Z
LAST-MODIFIED:20250506T194226Z
UID:10000571-1725456600-1725460200@emmanuelunited.com
SUMMARY:Deeper Dive
DESCRIPTION:Join Rev’d Tom on for an opportunity to look a little deeper at the weekly message. ​ \nAll are welcome.
URL:https://emmanuelunited.com/event/deeper-dive-3/2024-09-04/
LOCATION:Emmanuel UC\, 420 Balmoral Drive\, Brampton\, Ontario\, Canada
CATEGORIES:Discipleship
ATTACH;FMTTYPE=image/jpeg:https://emmanuelunited.com/wp-content/uploads/2024/04/book-wisdom-mohamed-mahmoud-hassan-CC0-e1746560078172.jpg
END:VEVENT
BEGIN:VEVENT
DTSTART;TZID=America/Toronto:20240717T133000
DTEND;TZID=America/Toronto:20240717T143000
DTSTAMP:20260424T035502
CREATED:20240411T164523Z
LAST-MODIFIED:20240411T164523Z
UID:10001384-1721223000-1721226600@emmanuelunited.com
SUMMARY:Deeper Dive
DESCRIPTION:Wednesdays – 1:30pm​ \nJoin Rev’d Tom on for an opportunity to look a little deeper at the weekly message. ​ \nAll are welcome.
URL:https://emmanuelunited.com/event/deeper-dive-4/2024-07-17/
LOCATION:Emmanuel UC\, 420 Balmoral Drive\, Brampton\, Ontario\, Canada
CATEGORIES:Discipleship
ATTACH;FMTTYPE=image/jpeg:https://emmanuelunited.com/wp-content/uploads/2024/04/book-wisdom-mohamed-mahmoud-hassan-CC0-e1746560078172.jpg
END:VEVENT
BEGIN:VEVENT
DTSTART;TZID=America/Toronto:20240717T133000
DTEND;TZID=America/Toronto:20240717T143000
DTSTAMP:20260424T035502
CREATED:20240411T164523Z
LAST-MODIFIED:20240501T144437Z
UID:10000570-1721223000-1721226600@emmanuelunited.com
SUMMARY:Deeper Dive
DESCRIPTION:Wednesdays – 1:30pm​ \nJoin Rev’d Tom on for an opportunity to look a little deeper at the weekly message. ​ \nAll are welcome.
URL:https://emmanuelunited.com/event/deeper-dive/2024-07-17/
LOCATION:Emmanuel UC\, 420 Balmoral Drive\, Brampton\, Ontario\, Canada
CATEGORIES:Discipleship
ATTACH;FMTTYPE=image/jpeg:https://emmanuelunited.com/wp-content/uploads/2024/04/book-wisdom-mohamed-mahmoud-hassan-CC0-e1746560078172.jpg
END:VEVENT
BEGIN:VEVENT
DTSTART;TZID=America/Toronto:20240715T190000
DTEND;TZID=America/Toronto:20240715T203000
DTSTAMP:20260424T035502
CREATED:20240508T142610Z
LAST-MODIFIED:20240508T142610Z
UID:10001398-1721070000-1721075400@emmanuelunited.com
SUMMARY:"Revelation for Normal People" Book Study
DESCRIPTION:John’s Book of Revelation (or “The Apocalypse of St. John”) is a book full of scary images\, prophecies of doom and destruction\, and a lot of material that will never be part of a Sunday school lesson. It’s a book that has fascinated and terrified the follower of Jesus since “John” first wrote it. People have made connections between the events in Revelation to modern events\, from wars in the Middle East to barcodes and “chemtrails”. \nWho is this enigmatic figure whose work has captured our attention and imagination for centuries? Why did he write this narrative of fear\, and to whom? Join us as Rev’d Tom takes us on a journey through this book\, using “Revelation for Normal People” by Robyn J. Whittaker as a guide. \nThe book is available for purchase online\, or through the office by pre-registering for the course. Financial aid is available if required to buy the book. \nPhoto by Alexis Brown on Unsplash.
URL:https://emmanuelunited.com/event/revelation-for-normal-people-book-study-2/2024-07-15/
LOCATION:Emmanuel UC\, 420 Balmoral Drive\, Brampton\, Ontario\, Canada
CATEGORIES:Discipleship
ATTACH;FMTTYPE=image/jpeg:https://emmanuelunited.com/wp-content/uploads/2024/05/alexis-brown-omeaHbEFlN4-unsplash.jpg
END:VEVENT
BEGIN:VEVENT
DTSTART;TZID=America/Toronto:20240715T190000
DTEND;TZID=America/Toronto:20240715T203000
DTSTAMP:20260424T035502
CREATED:20240508T142610Z
LAST-MODIFIED:20240508T142610Z
UID:10000844-1721070000-1721075400@emmanuelunited.com
SUMMARY:"Revelation for Normal People" Book Study
DESCRIPTION:John’s Book of Revelation (or “The Apocalypse of St. John”) is a book full of scary images\, prophecies of doom and destruction\, and a lot of material that will never be part of a Sunday school lesson. It’s a book that has fascinated and terrified the follower of Jesus since “John” first wrote it. People have made connections between the events in Revelation to modern events\, from wars in the Middle East to barcodes and “chemtrails”. \nWho is this enigmatic figure whose work has captured our attention and imagination for centuries? Why did he write this narrative of fear\, and to whom? Join us as Rev’d Tom takes us on a journey through this book\, using “Revelation for Normal People” by Robyn J. Whittaker as a guide. \nThe book is available for purchase online\, or through the office by pre-registering for the course. Financial aid is available if required to buy the book. \nPhoto by Alexis Brown on Unsplash.
URL:https://emmanuelunited.com/event/revelation-for-normal-people-book-study/2024-07-15/
LOCATION:Emmanuel UC\, 420 Balmoral Drive\, Brampton\, Ontario\, Canada
CATEGORIES:Discipleship
ATTACH;FMTTYPE=image/jpeg:https://emmanuelunited.com/wp-content/uploads/2024/05/alexis-brown-omeaHbEFlN4-unsplash.jpg
END:VEVENT
END:VCALENDAR