BEGIN:VCALENDAR
VERSION:2.0
PRODID:-//Emmanuel United Church, Brampton - ECPv6.15.20//NONSGML v1.0//EN
CALSCALE:GREGORIAN
METHOD:PUBLISH
X-ORIGINAL-URL:https://emmanuelunited.com
X-WR-CALDESC:Events for Emmanuel United Church, Brampton
REFRESH-INTERVAL;VALUE=DURATION:PT1H
X-Robots-Tag:noindex
X-PUBLISHED-TTL:PT1H
BEGIN:VTIMEZONE
TZID:America/Toronto
BEGIN:DAYLIGHT
TZOFFSETFROM:-0500
TZOFFSETTO:-0400
TZNAME:EDT
DTSTART:20250309T070000
END:DAYLIGHT
BEGIN:STANDARD
TZOFFSETFROM:-0400
TZOFFSETTO:-0500
TZNAME:EST
DTSTART:20251102T060000
END:STANDARD
BEGIN:DAYLIGHT
TZOFFSETFROM:-0500
TZOFFSETTO:-0400
TZNAME:EDT
DTSTART:20260308T070000
END:DAYLIGHT
BEGIN:STANDARD
TZOFFSETFROM:-0400
TZOFFSETTO:-0500
TZNAME:EST
DTSTART:20261101T060000
END:STANDARD
BEGIN:DAYLIGHT
TZOFFSETFROM:-0500
TZOFFSETTO:-0400
TZNAME:EDT
DTSTART:20270314T070000
END:DAYLIGHT
BEGIN:STANDARD
TZOFFSETFROM:-0400
TZOFFSETTO:-0500
TZNAME:EST
DTSTART:20271107T060000
END:STANDARD
BEGIN:DAYLIGHT
TZOFFSETFROM:-0500
TZOFFSETTO:-0400
TZNAME:EDT
DTSTART:20280312T070000
END:DAYLIGHT
BEGIN:STANDARD
TZOFFSETFROM:-0400
TZOFFSETTO:-0500
TZNAME:EST
DTSTART:20281105T060000
END:STANDARD
END:VTIMEZONE
BEGIN:VEVENT
DTSTART;TZID=America/Toronto:20261014T133000
DTEND;TZID=America/Toronto:20261014T143000
DTSTAMP:20260423T181629
CREATED:20250910T145921Z
LAST-MODIFIED:20260304T160851Z
UID:10001054-1791984600-1791988200@emmanuelunited.com
SUMMARY:Deeper Dive
DESCRIPTION:
URL:https://emmanuelunited.com/event/deeper-dive-3-2/2026-10-14/
LOCATION:Emmanuel UC\, 420 Balmoral Drive\, Brampton\, Ontario\, Canada
CATEGORIES:Discipleship
ATTACH;FMTTYPE=image/jpeg:https://emmanuelunited.com/wp-content/uploads/2024/04/book-wisdom-mohamed-mahmoud-hassan-CC0-e1746560078172.jpg
END:VEVENT
BEGIN:VEVENT
DTSTART;TZID=America/Toronto:20261021T133000
DTEND;TZID=America/Toronto:20261021T143000
DTSTAMP:20260423T181629
CREATED:20250910T145921Z
LAST-MODIFIED:20260304T160851Z
UID:10001055-1792589400-1792593000@emmanuelunited.com
SUMMARY:Deeper Dive
DESCRIPTION:
URL:https://emmanuelunited.com/event/deeper-dive-3-2/2026-10-21/
LOCATION:Emmanuel UC\, 420 Balmoral Drive\, Brampton\, Ontario\, Canada
CATEGORIES:Discipleship
ATTACH;FMTTYPE=image/jpeg:https://emmanuelunited.com/wp-content/uploads/2024/04/book-wisdom-mohamed-mahmoud-hassan-CC0-e1746560078172.jpg
END:VEVENT
BEGIN:VEVENT
DTSTART;TZID=America/Toronto:20261028T133000
DTEND;TZID=America/Toronto:20261028T143000
DTSTAMP:20260423T181629
CREATED:20250910T145921Z
LAST-MODIFIED:20260304T160851Z
UID:10001056-1793194200-1793197800@emmanuelunited.com
SUMMARY:Deeper Dive
DESCRIPTION:
URL:https://emmanuelunited.com/event/deeper-dive-3-2/2026-10-28/
LOCATION:Emmanuel UC\, 420 Balmoral Drive\, Brampton\, Ontario\, Canada
CATEGORIES:Discipleship
ATTACH;FMTTYPE=image/jpeg:https://emmanuelunited.com/wp-content/uploads/2024/04/book-wisdom-mohamed-mahmoud-hassan-CC0-e1746560078172.jpg
END:VEVENT
BEGIN:VEVENT
DTSTART;TZID=America/Toronto:20261104T133000
DTEND;TZID=America/Toronto:20261104T143000
DTSTAMP:20260423T181629
CREATED:20250910T145921Z
LAST-MODIFIED:20260304T160851Z
UID:10001057-1793799000-1793802600@emmanuelunited.com
SUMMARY:Deeper Dive
DESCRIPTION:
URL:https://emmanuelunited.com/event/deeper-dive-3-2/2026-11-04/
LOCATION:Emmanuel UC\, 420 Balmoral Drive\, Brampton\, Ontario\, Canada
CATEGORIES:Discipleship
ATTACH;FMTTYPE=image/jpeg:https://emmanuelunited.com/wp-content/uploads/2024/04/book-wisdom-mohamed-mahmoud-hassan-CC0-e1746560078172.jpg
END:VEVENT
BEGIN:VEVENT
DTSTART;TZID=America/Toronto:20261111T133000
DTEND;TZID=America/Toronto:20261111T143000
DTSTAMP:20260423T181629
CREATED:20250910T145921Z
LAST-MODIFIED:20260304T160851Z
UID:10001058-1794403800-1794407400@emmanuelunited.com
SUMMARY:Deeper Dive
DESCRIPTION:
URL:https://emmanuelunited.com/event/deeper-dive-3-2/2026-11-11/
LOCATION:Emmanuel UC\, 420 Balmoral Drive\, Brampton\, Ontario\, Canada
CATEGORIES:Discipleship
ATTACH;FMTTYPE=image/jpeg:https://emmanuelunited.com/wp-content/uploads/2024/04/book-wisdom-mohamed-mahmoud-hassan-CC0-e1746560078172.jpg
END:VEVENT
BEGIN:VEVENT
DTSTART;TZID=America/Toronto:20261118T133000
DTEND;TZID=America/Toronto:20261118T143000
DTSTAMP:20260423T181629
CREATED:20250910T145921Z
LAST-MODIFIED:20260304T160851Z
UID:10001059-1795008600-1795012200@emmanuelunited.com
SUMMARY:Deeper Dive
DESCRIPTION:
URL:https://emmanuelunited.com/event/deeper-dive-3-2/2026-11-18/
LOCATION:Emmanuel UC\, 420 Balmoral Drive\, Brampton\, Ontario\, Canada
CATEGORIES:Discipleship
ATTACH;FMTTYPE=image/jpeg:https://emmanuelunited.com/wp-content/uploads/2024/04/book-wisdom-mohamed-mahmoud-hassan-CC0-e1746560078172.jpg
END:VEVENT
BEGIN:VEVENT
DTSTART;TZID=America/Toronto:20261125T133000
DTEND;TZID=America/Toronto:20261125T143000
DTSTAMP:20260423T181629
CREATED:20250910T145921Z
LAST-MODIFIED:20260304T160851Z
UID:10001060-1795613400-1795617000@emmanuelunited.com
SUMMARY:Deeper Dive
DESCRIPTION:
URL:https://emmanuelunited.com/event/deeper-dive-3-2/2026-11-25/
LOCATION:Emmanuel UC\, 420 Balmoral Drive\, Brampton\, Ontario\, Canada
CATEGORIES:Discipleship
ATTACH;FMTTYPE=image/jpeg:https://emmanuelunited.com/wp-content/uploads/2024/04/book-wisdom-mohamed-mahmoud-hassan-CC0-e1746560078172.jpg
END:VEVENT
BEGIN:VEVENT
DTSTART;TZID=America/Toronto:20261202T133000
DTEND;TZID=America/Toronto:20261202T143000
DTSTAMP:20260423T181629
CREATED:20250910T145921Z
LAST-MODIFIED:20260304T160851Z
UID:10001061-1796218200-1796221800@emmanuelunited.com
SUMMARY:Deeper Dive
DESCRIPTION:
URL:https://emmanuelunited.com/event/deeper-dive-3-2/2026-12-02/
LOCATION:Emmanuel UC\, 420 Balmoral Drive\, Brampton\, Ontario\, Canada
CATEGORIES:Discipleship
ATTACH;FMTTYPE=image/jpeg:https://emmanuelunited.com/wp-content/uploads/2024/04/book-wisdom-mohamed-mahmoud-hassan-CC0-e1746560078172.jpg
END:VEVENT
BEGIN:VEVENT
DTSTART;TZID=America/Toronto:20261209T133000
DTEND;TZID=America/Toronto:20261209T143000
DTSTAMP:20260423T181629
CREATED:20250910T145921Z
LAST-MODIFIED:20260304T160851Z
UID:10001062-1796823000-1796826600@emmanuelunited.com
SUMMARY:Deeper Dive
DESCRIPTION:
URL:https://emmanuelunited.com/event/deeper-dive-3-2/2026-12-09/
LOCATION:Emmanuel UC\, 420 Balmoral Drive\, Brampton\, Ontario\, Canada
CATEGORIES:Discipleship
ATTACH;FMTTYPE=image/jpeg:https://emmanuelunited.com/wp-content/uploads/2024/04/book-wisdom-mohamed-mahmoud-hassan-CC0-e1746560078172.jpg
END:VEVENT
BEGIN:VEVENT
DTSTART;TZID=America/Toronto:20261216T133000
DTEND;TZID=America/Toronto:20261216T143000
DTSTAMP:20260423T181629
CREATED:20250910T145921Z
LAST-MODIFIED:20260304T160851Z
UID:10001063-1797427800-1797431400@emmanuelunited.com
SUMMARY:Deeper Dive
DESCRIPTION:
URL:https://emmanuelunited.com/event/deeper-dive-3-2/2026-12-16/
LOCATION:Emmanuel UC\, 420 Balmoral Drive\, Brampton\, Ontario\, Canada
CATEGORIES:Discipleship
ATTACH;FMTTYPE=image/jpeg:https://emmanuelunited.com/wp-content/uploads/2024/04/book-wisdom-mohamed-mahmoud-hassan-CC0-e1746560078172.jpg
END:VEVENT
BEGIN:VEVENT
DTSTART;TZID=America/Toronto:20261223T133000
DTEND;TZID=America/Toronto:20261223T143000
DTSTAMP:20260423T181629
CREATED:20250910T145921Z
LAST-MODIFIED:20260304T160851Z
UID:10001064-1798032600-1798036200@emmanuelunited.com
SUMMARY:Deeper Dive
DESCRIPTION:
URL:https://emmanuelunited.com/event/deeper-dive-3-2/2026-12-23/
LOCATION:Emmanuel UC\, 420 Balmoral Drive\, Brampton\, Ontario\, Canada
CATEGORIES:Discipleship
ATTACH;FMTTYPE=image/jpeg:https://emmanuelunited.com/wp-content/uploads/2024/04/book-wisdom-mohamed-mahmoud-hassan-CC0-e1746560078172.jpg
END:VEVENT
BEGIN:VEVENT
DTSTART;TZID=America/Toronto:20261230T133000
DTEND;TZID=America/Toronto:20261230T143000
DTSTAMP:20260423T181629
CREATED:20250910T145921Z
LAST-MODIFIED:20260304T160851Z
UID:10001065-1798637400-1798641000@emmanuelunited.com
SUMMARY:Deeper Dive
DESCRIPTION:
URL:https://emmanuelunited.com/event/deeper-dive-3-2/2026-12-30/
LOCATION:Emmanuel UC\, 420 Balmoral Drive\, Brampton\, Ontario\, Canada
CATEGORIES:Discipleship
ATTACH;FMTTYPE=image/jpeg:https://emmanuelunited.com/wp-content/uploads/2024/04/book-wisdom-mohamed-mahmoud-hassan-CC0-e1746560078172.jpg
END:VEVENT
BEGIN:VEVENT
DTSTART;TZID=America/Toronto:20270106T133000
DTEND;TZID=America/Toronto:20270106T143000
DTSTAMP:20260423T181629
CREATED:20250910T145921Z
LAST-MODIFIED:20260304T160851Z
UID:10001066-1799242200-1799245800@emmanuelunited.com
SUMMARY:Deeper Dive
DESCRIPTION:
URL:https://emmanuelunited.com/event/deeper-dive-3-2/2027-01-06/
LOCATION:Emmanuel UC\, 420 Balmoral Drive\, Brampton\, Ontario\, Canada
CATEGORIES:Discipleship
ATTACH;FMTTYPE=image/jpeg:https://emmanuelunited.com/wp-content/uploads/2024/04/book-wisdom-mohamed-mahmoud-hassan-CC0-e1746560078172.jpg
END:VEVENT
BEGIN:VEVENT
DTSTART;TZID=America/Toronto:20270113T133000
DTEND;TZID=America/Toronto:20270113T143000
DTSTAMP:20260423T181629
CREATED:20250910T145921Z
LAST-MODIFIED:20260304T160851Z
UID:10001067-1799847000-1799850600@emmanuelunited.com
SUMMARY:Deeper Dive
DESCRIPTION:
URL:https://emmanuelunited.com/event/deeper-dive-3-2/2027-01-13/
LOCATION:Emmanuel UC\, 420 Balmoral Drive\, Brampton\, Ontario\, Canada
CATEGORIES:Discipleship
ATTACH;FMTTYPE=image/jpeg:https://emmanuelunited.com/wp-content/uploads/2024/04/book-wisdom-mohamed-mahmoud-hassan-CC0-e1746560078172.jpg
END:VEVENT
BEGIN:VEVENT
DTSTART;TZID=America/Toronto:20270120T133000
DTEND;TZID=America/Toronto:20270120T143000
DTSTAMP:20260423T181629
CREATED:20250910T145921Z
LAST-MODIFIED:20260304T160851Z
UID:10001068-1800451800-1800455400@emmanuelunited.com
SUMMARY:Deeper Dive
DESCRIPTION:
URL:https://emmanuelunited.com/event/deeper-dive-3-2/2027-01-20/
LOCATION:Emmanuel UC\, 420 Balmoral Drive\, Brampton\, Ontario\, Canada
CATEGORIES:Discipleship
ATTACH;FMTTYPE=image/jpeg:https://emmanuelunited.com/wp-content/uploads/2024/04/book-wisdom-mohamed-mahmoud-hassan-CC0-e1746560078172.jpg
END:VEVENT
BEGIN:VEVENT
DTSTART;TZID=America/Toronto:20270127T133000
DTEND;TZID=America/Toronto:20270127T143000
DTSTAMP:20260423T181629
CREATED:20250910T145921Z
LAST-MODIFIED:20260304T160851Z
UID:10001069-1801056600-1801060200@emmanuelunited.com
SUMMARY:Deeper Dive
DESCRIPTION:
URL:https://emmanuelunited.com/event/deeper-dive-3-2/2027-01-27/
LOCATION:Emmanuel UC\, 420 Balmoral Drive\, Brampton\, Ontario\, Canada
CATEGORIES:Discipleship
ATTACH;FMTTYPE=image/jpeg:https://emmanuelunited.com/wp-content/uploads/2024/04/book-wisdom-mohamed-mahmoud-hassan-CC0-e1746560078172.jpg
END:VEVENT
BEGIN:VEVENT
DTSTART;TZID=America/Toronto:20270203T133000
DTEND;TZID=America/Toronto:20270203T143000
DTSTAMP:20260423T181629
CREATED:20250910T145921Z
LAST-MODIFIED:20260304T160851Z
UID:10001070-1801661400-1801665000@emmanuelunited.com
SUMMARY:Deeper Dive
DESCRIPTION:
URL:https://emmanuelunited.com/event/deeper-dive-3-2/2027-02-03/
LOCATION:Emmanuel UC\, 420 Balmoral Drive\, Brampton\, Ontario\, Canada
CATEGORIES:Discipleship
ATTACH;FMTTYPE=image/jpeg:https://emmanuelunited.com/wp-content/uploads/2024/04/book-wisdom-mohamed-mahmoud-hassan-CC0-e1746560078172.jpg
END:VEVENT
BEGIN:VEVENT
DTSTART;TZID=America/Toronto:20270210T133000
DTEND;TZID=America/Toronto:20270210T143000
DTSTAMP:20260423T181629
CREATED:20250910T145921Z
LAST-MODIFIED:20260304T160851Z
UID:10001071-1802266200-1802269800@emmanuelunited.com
SUMMARY:Deeper Dive
DESCRIPTION:
URL:https://emmanuelunited.com/event/deeper-dive-3-2/2027-02-10/
LOCATION:Emmanuel UC\, 420 Balmoral Drive\, Brampton\, Ontario\, Canada
CATEGORIES:Discipleship
ATTACH;FMTTYPE=image/jpeg:https://emmanuelunited.com/wp-content/uploads/2024/04/book-wisdom-mohamed-mahmoud-hassan-CC0-e1746560078172.jpg
END:VEVENT
BEGIN:VEVENT
DTSTART;TZID=America/Toronto:20270217T133000
DTEND;TZID=America/Toronto:20270217T143000
DTSTAMP:20260423T181629
CREATED:20250910T145921Z
LAST-MODIFIED:20260304T160851Z
UID:10001072-1802871000-1802874600@emmanuelunited.com
SUMMARY:Deeper Dive
DESCRIPTION:
URL:https://emmanuelunited.com/event/deeper-dive-3-2/2027-02-17/
LOCATION:Emmanuel UC\, 420 Balmoral Drive\, Brampton\, Ontario\, Canada
CATEGORIES:Discipleship
ATTACH;FMTTYPE=image/jpeg:https://emmanuelunited.com/wp-content/uploads/2024/04/book-wisdom-mohamed-mahmoud-hassan-CC0-e1746560078172.jpg
END:VEVENT
BEGIN:VEVENT
DTSTART;TZID=America/Toronto:20270224T133000
DTEND;TZID=America/Toronto:20270224T143000
DTSTAMP:20260423T181629
CREATED:20250910T145921Z
LAST-MODIFIED:20260304T160851Z
UID:10001073-1803475800-1803479400@emmanuelunited.com
SUMMARY:Deeper Dive
DESCRIPTION:
URL:https://emmanuelunited.com/event/deeper-dive-3-2/2027-02-24/
LOCATION:Emmanuel UC\, 420 Balmoral Drive\, Brampton\, Ontario\, Canada
CATEGORIES:Discipleship
ATTACH;FMTTYPE=image/jpeg:https://emmanuelunited.com/wp-content/uploads/2024/04/book-wisdom-mohamed-mahmoud-hassan-CC0-e1746560078172.jpg
END:VEVENT
BEGIN:VEVENT
DTSTART;TZID=America/Toronto:20270303T133000
DTEND;TZID=America/Toronto:20270303T143000
DTSTAMP:20260423T181629
CREATED:20250910T145921Z
LAST-MODIFIED:20260304T160851Z
UID:10001074-1804080600-1804084200@emmanuelunited.com
SUMMARY:Deeper Dive
DESCRIPTION:
URL:https://emmanuelunited.com/event/deeper-dive-3-2/2027-03-03/
LOCATION:Emmanuel UC\, 420 Balmoral Drive\, Brampton\, Ontario\, Canada
CATEGORIES:Discipleship
ATTACH;FMTTYPE=image/jpeg:https://emmanuelunited.com/wp-content/uploads/2024/04/book-wisdom-mohamed-mahmoud-hassan-CC0-e1746560078172.jpg
END:VEVENT
BEGIN:VEVENT
DTSTART;TZID=America/Toronto:20270310T133000
DTEND;TZID=America/Toronto:20270310T143000
DTSTAMP:20260423T181629
CREATED:20250910T145921Z
LAST-MODIFIED:20260304T160851Z
UID:10001075-1804685400-1804689000@emmanuelunited.com
SUMMARY:Deeper Dive
DESCRIPTION:
URL:https://emmanuelunited.com/event/deeper-dive-3-2/2027-03-10/
LOCATION:Emmanuel UC\, 420 Balmoral Drive\, Brampton\, Ontario\, Canada
CATEGORIES:Discipleship
ATTACH;FMTTYPE=image/jpeg:https://emmanuelunited.com/wp-content/uploads/2024/04/book-wisdom-mohamed-mahmoud-hassan-CC0-e1746560078172.jpg
END:VEVENT
BEGIN:VEVENT
DTSTART;TZID=America/Toronto:20270317T133000
DTEND;TZID=America/Toronto:20270317T143000
DTSTAMP:20260423T181629
CREATED:20250910T145921Z
LAST-MODIFIED:20260304T160851Z
UID:10001076-1805290200-1805293800@emmanuelunited.com
SUMMARY:Deeper Dive
DESCRIPTION:
URL:https://emmanuelunited.com/event/deeper-dive-3-2/2027-03-17/
LOCATION:Emmanuel UC\, 420 Balmoral Drive\, Brampton\, Ontario\, Canada
CATEGORIES:Discipleship
ATTACH;FMTTYPE=image/jpeg:https://emmanuelunited.com/wp-content/uploads/2024/04/book-wisdom-mohamed-mahmoud-hassan-CC0-e1746560078172.jpg
END:VEVENT
BEGIN:VEVENT
DTSTART;TZID=America/Toronto:20270324T133000
DTEND;TZID=America/Toronto:20270324T143000
DTSTAMP:20260423T181629
CREATED:20250910T145921Z
LAST-MODIFIED:20260304T160851Z
UID:10001077-1805895000-1805898600@emmanuelunited.com
SUMMARY:Deeper Dive
DESCRIPTION:
URL:https://emmanuelunited.com/event/deeper-dive-3-2/2027-03-24/
LOCATION:Emmanuel UC\, 420 Balmoral Drive\, Brampton\, Ontario\, Canada
CATEGORIES:Discipleship
ATTACH;FMTTYPE=image/jpeg:https://emmanuelunited.com/wp-content/uploads/2024/04/book-wisdom-mohamed-mahmoud-hassan-CC0-e1746560078172.jpg
END:VEVENT
BEGIN:VEVENT
DTSTART;TZID=America/Toronto:20270331T133000
DTEND;TZID=America/Toronto:20270331T143000
DTSTAMP:20260423T181629
CREATED:20250910T145921Z
LAST-MODIFIED:20260304T160851Z
UID:10001078-1806499800-1806503400@emmanuelunited.com
SUMMARY:Deeper Dive
DESCRIPTION:
URL:https://emmanuelunited.com/event/deeper-dive-3-2/2027-03-31/
LOCATION:Emmanuel UC\, 420 Balmoral Drive\, Brampton\, Ontario\, Canada
CATEGORIES:Discipleship
ATTACH;FMTTYPE=image/jpeg:https://emmanuelunited.com/wp-content/uploads/2024/04/book-wisdom-mohamed-mahmoud-hassan-CC0-e1746560078172.jpg
END:VEVENT
BEGIN:VEVENT
DTSTART;TZID=America/Toronto:20270407T133000
DTEND;TZID=America/Toronto:20270407T143000
DTSTAMP:20260423T181629
CREATED:20250910T145921Z
LAST-MODIFIED:20260304T160851Z
UID:10001079-1807104600-1807108200@emmanuelunited.com
SUMMARY:Deeper Dive
DESCRIPTION:
URL:https://emmanuelunited.com/event/deeper-dive-3-2/2027-04-07/
LOCATION:Emmanuel UC\, 420 Balmoral Drive\, Brampton\, Ontario\, Canada
CATEGORIES:Discipleship
ATTACH;FMTTYPE=image/jpeg:https://emmanuelunited.com/wp-content/uploads/2024/04/book-wisdom-mohamed-mahmoud-hassan-CC0-e1746560078172.jpg
END:VEVENT
BEGIN:VEVENT
DTSTART;TZID=America/Toronto:20270414T133000
DTEND;TZID=America/Toronto:20270414T143000
DTSTAMP:20260423T181629
CREATED:20250910T145921Z
LAST-MODIFIED:20260304T160851Z
UID:10001080-1807709400-1807713000@emmanuelunited.com
SUMMARY:Deeper Dive
DESCRIPTION:
URL:https://emmanuelunited.com/event/deeper-dive-3-2/2027-04-14/
LOCATION:Emmanuel UC\, 420 Balmoral Drive\, Brampton\, Ontario\, Canada
CATEGORIES:Discipleship
ATTACH;FMTTYPE=image/jpeg:https://emmanuelunited.com/wp-content/uploads/2024/04/book-wisdom-mohamed-mahmoud-hassan-CC0-e1746560078172.jpg
END:VEVENT
BEGIN:VEVENT
DTSTART;TZID=America/Toronto:20270421T133000
DTEND;TZID=America/Toronto:20270421T143000
DTSTAMP:20260423T181629
CREATED:20250910T145921Z
LAST-MODIFIED:20260304T160851Z
UID:10001081-1808314200-1808317800@emmanuelunited.com
SUMMARY:Deeper Dive
DESCRIPTION:
URL:https://emmanuelunited.com/event/deeper-dive-3-2/2027-04-21/
LOCATION:Emmanuel UC\, 420 Balmoral Drive\, Brampton\, Ontario\, Canada
CATEGORIES:Discipleship
ATTACH;FMTTYPE=image/jpeg:https://emmanuelunited.com/wp-content/uploads/2024/04/book-wisdom-mohamed-mahmoud-hassan-CC0-e1746560078172.jpg
END:VEVENT
BEGIN:VEVENT
DTSTART;TZID=America/Toronto:20270428T133000
DTEND;TZID=America/Toronto:20270428T143000
DTSTAMP:20260423T181629
CREATED:20250910T145921Z
LAST-MODIFIED:20260304T160851Z
UID:10001082-1808919000-1808922600@emmanuelunited.com
SUMMARY:Deeper Dive
DESCRIPTION:
URL:https://emmanuelunited.com/event/deeper-dive-3-2/2027-04-28/
LOCATION:Emmanuel UC\, 420 Balmoral Drive\, Brampton\, Ontario\, Canada
CATEGORIES:Discipleship
ATTACH;FMTTYPE=image/jpeg:https://emmanuelunited.com/wp-content/uploads/2024/04/book-wisdom-mohamed-mahmoud-hassan-CC0-e1746560078172.jpg
END:VEVENT
BEGIN:VEVENT
DTSTART;TZID=America/Toronto:20270505T133000
DTEND;TZID=America/Toronto:20270505T143000
DTSTAMP:20260423T181629
CREATED:20250910T145921Z
LAST-MODIFIED:20260304T160851Z
UID:10001083-1809523800-1809527400@emmanuelunited.com
SUMMARY:Deeper Dive
DESCRIPTION:
URL:https://emmanuelunited.com/event/deeper-dive-3-2/2027-05-05/
LOCATION:Emmanuel UC\, 420 Balmoral Drive\, Brampton\, Ontario\, Canada
CATEGORIES:Discipleship
ATTACH;FMTTYPE=image/jpeg:https://emmanuelunited.com/wp-content/uploads/2024/04/book-wisdom-mohamed-mahmoud-hassan-CC0-e1746560078172.jpg
END:VEVENT
END:VCALENDAR