BEGIN:VCALENDAR
VERSION:2.0
PRODID:-//Emmanuel United Church, Brampton - ECPv6.15.20//NONSGML v1.0//EN
CALSCALE:GREGORIAN
METHOD:PUBLISH
X-ORIGINAL-URL:https://emmanuelunited.com
X-WR-CALDESC:Events for Emmanuel United Church, Brampton
REFRESH-INTERVAL;VALUE=DURATION:PT1H
X-Robots-Tag:noindex
X-PUBLISHED-TTL:PT1H
BEGIN:VTIMEZONE
TZID:America/Toronto
BEGIN:DAYLIGHT
TZOFFSETFROM:-0500
TZOFFSETTO:-0400
TZNAME:EDT
DTSTART:20280312T070000
END:DAYLIGHT
BEGIN:STANDARD
TZOFFSETFROM:-0400
TZOFFSETTO:-0500
TZNAME:EST
DTSTART:20281105T060000
END:STANDARD
BEGIN:DAYLIGHT
TZOFFSETFROM:-0500
TZOFFSETTO:-0400
TZNAME:EDT
DTSTART:20290311T070000
END:DAYLIGHT
BEGIN:STANDARD
TZOFFSETFROM:-0400
TZOFFSETTO:-0500
TZNAME:EST
DTSTART:20291104T060000
END:STANDARD
BEGIN:DAYLIGHT
TZOFFSETFROM:-0500
TZOFFSETTO:-0400
TZNAME:EDT
DTSTART:20300310T070000
END:DAYLIGHT
BEGIN:STANDARD
TZOFFSETFROM:-0400
TZOFFSETTO:-0500
TZNAME:EST
DTSTART:20301103T060000
END:STANDARD
BEGIN:DAYLIGHT
TZOFFSETFROM:-0500
TZOFFSETTO:-0400
TZNAME:EDT
DTSTART:20310309T070000
END:DAYLIGHT
BEGIN:STANDARD
TZOFFSETFROM:-0400
TZOFFSETTO:-0500
TZNAME:EST
DTSTART:20311102T060000
END:STANDARD
END:VTIMEZONE
BEGIN:VEVENT
DTSTART;TZID=America/Toronto:20291024T133000
DTEND;TZID=America/Toronto:20291024T143000
DTSTAMP:20260425T114022
CREATED:20250910T145921Z
LAST-MODIFIED:20260304T160851Z
UID:10002327-1887543000-1887546600@emmanuelunited.com
SUMMARY:Deeper Dive
DESCRIPTION:
URL:https://emmanuelunited.com/event/deeper-dive-3-2/2029-10-24/
LOCATION:Emmanuel UC\, 420 Balmoral Drive\, Brampton\, Ontario\, Canada
CATEGORIES:Discipleship
ATTACH;FMTTYPE=image/jpeg:https://emmanuelunited.com/wp-content/uploads/2024/04/book-wisdom-mohamed-mahmoud-hassan-CC0-e1746560078172.jpg
END:VEVENT
BEGIN:VEVENT
DTSTART;TZID=America/Toronto:20291031T133000
DTEND;TZID=America/Toronto:20291031T143000
DTSTAMP:20260425T114022
CREATED:20250910T145921Z
LAST-MODIFIED:20260304T160851Z
UID:10002328-1888147800-1888151400@emmanuelunited.com
SUMMARY:Deeper Dive
DESCRIPTION:
URL:https://emmanuelunited.com/event/deeper-dive-3-2/2029-10-31/
LOCATION:Emmanuel UC\, 420 Balmoral Drive\, Brampton\, Ontario\, Canada
CATEGORIES:Discipleship
ATTACH;FMTTYPE=image/jpeg:https://emmanuelunited.com/wp-content/uploads/2024/04/book-wisdom-mohamed-mahmoud-hassan-CC0-e1746560078172.jpg
END:VEVENT
BEGIN:VEVENT
DTSTART;TZID=America/Toronto:20291107T133000
DTEND;TZID=America/Toronto:20291107T143000
DTSTAMP:20260425T114022
CREATED:20250910T145921Z
LAST-MODIFIED:20260304T160851Z
UID:10002329-1888752600-1888756200@emmanuelunited.com
SUMMARY:Deeper Dive
DESCRIPTION:
URL:https://emmanuelunited.com/event/deeper-dive-3-2/2029-11-07/
LOCATION:Emmanuel UC\, 420 Balmoral Drive\, Brampton\, Ontario\, Canada
CATEGORIES:Discipleship
ATTACH;FMTTYPE=image/jpeg:https://emmanuelunited.com/wp-content/uploads/2024/04/book-wisdom-mohamed-mahmoud-hassan-CC0-e1746560078172.jpg
END:VEVENT
BEGIN:VEVENT
DTSTART;TZID=America/Toronto:20291114T133000
DTEND;TZID=America/Toronto:20291114T143000
DTSTAMP:20260425T114022
CREATED:20250910T145921Z
LAST-MODIFIED:20260304T160851Z
UID:10002330-1889357400-1889361000@emmanuelunited.com
SUMMARY:Deeper Dive
DESCRIPTION:
URL:https://emmanuelunited.com/event/deeper-dive-3-2/2029-11-14/
LOCATION:Emmanuel UC\, 420 Balmoral Drive\, Brampton\, Ontario\, Canada
CATEGORIES:Discipleship
ATTACH;FMTTYPE=image/jpeg:https://emmanuelunited.com/wp-content/uploads/2024/04/book-wisdom-mohamed-mahmoud-hassan-CC0-e1746560078172.jpg
END:VEVENT
BEGIN:VEVENT
DTSTART;TZID=America/Toronto:20291121T133000
DTEND;TZID=America/Toronto:20291121T143000
DTSTAMP:20260425T114022
CREATED:20250910T145921Z
LAST-MODIFIED:20260304T160851Z
UID:10002331-1889962200-1889965800@emmanuelunited.com
SUMMARY:Deeper Dive
DESCRIPTION:
URL:https://emmanuelunited.com/event/deeper-dive-3-2/2029-11-21/
LOCATION:Emmanuel UC\, 420 Balmoral Drive\, Brampton\, Ontario\, Canada
CATEGORIES:Discipleship
ATTACH;FMTTYPE=image/jpeg:https://emmanuelunited.com/wp-content/uploads/2024/04/book-wisdom-mohamed-mahmoud-hassan-CC0-e1746560078172.jpg
END:VEVENT
BEGIN:VEVENT
DTSTART;TZID=America/Toronto:20291128T133000
DTEND;TZID=America/Toronto:20291128T143000
DTSTAMP:20260425T114022
CREATED:20250910T145921Z
LAST-MODIFIED:20260304T160851Z
UID:10002332-1890567000-1890570600@emmanuelunited.com
SUMMARY:Deeper Dive
DESCRIPTION:
URL:https://emmanuelunited.com/event/deeper-dive-3-2/2029-11-28/
LOCATION:Emmanuel UC\, 420 Balmoral Drive\, Brampton\, Ontario\, Canada
CATEGORIES:Discipleship
ATTACH;FMTTYPE=image/jpeg:https://emmanuelunited.com/wp-content/uploads/2024/04/book-wisdom-mohamed-mahmoud-hassan-CC0-e1746560078172.jpg
END:VEVENT
BEGIN:VEVENT
DTSTART;TZID=America/Toronto:20291205T133000
DTEND;TZID=America/Toronto:20291205T143000
DTSTAMP:20260425T114022
CREATED:20250910T145921Z
LAST-MODIFIED:20260304T160851Z
UID:10002333-1891171800-1891175400@emmanuelunited.com
SUMMARY:Deeper Dive
DESCRIPTION:
URL:https://emmanuelunited.com/event/deeper-dive-3-2/2029-12-05/
LOCATION:Emmanuel UC\, 420 Balmoral Drive\, Brampton\, Ontario\, Canada
CATEGORIES:Discipleship
ATTACH;FMTTYPE=image/jpeg:https://emmanuelunited.com/wp-content/uploads/2024/04/book-wisdom-mohamed-mahmoud-hassan-CC0-e1746560078172.jpg
END:VEVENT
BEGIN:VEVENT
DTSTART;TZID=America/Toronto:20291212T133000
DTEND;TZID=America/Toronto:20291212T143000
DTSTAMP:20260425T114022
CREATED:20250910T145921Z
LAST-MODIFIED:20260304T160851Z
UID:10002334-1891776600-1891780200@emmanuelunited.com
SUMMARY:Deeper Dive
DESCRIPTION:
URL:https://emmanuelunited.com/event/deeper-dive-3-2/2029-12-12/
LOCATION:Emmanuel UC\, 420 Balmoral Drive\, Brampton\, Ontario\, Canada
CATEGORIES:Discipleship
ATTACH;FMTTYPE=image/jpeg:https://emmanuelunited.com/wp-content/uploads/2024/04/book-wisdom-mohamed-mahmoud-hassan-CC0-e1746560078172.jpg
END:VEVENT
BEGIN:VEVENT
DTSTART;TZID=America/Toronto:20291219T133000
DTEND;TZID=America/Toronto:20291219T143000
DTSTAMP:20260425T114022
CREATED:20250910T145921Z
LAST-MODIFIED:20260304T160851Z
UID:10002335-1892381400-1892385000@emmanuelunited.com
SUMMARY:Deeper Dive
DESCRIPTION:
URL:https://emmanuelunited.com/event/deeper-dive-3-2/2029-12-19/
LOCATION:Emmanuel UC\, 420 Balmoral Drive\, Brampton\, Ontario\, Canada
CATEGORIES:Discipleship
ATTACH;FMTTYPE=image/jpeg:https://emmanuelunited.com/wp-content/uploads/2024/04/book-wisdom-mohamed-mahmoud-hassan-CC0-e1746560078172.jpg
END:VEVENT
BEGIN:VEVENT
DTSTART;TZID=America/Toronto:20291226T133000
DTEND;TZID=America/Toronto:20291226T143000
DTSTAMP:20260425T114022
CREATED:20250910T145921Z
LAST-MODIFIED:20260304T160851Z
UID:10002336-1892986200-1892989800@emmanuelunited.com
SUMMARY:Deeper Dive
DESCRIPTION:
URL:https://emmanuelunited.com/event/deeper-dive-3-2/2029-12-26/
LOCATION:Emmanuel UC\, 420 Balmoral Drive\, Brampton\, Ontario\, Canada
CATEGORIES:Discipleship
ATTACH;FMTTYPE=image/jpeg:https://emmanuelunited.com/wp-content/uploads/2024/04/book-wisdom-mohamed-mahmoud-hassan-CC0-e1746560078172.jpg
END:VEVENT
BEGIN:VEVENT
DTSTART;TZID=America/Toronto:20300102T133000
DTEND;TZID=America/Toronto:20300102T143000
DTSTAMP:20260425T114022
CREATED:20250910T145921Z
LAST-MODIFIED:20260304T160851Z
UID:10002337-1893591000-1893594600@emmanuelunited.com
SUMMARY:Deeper Dive
DESCRIPTION:
URL:https://emmanuelunited.com/event/deeper-dive-3-2/2030-01-02/
LOCATION:Emmanuel UC\, 420 Balmoral Drive\, Brampton\, Ontario\, Canada
CATEGORIES:Discipleship
ATTACH;FMTTYPE=image/jpeg:https://emmanuelunited.com/wp-content/uploads/2024/04/book-wisdom-mohamed-mahmoud-hassan-CC0-e1746560078172.jpg
END:VEVENT
BEGIN:VEVENT
DTSTART;TZID=America/Toronto:20300109T133000
DTEND;TZID=America/Toronto:20300109T143000
DTSTAMP:20260425T114022
CREATED:20250910T145921Z
LAST-MODIFIED:20260304T160851Z
UID:10002338-1894195800-1894199400@emmanuelunited.com
SUMMARY:Deeper Dive
DESCRIPTION:
URL:https://emmanuelunited.com/event/deeper-dive-3-2/2030-01-09/
LOCATION:Emmanuel UC\, 420 Balmoral Drive\, Brampton\, Ontario\, Canada
CATEGORIES:Discipleship
ATTACH;FMTTYPE=image/jpeg:https://emmanuelunited.com/wp-content/uploads/2024/04/book-wisdom-mohamed-mahmoud-hassan-CC0-e1746560078172.jpg
END:VEVENT
BEGIN:VEVENT
DTSTART;TZID=America/Toronto:20300116T133000
DTEND;TZID=America/Toronto:20300116T143000
DTSTAMP:20260425T114022
CREATED:20250910T145921Z
LAST-MODIFIED:20260304T160851Z
UID:10002339-1894800600-1894804200@emmanuelunited.com
SUMMARY:Deeper Dive
DESCRIPTION:
URL:https://emmanuelunited.com/event/deeper-dive-3-2/2030-01-16/
LOCATION:Emmanuel UC\, 420 Balmoral Drive\, Brampton\, Ontario\, Canada
CATEGORIES:Discipleship
ATTACH;FMTTYPE=image/jpeg:https://emmanuelunited.com/wp-content/uploads/2024/04/book-wisdom-mohamed-mahmoud-hassan-CC0-e1746560078172.jpg
END:VEVENT
BEGIN:VEVENT
DTSTART;TZID=America/Toronto:20300123T133000
DTEND;TZID=America/Toronto:20300123T143000
DTSTAMP:20260425T114022
CREATED:20250910T145921Z
LAST-MODIFIED:20260304T160851Z
UID:10002340-1895405400-1895409000@emmanuelunited.com
SUMMARY:Deeper Dive
DESCRIPTION:
URL:https://emmanuelunited.com/event/deeper-dive-3-2/2030-01-23/
LOCATION:Emmanuel UC\, 420 Balmoral Drive\, Brampton\, Ontario\, Canada
CATEGORIES:Discipleship
ATTACH;FMTTYPE=image/jpeg:https://emmanuelunited.com/wp-content/uploads/2024/04/book-wisdom-mohamed-mahmoud-hassan-CC0-e1746560078172.jpg
END:VEVENT
BEGIN:VEVENT
DTSTART;TZID=America/Toronto:20300130T133000
DTEND;TZID=America/Toronto:20300130T143000
DTSTAMP:20260425T114022
CREATED:20250910T145921Z
LAST-MODIFIED:20260304T160851Z
UID:10002341-1896010200-1896013800@emmanuelunited.com
SUMMARY:Deeper Dive
DESCRIPTION:
URL:https://emmanuelunited.com/event/deeper-dive-3-2/2030-01-30/
LOCATION:Emmanuel UC\, 420 Balmoral Drive\, Brampton\, Ontario\, Canada
CATEGORIES:Discipleship
ATTACH;FMTTYPE=image/jpeg:https://emmanuelunited.com/wp-content/uploads/2024/04/book-wisdom-mohamed-mahmoud-hassan-CC0-e1746560078172.jpg
END:VEVENT
BEGIN:VEVENT
DTSTART;TZID=America/Toronto:20300206T133000
DTEND;TZID=America/Toronto:20300206T143000
DTSTAMP:20260425T114022
CREATED:20250910T145921Z
LAST-MODIFIED:20260304T160851Z
UID:10002342-1896615000-1896618600@emmanuelunited.com
SUMMARY:Deeper Dive
DESCRIPTION:
URL:https://emmanuelunited.com/event/deeper-dive-3-2/2030-02-06/
LOCATION:Emmanuel UC\, 420 Balmoral Drive\, Brampton\, Ontario\, Canada
CATEGORIES:Discipleship
ATTACH;FMTTYPE=image/jpeg:https://emmanuelunited.com/wp-content/uploads/2024/04/book-wisdom-mohamed-mahmoud-hassan-CC0-e1746560078172.jpg
END:VEVENT
BEGIN:VEVENT
DTSTART;TZID=America/Toronto:20300213T133000
DTEND;TZID=America/Toronto:20300213T143000
DTSTAMP:20260425T114022
CREATED:20250910T145921Z
LAST-MODIFIED:20260304T160851Z
UID:10002343-1897219800-1897223400@emmanuelunited.com
SUMMARY:Deeper Dive
DESCRIPTION:
URL:https://emmanuelunited.com/event/deeper-dive-3-2/2030-02-13/
LOCATION:Emmanuel UC\, 420 Balmoral Drive\, Brampton\, Ontario\, Canada
CATEGORIES:Discipleship
ATTACH;FMTTYPE=image/jpeg:https://emmanuelunited.com/wp-content/uploads/2024/04/book-wisdom-mohamed-mahmoud-hassan-CC0-e1746560078172.jpg
END:VEVENT
BEGIN:VEVENT
DTSTART;TZID=America/Toronto:20300220T133000
DTEND;TZID=America/Toronto:20300220T143000
DTSTAMP:20260425T114022
CREATED:20250910T145921Z
LAST-MODIFIED:20260304T160851Z
UID:10002344-1897824600-1897828200@emmanuelunited.com
SUMMARY:Deeper Dive
DESCRIPTION:
URL:https://emmanuelunited.com/event/deeper-dive-3-2/2030-02-20/
LOCATION:Emmanuel UC\, 420 Balmoral Drive\, Brampton\, Ontario\, Canada
CATEGORIES:Discipleship
ATTACH;FMTTYPE=image/jpeg:https://emmanuelunited.com/wp-content/uploads/2024/04/book-wisdom-mohamed-mahmoud-hassan-CC0-e1746560078172.jpg
END:VEVENT
BEGIN:VEVENT
DTSTART;TZID=America/Toronto:20300227T133000
DTEND;TZID=America/Toronto:20300227T143000
DTSTAMP:20260425T114023
CREATED:20250910T145921Z
LAST-MODIFIED:20260304T160851Z
UID:10002345-1898429400-1898433000@emmanuelunited.com
SUMMARY:Deeper Dive
DESCRIPTION:
URL:https://emmanuelunited.com/event/deeper-dive-3-2/2030-02-27/
LOCATION:Emmanuel UC\, 420 Balmoral Drive\, Brampton\, Ontario\, Canada
CATEGORIES:Discipleship
ATTACH;FMTTYPE=image/jpeg:https://emmanuelunited.com/wp-content/uploads/2024/04/book-wisdom-mohamed-mahmoud-hassan-CC0-e1746560078172.jpg
END:VEVENT
BEGIN:VEVENT
DTSTART;TZID=America/Toronto:20300306T133000
DTEND;TZID=America/Toronto:20300306T143000
DTSTAMP:20260425T114023
CREATED:20250910T145921Z
LAST-MODIFIED:20260304T160851Z
UID:10002346-1899034200-1899037800@emmanuelunited.com
SUMMARY:Deeper Dive
DESCRIPTION:
URL:https://emmanuelunited.com/event/deeper-dive-3-2/2030-03-06/
LOCATION:Emmanuel UC\, 420 Balmoral Drive\, Brampton\, Ontario\, Canada
CATEGORIES:Discipleship
ATTACH;FMTTYPE=image/jpeg:https://emmanuelunited.com/wp-content/uploads/2024/04/book-wisdom-mohamed-mahmoud-hassan-CC0-e1746560078172.jpg
END:VEVENT
BEGIN:VEVENT
DTSTART;TZID=America/Toronto:20300313T133000
DTEND;TZID=America/Toronto:20300313T143000
DTSTAMP:20260425T114023
CREATED:20250910T145921Z
LAST-MODIFIED:20260304T160851Z
UID:10002347-1899639000-1899642600@emmanuelunited.com
SUMMARY:Deeper Dive
DESCRIPTION:
URL:https://emmanuelunited.com/event/deeper-dive-3-2/2030-03-13/
LOCATION:Emmanuel UC\, 420 Balmoral Drive\, Brampton\, Ontario\, Canada
CATEGORIES:Discipleship
ATTACH;FMTTYPE=image/jpeg:https://emmanuelunited.com/wp-content/uploads/2024/04/book-wisdom-mohamed-mahmoud-hassan-CC0-e1746560078172.jpg
END:VEVENT
BEGIN:VEVENT
DTSTART;TZID=America/Toronto:20300320T133000
DTEND;TZID=America/Toronto:20300320T143000
DTSTAMP:20260425T114023
CREATED:20250910T145921Z
LAST-MODIFIED:20260304T160851Z
UID:10002348-1900243800-1900247400@emmanuelunited.com
SUMMARY:Deeper Dive
DESCRIPTION:
URL:https://emmanuelunited.com/event/deeper-dive-3-2/2030-03-20/
LOCATION:Emmanuel UC\, 420 Balmoral Drive\, Brampton\, Ontario\, Canada
CATEGORIES:Discipleship
ATTACH;FMTTYPE=image/jpeg:https://emmanuelunited.com/wp-content/uploads/2024/04/book-wisdom-mohamed-mahmoud-hassan-CC0-e1746560078172.jpg
END:VEVENT
BEGIN:VEVENT
DTSTART;TZID=America/Toronto:20300327T133000
DTEND;TZID=America/Toronto:20300327T143000
DTSTAMP:20260425T114023
CREATED:20250910T145921Z
LAST-MODIFIED:20260304T160851Z
UID:10002349-1900848600-1900852200@emmanuelunited.com
SUMMARY:Deeper Dive
DESCRIPTION:
URL:https://emmanuelunited.com/event/deeper-dive-3-2/2030-03-27/
LOCATION:Emmanuel UC\, 420 Balmoral Drive\, Brampton\, Ontario\, Canada
CATEGORIES:Discipleship
ATTACH;FMTTYPE=image/jpeg:https://emmanuelunited.com/wp-content/uploads/2024/04/book-wisdom-mohamed-mahmoud-hassan-CC0-e1746560078172.jpg
END:VEVENT
BEGIN:VEVENT
DTSTART;TZID=America/Toronto:20300403T133000
DTEND;TZID=America/Toronto:20300403T143000
DTSTAMP:20260425T114023
CREATED:20250910T145921Z
LAST-MODIFIED:20260304T160851Z
UID:10002350-1901453400-1901457000@emmanuelunited.com
SUMMARY:Deeper Dive
DESCRIPTION:
URL:https://emmanuelunited.com/event/deeper-dive-3-2/2030-04-03/
LOCATION:Emmanuel UC\, 420 Balmoral Drive\, Brampton\, Ontario\, Canada
CATEGORIES:Discipleship
ATTACH;FMTTYPE=image/jpeg:https://emmanuelunited.com/wp-content/uploads/2024/04/book-wisdom-mohamed-mahmoud-hassan-CC0-e1746560078172.jpg
END:VEVENT
BEGIN:VEVENT
DTSTART;TZID=America/Toronto:20300410T133000
DTEND;TZID=America/Toronto:20300410T143000
DTSTAMP:20260425T114023
CREATED:20250910T145921Z
LAST-MODIFIED:20260304T160851Z
UID:10002351-1902058200-1902061800@emmanuelunited.com
SUMMARY:Deeper Dive
DESCRIPTION:
URL:https://emmanuelunited.com/event/deeper-dive-3-2/2030-04-10/
LOCATION:Emmanuel UC\, 420 Balmoral Drive\, Brampton\, Ontario\, Canada
CATEGORIES:Discipleship
ATTACH;FMTTYPE=image/jpeg:https://emmanuelunited.com/wp-content/uploads/2024/04/book-wisdom-mohamed-mahmoud-hassan-CC0-e1746560078172.jpg
END:VEVENT
BEGIN:VEVENT
DTSTART;TZID=America/Toronto:20300417T133000
DTEND;TZID=America/Toronto:20300417T143000
DTSTAMP:20260425T114023
CREATED:20250910T145921Z
LAST-MODIFIED:20260304T160851Z
UID:10002352-1902663000-1902666600@emmanuelunited.com
SUMMARY:Deeper Dive
DESCRIPTION:
URL:https://emmanuelunited.com/event/deeper-dive-3-2/2030-04-17/
LOCATION:Emmanuel UC\, 420 Balmoral Drive\, Brampton\, Ontario\, Canada
CATEGORIES:Discipleship
ATTACH;FMTTYPE=image/jpeg:https://emmanuelunited.com/wp-content/uploads/2024/04/book-wisdom-mohamed-mahmoud-hassan-CC0-e1746560078172.jpg
END:VEVENT
BEGIN:VEVENT
DTSTART;TZID=America/Toronto:20300424T133000
DTEND;TZID=America/Toronto:20300424T143000
DTSTAMP:20260425T114023
CREATED:20250910T145921Z
LAST-MODIFIED:20260304T160851Z
UID:10002353-1903267800-1903271400@emmanuelunited.com
SUMMARY:Deeper Dive
DESCRIPTION:
URL:https://emmanuelunited.com/event/deeper-dive-3-2/2030-04-24/
LOCATION:Emmanuel UC\, 420 Balmoral Drive\, Brampton\, Ontario\, Canada
CATEGORIES:Discipleship
ATTACH;FMTTYPE=image/jpeg:https://emmanuelunited.com/wp-content/uploads/2024/04/book-wisdom-mohamed-mahmoud-hassan-CC0-e1746560078172.jpg
END:VEVENT
BEGIN:VEVENT
DTSTART;TZID=America/Toronto:20300501T133000
DTEND;TZID=America/Toronto:20300501T143000
DTSTAMP:20260425T114023
CREATED:20250910T145921Z
LAST-MODIFIED:20260304T160851Z
UID:10002354-1903872600-1903876200@emmanuelunited.com
SUMMARY:Deeper Dive
DESCRIPTION:
URL:https://emmanuelunited.com/event/deeper-dive-3-2/2030-05-01/
LOCATION:Emmanuel UC\, 420 Balmoral Drive\, Brampton\, Ontario\, Canada
CATEGORIES:Discipleship
ATTACH;FMTTYPE=image/jpeg:https://emmanuelunited.com/wp-content/uploads/2024/04/book-wisdom-mohamed-mahmoud-hassan-CC0-e1746560078172.jpg
END:VEVENT
BEGIN:VEVENT
DTSTART;TZID=America/Toronto:20300508T133000
DTEND;TZID=America/Toronto:20300508T143000
DTSTAMP:20260425T114023
CREATED:20250910T145921Z
LAST-MODIFIED:20260304T160851Z
UID:10002367-1904477400-1904481000@emmanuelunited.com
SUMMARY:Deeper Dive
DESCRIPTION:
URL:https://emmanuelunited.com/event/deeper-dive-3-2/2030-05-08/
LOCATION:Emmanuel UC\, 420 Balmoral Drive\, Brampton\, Ontario\, Canada
CATEGORIES:Discipleship
ATTACH;FMTTYPE=image/jpeg:https://emmanuelunited.com/wp-content/uploads/2024/04/book-wisdom-mohamed-mahmoud-hassan-CC0-e1746560078172.jpg
END:VEVENT
BEGIN:VEVENT
DTSTART;TZID=America/Toronto:20300515T133000
DTEND;TZID=America/Toronto:20300515T143000
DTSTAMP:20260425T114023
CREATED:20250910T145921Z
LAST-MODIFIED:20260304T160851Z
UID:10002368-1905082200-1905085800@emmanuelunited.com
SUMMARY:Deeper Dive
DESCRIPTION:
URL:https://emmanuelunited.com/event/deeper-dive-3-2/2030-05-15/
LOCATION:Emmanuel UC\, 420 Balmoral Drive\, Brampton\, Ontario\, Canada
CATEGORIES:Discipleship
ATTACH;FMTTYPE=image/jpeg:https://emmanuelunited.com/wp-content/uploads/2024/04/book-wisdom-mohamed-mahmoud-hassan-CC0-e1746560078172.jpg
END:VEVENT
END:VCALENDAR