BEGIN:VCALENDAR
VERSION:2.0
PRODID:-//Emmanuel United Church, Brampton - ECPv6.15.20//NONSGML v1.0//EN
CALSCALE:GREGORIAN
METHOD:PUBLISH
X-WR-CALNAME:Emmanuel United Church, Brampton
X-ORIGINAL-URL:https://emmanuelunited.com
X-WR-CALDESC:Events for Emmanuel United Church, Brampton
REFRESH-INTERVAL;VALUE=DURATION:PT1H
X-Robots-Tag:noindex
X-PUBLISHED-TTL:PT1H
BEGIN:VTIMEZONE
TZID:America/Toronto
BEGIN:DAYLIGHT
TZOFFSETFROM:-0500
TZOFFSETTO:-0400
TZNAME:EDT
DTSTART:20290311T070000
END:DAYLIGHT
BEGIN:STANDARD
TZOFFSETFROM:-0400
TZOFFSETTO:-0500
TZNAME:EST
DTSTART:20291104T060000
END:STANDARD
BEGIN:DAYLIGHT
TZOFFSETFROM:-0500
TZOFFSETTO:-0400
TZNAME:EDT
DTSTART:20300310T070000
END:DAYLIGHT
BEGIN:STANDARD
TZOFFSETFROM:-0400
TZOFFSETTO:-0500
TZNAME:EST
DTSTART:20301103T060000
END:STANDARD
BEGIN:DAYLIGHT
TZOFFSETFROM:-0500
TZOFFSETTO:-0400
TZNAME:EDT
DTSTART:20310309T070000
END:DAYLIGHT
BEGIN:STANDARD
TZOFFSETFROM:-0400
TZOFFSETTO:-0500
TZNAME:EST
DTSTART:20311102T060000
END:STANDARD
BEGIN:DAYLIGHT
TZOFFSETFROM:-0500
TZOFFSETTO:-0400
TZNAME:EDT
DTSTART:20320314T070000
END:DAYLIGHT
BEGIN:STANDARD
TZOFFSETFROM:-0400
TZOFFSETTO:-0500
TZNAME:EST
DTSTART:20321107T060000
END:STANDARD
END:VTIMEZONE
BEGIN:VEVENT
DTSTART;TZID=America/Toronto:20300810T090000
DTEND;TZID=America/Toronto:20300810T110000
DTSTAMP:20260425T122441
CREATED:20260310T133113Z
LAST-MODIFIED:20260310T133147Z
UID:10002612-1912582800-1912590000@emmanuelunited.com
SUMMARY:Men's Club
DESCRIPTION:
URL:https://emmanuelunited.com/event/mens-club/2030-08-10/
LOCATION:Emmanuel UC\, 420 Balmoral Drive\, Brampton\, Ontario\, Canada
CATEGORIES:Community,Fellowship
END:VEVENT
BEGIN:VEVENT
DTSTART;TZID=America/Toronto:20300817T083000
DTEND;TZID=America/Toronto:20300817T163000
DTSTAMP:20260425T122441
CREATED:20260311T143530Z
LAST-MODIFIED:20260311T194620Z
UID:10002709-1913185800-1913214600@emmanuelunited.com
SUMMARY:Scrapbooking
DESCRIPTION:
URL:https://emmanuelunited.com/event/scrapbooking/2030-08-17/
LOCATION:Emmanuel UC\, 420 Balmoral Drive\, Brampton\, Ontario\, Canada
CATEGORIES:Community,Fellowship
END:VEVENT
BEGIN:VEVENT
DTSTART;TZID=America/Toronto:20300818T120000
DTEND;TZID=America/Toronto:20300818T133000
DTSTAMP:20260425T122441
CREATED:20250910T151150Z
LAST-MODIFIED:20260402T192031Z
UID:10002444-1913284800-1913290200@emmanuelunited.com
SUMMARY:Soup-N-Sip
DESCRIPTION:We are introducing Soup-N-Sip\, a monthly social event to meet for hot soup and warm conversation.  \nWe will meet once a month. Everyone is invited\, bring any friends interested! \nWe hope to make this a social – success\, please invite anyone interested!
URL:https://emmanuelunited.com/event/soup-n-sip/2030-08-18/
LOCATION:Emmanuel UC\, 420 Balmoral Drive\, Brampton\, Ontario\, Canada
CATEGORIES:Community,Fellowship
ATTACH;FMTTYPE=image/jpeg:https://emmanuelunited.com/wp-content/uploads/2025/09/image-1621072803o8c-1-e1757517195618.jpg
END:VEVENT
BEGIN:VEVENT
DTSTART;TZID=America/Toronto:20300914T090000
DTEND;TZID=America/Toronto:20300914T110000
DTSTAMP:20260425T122441
CREATED:20260310T133113Z
LAST-MODIFIED:20260310T133147Z
UID:10002613-1915606800-1915614000@emmanuelunited.com
SUMMARY:Men's Club
DESCRIPTION:
URL:https://emmanuelunited.com/event/mens-club/2030-09-14/
LOCATION:Emmanuel UC\, 420 Balmoral Drive\, Brampton\, Ontario\, Canada
CATEGORIES:Community,Fellowship
END:VEVENT
BEGIN:VEVENT
DTSTART;TZID=America/Toronto:20300915T120000
DTEND;TZID=America/Toronto:20300915T133000
DTSTAMP:20260425T122441
CREATED:20250910T151150Z
LAST-MODIFIED:20260402T192031Z
UID:10002826-1915704000-1915709400@emmanuelunited.com
SUMMARY:Soup-N-Sip
DESCRIPTION:We are introducing Soup-N-Sip\, a monthly social event to meet for hot soup and warm conversation.  \nWe will meet once a month. Everyone is invited\, bring any friends interested! \nWe hope to make this a social – success\, please invite anyone interested!
URL:https://emmanuelunited.com/event/soup-n-sip/2030-09-15/
LOCATION:Emmanuel UC\, 420 Balmoral Drive\, Brampton\, Ontario\, Canada
CATEGORIES:Community,Fellowship
ATTACH;FMTTYPE=image/jpeg:https://emmanuelunited.com/wp-content/uploads/2025/09/image-1621072803o8c-1-e1757517195618.jpg
END:VEVENT
BEGIN:VEVENT
DTSTART;TZID=America/Toronto:20300921T083000
DTEND;TZID=America/Toronto:20300921T163000
DTSTAMP:20260425T122441
CREATED:20260311T143530Z
LAST-MODIFIED:20260311T194620Z
UID:10002710-1916209800-1916238600@emmanuelunited.com
SUMMARY:Scrapbooking
DESCRIPTION:
URL:https://emmanuelunited.com/event/scrapbooking/2030-09-21/
LOCATION:Emmanuel UC\, 420 Balmoral Drive\, Brampton\, Ontario\, Canada
CATEGORIES:Community,Fellowship
END:VEVENT
BEGIN:VEVENT
DTSTART;TZID=America/Toronto:20301012T090000
DTEND;TZID=America/Toronto:20301012T110000
DTSTAMP:20260425T122441
CREATED:20260310T133113Z
LAST-MODIFIED:20260310T133147Z
UID:10002614-1918026000-1918033200@emmanuelunited.com
SUMMARY:Men's Club
DESCRIPTION:
URL:https://emmanuelunited.com/event/mens-club/2030-10-12/
LOCATION:Emmanuel UC\, 420 Balmoral Drive\, Brampton\, Ontario\, Canada
CATEGORIES:Community,Fellowship
END:VEVENT
BEGIN:VEVENT
DTSTART;TZID=America/Toronto:20301019T083000
DTEND;TZID=America/Toronto:20301019T163000
DTSTAMP:20260425T122441
CREATED:20260311T143530Z
LAST-MODIFIED:20260311T194620Z
UID:10002711-1918629000-1918657800@emmanuelunited.com
SUMMARY:Scrapbooking
DESCRIPTION:
URL:https://emmanuelunited.com/event/scrapbooking/2030-10-19/
LOCATION:Emmanuel UC\, 420 Balmoral Drive\, Brampton\, Ontario\, Canada
CATEGORIES:Community,Fellowship
END:VEVENT
BEGIN:VEVENT
DTSTART;TZID=America/Toronto:20301020T120000
DTEND;TZID=America/Toronto:20301020T133000
DTSTAMP:20260425T122441
CREATED:20250910T151150Z
LAST-MODIFIED:20260402T192031Z
UID:10002827-1918728000-1918733400@emmanuelunited.com
SUMMARY:Soup-N-Sip
DESCRIPTION:We are introducing Soup-N-Sip\, a monthly social event to meet for hot soup and warm conversation.  \nWe will meet once a month. Everyone is invited\, bring any friends interested! \nWe hope to make this a social – success\, please invite anyone interested!
URL:https://emmanuelunited.com/event/soup-n-sip/2030-10-20/
LOCATION:Emmanuel UC\, 420 Balmoral Drive\, Brampton\, Ontario\, Canada
CATEGORIES:Community,Fellowship
ATTACH;FMTTYPE=image/jpeg:https://emmanuelunited.com/wp-content/uploads/2025/09/image-1621072803o8c-1-e1757517195618.jpg
END:VEVENT
BEGIN:VEVENT
DTSTART;TZID=America/Toronto:20301109T090000
DTEND;TZID=America/Toronto:20301109T110000
DTSTAMP:20260425T122441
CREATED:20260310T133113Z
LAST-MODIFIED:20260310T133147Z
UID:10002615-1920445200-1920452400@emmanuelunited.com
SUMMARY:Men's Club
DESCRIPTION:
URL:https://emmanuelunited.com/event/mens-club/2030-11-09/
LOCATION:Emmanuel UC\, 420 Balmoral Drive\, Brampton\, Ontario\, Canada
CATEGORIES:Community,Fellowship
END:VEVENT
BEGIN:VEVENT
DTSTART;TZID=America/Toronto:20301116T083000
DTEND;TZID=America/Toronto:20301116T163000
DTSTAMP:20260425T122441
CREATED:20260311T143530Z
LAST-MODIFIED:20260311T194620Z
UID:10002712-1921048200-1921077000@emmanuelunited.com
SUMMARY:Scrapbooking
DESCRIPTION:
URL:https://emmanuelunited.com/event/scrapbooking/2030-11-16/
LOCATION:Emmanuel UC\, 420 Balmoral Drive\, Brampton\, Ontario\, Canada
CATEGORIES:Community,Fellowship
END:VEVENT
BEGIN:VEVENT
DTSTART;TZID=America/Toronto:20301117T120000
DTEND;TZID=America/Toronto:20301117T133000
DTSTAMP:20260425T122441
CREATED:20250910T151150Z
LAST-MODIFIED:20260402T192031Z
UID:10002828-1921147200-1921152600@emmanuelunited.com
SUMMARY:Soup-N-Sip
DESCRIPTION:We are introducing Soup-N-Sip\, a monthly social event to meet for hot soup and warm conversation.  \nWe will meet once a month. Everyone is invited\, bring any friends interested! \nWe hope to make this a social – success\, please invite anyone interested!
URL:https://emmanuelunited.com/event/soup-n-sip/2030-11-17/
LOCATION:Emmanuel UC\, 420 Balmoral Drive\, Brampton\, Ontario\, Canada
CATEGORIES:Community,Fellowship
ATTACH;FMTTYPE=image/jpeg:https://emmanuelunited.com/wp-content/uploads/2025/09/image-1621072803o8c-1-e1757517195618.jpg
END:VEVENT
BEGIN:VEVENT
DTSTART;TZID=America/Toronto:20301214T090000
DTEND;TZID=America/Toronto:20301214T110000
DTSTAMP:20260425T122441
CREATED:20260310T133113Z
LAST-MODIFIED:20260310T133147Z
UID:10002616-1923469200-1923476400@emmanuelunited.com
SUMMARY:Men's Club
DESCRIPTION:
URL:https://emmanuelunited.com/event/mens-club/2030-12-14/
LOCATION:Emmanuel UC\, 420 Balmoral Drive\, Brampton\, Ontario\, Canada
CATEGORIES:Community,Fellowship
END:VEVENT
BEGIN:VEVENT
DTSTART;TZID=America/Toronto:20301215T120000
DTEND;TZID=America/Toronto:20301215T133000
DTSTAMP:20260425T122441
CREATED:20250910T151150Z
LAST-MODIFIED:20260402T192031Z
UID:10002829-1923566400-1923571800@emmanuelunited.com
SUMMARY:Soup-N-Sip
DESCRIPTION:We are introducing Soup-N-Sip\, a monthly social event to meet for hot soup and warm conversation.  \nWe will meet once a month. Everyone is invited\, bring any friends interested! \nWe hope to make this a social – success\, please invite anyone interested!
URL:https://emmanuelunited.com/event/soup-n-sip/2030-12-15/
LOCATION:Emmanuel UC\, 420 Balmoral Drive\, Brampton\, Ontario\, Canada
CATEGORIES:Community,Fellowship
ATTACH;FMTTYPE=image/jpeg:https://emmanuelunited.com/wp-content/uploads/2025/09/image-1621072803o8c-1-e1757517195618.jpg
END:VEVENT
BEGIN:VEVENT
DTSTART;TZID=America/Toronto:20301221T083000
DTEND;TZID=America/Toronto:20301221T163000
DTSTAMP:20260425T122441
CREATED:20260311T143530Z
LAST-MODIFIED:20260311T194620Z
UID:10002713-1924072200-1924101000@emmanuelunited.com
SUMMARY:Scrapbooking
DESCRIPTION:
URL:https://emmanuelunited.com/event/scrapbooking/2030-12-21/
LOCATION:Emmanuel UC\, 420 Balmoral Drive\, Brampton\, Ontario\, Canada
CATEGORIES:Community,Fellowship
END:VEVENT
BEGIN:VEVENT
DTSTART;TZID=America/Toronto:20310111T090000
DTEND;TZID=America/Toronto:20310111T110000
DTSTAMP:20260425T122441
CREATED:20260310T133113Z
LAST-MODIFIED:20260310T133147Z
UID:10002617-1925888400-1925895600@emmanuelunited.com
SUMMARY:Men's Club
DESCRIPTION:
URL:https://emmanuelunited.com/event/mens-club/2031-01-11/
LOCATION:Emmanuel UC\, 420 Balmoral Drive\, Brampton\, Ontario\, Canada
CATEGORIES:Community,Fellowship
END:VEVENT
BEGIN:VEVENT
DTSTART;TZID=America/Toronto:20310118T083000
DTEND;TZID=America/Toronto:20310118T163000
DTSTAMP:20260425T122441
CREATED:20260311T143530Z
LAST-MODIFIED:20260311T194620Z
UID:10002714-1926491400-1926520200@emmanuelunited.com
SUMMARY:Scrapbooking
DESCRIPTION:
URL:https://emmanuelunited.com/event/scrapbooking/2031-01-18/
LOCATION:Emmanuel UC\, 420 Balmoral Drive\, Brampton\, Ontario\, Canada
CATEGORIES:Community,Fellowship
END:VEVENT
BEGIN:VEVENT
DTSTART;TZID=America/Toronto:20310119T120000
DTEND;TZID=America/Toronto:20310119T133000
DTSTAMP:20260425T122441
CREATED:20250910T151150Z
LAST-MODIFIED:20260402T192031Z
UID:10002830-1926590400-1926595800@emmanuelunited.com
SUMMARY:Soup-N-Sip
DESCRIPTION:We are introducing Soup-N-Sip\, a monthly social event to meet for hot soup and warm conversation.  \nWe will meet once a month. Everyone is invited\, bring any friends interested! \nWe hope to make this a social – success\, please invite anyone interested!
URL:https://emmanuelunited.com/event/soup-n-sip/2031-01-19/
LOCATION:Emmanuel UC\, 420 Balmoral Drive\, Brampton\, Ontario\, Canada
CATEGORIES:Community,Fellowship
ATTACH;FMTTYPE=image/jpeg:https://emmanuelunited.com/wp-content/uploads/2025/09/image-1621072803o8c-1-e1757517195618.jpg
END:VEVENT
BEGIN:VEVENT
DTSTART;TZID=America/Toronto:20310208T090000
DTEND;TZID=America/Toronto:20310208T110000
DTSTAMP:20260425T122441
CREATED:20260310T133113Z
LAST-MODIFIED:20260310T133147Z
UID:10002618-1928307600-1928314800@emmanuelunited.com
SUMMARY:Men's Club
DESCRIPTION:
URL:https://emmanuelunited.com/event/mens-club/2031-02-08/
LOCATION:Emmanuel UC\, 420 Balmoral Drive\, Brampton\, Ontario\, Canada
CATEGORIES:Community,Fellowship
END:VEVENT
BEGIN:VEVENT
DTSTART;TZID=America/Toronto:20310215T083000
DTEND;TZID=America/Toronto:20310215T163000
DTSTAMP:20260425T122441
CREATED:20260311T143530Z
LAST-MODIFIED:20260311T194620Z
UID:10002715-1928910600-1928939400@emmanuelunited.com
SUMMARY:Scrapbooking
DESCRIPTION:
URL:https://emmanuelunited.com/event/scrapbooking/2031-02-15/
LOCATION:Emmanuel UC\, 420 Balmoral Drive\, Brampton\, Ontario\, Canada
CATEGORIES:Community,Fellowship
END:VEVENT
BEGIN:VEVENT
DTSTART;TZID=America/Toronto:20310216T120000
DTEND;TZID=America/Toronto:20310216T133000
DTSTAMP:20260425T122441
CREATED:20250910T151150Z
LAST-MODIFIED:20260402T192031Z
UID:10002831-1929009600-1929015000@emmanuelunited.com
SUMMARY:Soup-N-Sip
DESCRIPTION:We are introducing Soup-N-Sip\, a monthly social event to meet for hot soup and warm conversation.  \nWe will meet once a month. Everyone is invited\, bring any friends interested! \nWe hope to make this a social – success\, please invite anyone interested!
URL:https://emmanuelunited.com/event/soup-n-sip/2031-02-16/
LOCATION:Emmanuel UC\, 420 Balmoral Drive\, Brampton\, Ontario\, Canada
CATEGORIES:Community,Fellowship
ATTACH;FMTTYPE=image/jpeg:https://emmanuelunited.com/wp-content/uploads/2025/09/image-1621072803o8c-1-e1757517195618.jpg
END:VEVENT
BEGIN:VEVENT
DTSTART;TZID=America/Toronto:20310308T090000
DTEND;TZID=America/Toronto:20310308T110000
DTSTAMP:20260425T122441
CREATED:20260310T133113Z
LAST-MODIFIED:20260310T133147Z
UID:10002619-1930726800-1930734000@emmanuelunited.com
SUMMARY:Men's Club
DESCRIPTION:
URL:https://emmanuelunited.com/event/mens-club/2031-03-08/
LOCATION:Emmanuel UC\, 420 Balmoral Drive\, Brampton\, Ontario\, Canada
CATEGORIES:Community,Fellowship
END:VEVENT
BEGIN:VEVENT
DTSTART;TZID=America/Toronto:20310316T120000
DTEND;TZID=America/Toronto:20310316T133000
DTSTAMP:20260425T122441
CREATED:20250910T151150Z
LAST-MODIFIED:20260402T192031Z
UID:10002832-1931428800-1931434200@emmanuelunited.com
SUMMARY:Soup-N-Sip
DESCRIPTION:We are introducing Soup-N-Sip\, a monthly social event to meet for hot soup and warm conversation.  \nWe will meet once a month. Everyone is invited\, bring any friends interested! \nWe hope to make this a social – success\, please invite anyone interested!
URL:https://emmanuelunited.com/event/soup-n-sip/2031-03-16/
LOCATION:Emmanuel UC\, 420 Balmoral Drive\, Brampton\, Ontario\, Canada
CATEGORIES:Community,Fellowship
ATTACH;FMTTYPE=image/jpeg:https://emmanuelunited.com/wp-content/uploads/2025/09/image-1621072803o8c-1-e1757517195618.jpg
END:VEVENT
END:VCALENDAR