BEGIN:VCALENDAR
VERSION:2.0
PRODID:-//Emmanuel United Church, Brampton - ECPv6.15.20//NONSGML v1.0//EN
CALSCALE:GREGORIAN
METHOD:PUBLISH
X-WR-CALNAME:Emmanuel United Church, Brampton
X-ORIGINAL-URL:https://emmanuelunited.com
X-WR-CALDESC:Events for Emmanuel United Church, Brampton
REFRESH-INTERVAL;VALUE=DURATION:PT1H
X-Robots-Tag:noindex
X-PUBLISHED-TTL:PT1H
BEGIN:VTIMEZONE
TZID:America/Toronto
BEGIN:DAYLIGHT
TZOFFSETFROM:-0500
TZOFFSETTO:-0400
TZNAME:EDT
DTSTART:20240310T070000
END:DAYLIGHT
BEGIN:STANDARD
TZOFFSETFROM:-0400
TZOFFSETTO:-0500
TZNAME:EST
DTSTART:20241103T060000
END:STANDARD
BEGIN:DAYLIGHT
TZOFFSETFROM:-0500
TZOFFSETTO:-0400
TZNAME:EDT
DTSTART:20250309T070000
END:DAYLIGHT
BEGIN:STANDARD
TZOFFSETFROM:-0400
TZOFFSETTO:-0500
TZNAME:EST
DTSTART:20251102T060000
END:STANDARD
BEGIN:DAYLIGHT
TZOFFSETFROM:-0500
TZOFFSETTO:-0400
TZNAME:EDT
DTSTART:20260308T070000
END:DAYLIGHT
BEGIN:STANDARD
TZOFFSETFROM:-0400
TZOFFSETTO:-0500
TZNAME:EST
DTSTART:20261101T060000
END:STANDARD
END:VTIMEZONE
BEGIN:VEVENT
DTSTART;TZID=America/Toronto:20250422T183000
DTEND;TZID=America/Toronto:20250422T193000
DTSTAMP:20260424T085651
CREATED:20250327T160629Z
LAST-MODIFIED:20250327T160629Z
UID:10001795-1745346600-1745350200@emmanuelunited.com
SUMMARY:Earth Day Outdoor Clean-Up
DESCRIPTION:Earth Day Outdoor Clean-up\nPlease join us to celebrate Earth Day and help tidy up our outside grounds on Tuesday April 22nd 6:30-7:30pm:  weather permitting.  \nBring a rake\, gloves etc. in order to pick up any debris.\nGarbage bags will be provided!
URL:https://emmanuelunited.com/event/earth-day-outdoor-clean-up/
LOCATION:Emmanuel UC\, 420 Balmoral Drive\, Brampton\, Ontario\, Canada
ATTACH;FMTTYPE=image/png:https://emmanuelunited.com/wp-content/uploads/2025/03/Screenshot-2025-03-27-112436.png
END:VEVENT
END:VCALENDAR