BEGIN:VCALENDAR
VERSION:2.0
PRODID:-//Emmanuel United Church, Brampton - ECPv6.15.20//NONSGML v1.0//EN
CALSCALE:GREGORIAN
METHOD:PUBLISH
X-WR-CALNAME:Emmanuel United Church, Brampton
X-ORIGINAL-URL:https://emmanuelunited.com
X-WR-CALDESC:Events for Emmanuel United Church, Brampton
REFRESH-INTERVAL;VALUE=DURATION:PT1H
X-Robots-Tag:noindex
X-PUBLISHED-TTL:PT1H
BEGIN:VTIMEZONE
TZID:America/Toronto
BEGIN:DAYLIGHT
TZOFFSETFROM:-0500
TZOFFSETTO:-0400
TZNAME:EDT
DTSTART:20240310T070000
END:DAYLIGHT
BEGIN:STANDARD
TZOFFSETFROM:-0400
TZOFFSETTO:-0500
TZNAME:EST
DTSTART:20241103T060000
END:STANDARD
BEGIN:DAYLIGHT
TZOFFSETFROM:-0500
TZOFFSETTO:-0400
TZNAME:EDT
DTSTART:20250309T070000
END:DAYLIGHT
BEGIN:STANDARD
TZOFFSETFROM:-0400
TZOFFSETTO:-0500
TZNAME:EST
DTSTART:20251102T060000
END:STANDARD
BEGIN:DAYLIGHT
TZOFFSETFROM:-0500
TZOFFSETTO:-0400
TZNAME:EDT
DTSTART:20260308T070000
END:DAYLIGHT
BEGIN:STANDARD
TZOFFSETFROM:-0400
TZOFFSETTO:-0500
TZNAME:EST
DTSTART:20261101T060000
END:STANDARD
END:VTIMEZONE
BEGIN:VEVENT
DTSTART;TZID=America/Toronto:20250413T190000
DTEND;TZID=America/Toronto:20250413T210000
DTSTAMP:20260424T085651
CREATED:20250403T174711Z
LAST-MODIFIED:20250403T174711Z
UID:10001796-1744570800-1744578000@emmanuelunited.com
SUMMARY:"The Body of Christ"
DESCRIPTION:Easter Cantata\nThe combined choirs of Grace United Church and Emmanuel United Church will be performing Pepper Choplin’s “The Body of Christ”\,\na cantata telling of the final days of Jesus’ life\, focusing on the meaning of His words and actions leading to the cross. \nJoin us in-person at 7:00 PM\, and stay for refreshments afterwards
URL:https://emmanuelunited.com/event/the-body-of-christ/
LOCATION:Emmanuel UC\, 420 Balmoral Drive\, Brampton\, Ontario\, Canada
ATTACH;FMTTYPE=image/png:https://emmanuelunited.com/wp-content/uploads/2025/04/Screenshot-2025-04-03-115234.png
END:VEVENT
END:VCALENDAR