BEGIN:VCALENDAR
VERSION:2.0
PRODID:-//Emmanuel United Church, Brampton - ECPv6.15.20//NONSGML v1.0//EN
CALSCALE:GREGORIAN
METHOD:PUBLISH
X-WR-CALNAME:Emmanuel United Church, Brampton
X-ORIGINAL-URL:https://emmanuelunited.com
X-WR-CALDESC:Events for Emmanuel United Church, Brampton
REFRESH-INTERVAL;VALUE=DURATION:PT1H
X-Robots-Tag:noindex
X-PUBLISHED-TTL:PT1H
BEGIN:VTIMEZONE
TZID:America/Toronto
BEGIN:DAYLIGHT
TZOFFSETFROM:-0500
TZOFFSETTO:-0400
TZNAME:EDT
DTSTART:20230312T070000
END:DAYLIGHT
BEGIN:STANDARD
TZOFFSETFROM:-0400
TZOFFSETTO:-0500
TZNAME:EST
DTSTART:20231105T060000
END:STANDARD
BEGIN:DAYLIGHT
TZOFFSETFROM:-0500
TZOFFSETTO:-0400
TZNAME:EDT
DTSTART:20240310T070000
END:DAYLIGHT
BEGIN:STANDARD
TZOFFSETFROM:-0400
TZOFFSETTO:-0500
TZNAME:EST
DTSTART:20241103T060000
END:STANDARD
BEGIN:DAYLIGHT
TZOFFSETFROM:-0500
TZOFFSETTO:-0400
TZNAME:EDT
DTSTART:20250309T070000
END:DAYLIGHT
BEGIN:STANDARD
TZOFFSETFROM:-0400
TZOFFSETTO:-0500
TZNAME:EST
DTSTART:20251102T060000
END:STANDARD
END:VTIMEZONE
BEGIN:VEVENT
DTSTART;TZID=America/Toronto:20241116T083000
DTEND;TZID=America/Toronto:20241116T163000
DTSTAMP:20260424T212000
CREATED:20240813T180126Z
LAST-MODIFIED:20240813T180130Z
UID:10000943-1731745800-1731774600@emmanuelunited.com
SUMMARY:Crazy\, Cozy\, Crafters
DESCRIPTION:  \n \nWe are going to be hosting one Saturday a month to get together and scrapbook with your friends at\nEmmanuel United Church\, 420 Balmoral Drive in Brampton. \nSeptember is a Drive-in theme\, bring along your records to jam to! \nThis will take place on August 10th – 8:30am – 4:00pm\nTime: 8:30 AM to 4:30PM \nCoffee\, Tea\, Pop\, and Water\, and treats will be provided!\n$30 – Pulled Pork Sandwiches’\n$25 – Bring your own lunch  \nTo RSVP or for more information:\nCrazycozycrafters@gmail.com \n** Please RSVP \n  \n 
URL:https://emmanuelunited.com/event/scrapbooking-saturdays-2-2/2024-11-16/
LOCATION:Emmanuel UC\, 420 Balmoral Drive\, Brampton\, Ontario\, Canada
CATEGORIES:Fellowship
ATTACH;FMTTYPE=image/jpeg:https://emmanuelunited.com/wp-content/uploads/2024/01/arts-and-crafts-supplies.jpg
END:VEVENT
BEGIN:VEVENT
DTSTART;TZID=America/Toronto:20241116T083000
DTEND;TZID=America/Toronto:20241116T163000
DTSTAMP:20260424T212000
CREATED:20240813T180126Z
LAST-MODIFIED:20240813T180126Z
UID:10001416-1731745800-1731774600@emmanuelunited.com
SUMMARY:Crazy\, Cozy\, Crafters
DESCRIPTION:  \n \nWe are going to be hosting one Saturday a month to get together and scrapbook with your friends at\nEmmanuel United Church\, 420 Balmoral Drive in Brampton. \nSeptember is a Drive-in theme\, bring along your records to jam to! \nThis will take place on August 10th – 8:30am – 4:00pm\nTime: 8:30 AM to 4:30PM \nCoffee\, Tea\, Pop\, and Water\, and treats will be provided!\n$30 – Pulled Pork Sandwiches’\n$25 – Bring your own lunch  \nTo RSVP or for more information:\nCrazycozycrafters@gmail.com \n** Please RSVP \n  \n 
URL:https://emmanuelunited.com/event/scrapbooking-saturdays-2-2-3/2024-11-16/
LOCATION:Emmanuel UC\, 420 Balmoral Drive\, Brampton\, Ontario\, Canada
CATEGORIES:Fellowship
ATTACH;FMTTYPE=image/jpeg:https://emmanuelunited.com/wp-content/uploads/2024/01/arts-and-crafts-supplies.jpg
END:VEVENT
BEGIN:VEVENT
DTSTART;TZID=America/Toronto:20241116T100000
DTEND;TZID=America/Toronto:20241116T130000
DTSTAMP:20260424T212000
CREATED:20240905T170809Z
LAST-MODIFIED:20241116T133409Z
UID:10001207-1731751200-1731762000@emmanuelunited.com
SUMMARY:Christmas Bazar - TODAY!
DESCRIPTION:We will be hosting our annual Christmas Bazar on November 16th 2024\nJoin us today for: \n\nGently used children’s toys\nGames\nBooks\nPuzzles\nGently used decorations\nDishes\nHousehold items\nJewelry\nVisit our county lunch buffet for Soups\, sandwiches and baked treats!
URL:https://emmanuelunited.com/event/christmas-bazar-save-the-date/
LOCATION:Emmanuel UC\, 420 Balmoral Drive\, Brampton\, Ontario\, Canada
CATEGORIES:Fellowship
ATTACH;FMTTYPE=image/jpeg:https://emmanuelunited.com/wp-content/uploads/2024/09/christmas-shop-Vera-Kratochvil-CC0.jpg
END:VEVENT
BEGIN:VEVENT
DTSTART;TZID=America/Toronto:20241116T100000
DTEND;TZID=America/Toronto:20241116T130000
DTSTAMP:20260424T212000
CREATED:20240905T170809Z
LAST-MODIFIED:20240905T170809Z
UID:10001715-1731751200-1731762000@emmanuelunited.com
SUMMARY:Christmas Bazar - TODAY!
DESCRIPTION:We will be hosting our annual Christmas Bazar on November 16th 2024\nJoin us today for: \n\nGently used children’s toys\nGames\nBooks\nPuzzles\nGently used decorations\nDishes\nHousehold items\nJewelry\nVisit our county lunch buffet for Soups\, sandwiches and baked treats!
URL:https://emmanuelunited.com/event/christmas-bazar-save-the-date-2/
LOCATION:Emmanuel UC\, 420 Balmoral Drive\, Brampton\, Ontario\, Canada
CATEGORIES:Fellowship
ATTACH;FMTTYPE=image/jpeg:https://emmanuelunited.com/wp-content/uploads/2024/09/christmas-shop-Vera-Kratochvil-CC0.jpg
END:VEVENT
END:VCALENDAR