BEGIN:VCALENDAR
VERSION:2.0
PRODID:-//Emmanuel United Church, Brampton - ECPv6.15.20//NONSGML v1.0//EN
CALSCALE:GREGORIAN
METHOD:PUBLISH
X-ORIGINAL-URL:https://emmanuelunited.com
X-WR-CALDESC:Events for Emmanuel United Church, Brampton
REFRESH-INTERVAL;VALUE=DURATION:PT1H
X-Robots-Tag:noindex
X-PUBLISHED-TTL:PT1H
BEGIN:VTIMEZONE
TZID:America/Toronto
BEGIN:DAYLIGHT
TZOFFSETFROM:-0500
TZOFFSETTO:-0400
TZNAME:EDT
DTSTART:20230312T070000
END:DAYLIGHT
BEGIN:STANDARD
TZOFFSETFROM:-0400
TZOFFSETTO:-0500
TZNAME:EST
DTSTART:20231105T060000
END:STANDARD
BEGIN:DAYLIGHT
TZOFFSETFROM:-0500
TZOFFSETTO:-0400
TZNAME:EDT
DTSTART:20240310T070000
END:DAYLIGHT
BEGIN:STANDARD
TZOFFSETFROM:-0400
TZOFFSETTO:-0500
TZNAME:EST
DTSTART:20241103T060000
END:STANDARD
BEGIN:DAYLIGHT
TZOFFSETFROM:-0500
TZOFFSETTO:-0400
TZNAME:EDT
DTSTART:20250309T070000
END:DAYLIGHT
BEGIN:STANDARD
TZOFFSETFROM:-0400
TZOFFSETTO:-0500
TZNAME:EST
DTSTART:20251102T060000
END:STANDARD
END:VTIMEZONE
BEGIN:VEVENT
DTSTART;TZID=America/Toronto:20241026T113000
DTEND;TZID=America/Toronto:20241026T153000
DTSTAMP:20260424T231419
CREATED:20240905T142623Z
LAST-MODIFIED:20241002T135154Z
UID:10001206-1729942200-1729956600@emmanuelunited.com
SUMMARY:Bridge and Euchre
DESCRIPTION:Join us for our annual Bridge & Euchre event!\nTickets are still available:\n$20.00\n\nJoin us for our annual Bridge/Euchre Luncheon!\nGet a group together and come enjoy a day of fun and games\, over a delicious lunch! Prizes to be won! Excitement to be had! \nGuests are welcome\, and highly encouraged! All are welcome! \nTickets are $20.00 each\, as this is a fundraising event. \nFor more information please contact: 905-792-3269\nEmail: Stefanie@emmanuelunited.com \n** Sign up sheets will be at the table if you are able to help **\nWe are also looking for donations of gift cards for prizes ($5.00-$25.00)\nAny assistance is greatly appreciated!
URL:https://emmanuelunited.com/event/bridge-and-euchre/
LOCATION:Emmanuel UC\, 420 Balmoral Drive\, Brampton\, Ontario\, Canada
ATTACH;FMTTYPE=image/jpeg:https://emmanuelunited.com/wp-content/uploads/2024/09/four-aces-Marina-Shemesh-CC0.jpg
END:VEVENT
END:VCALENDAR